BEGIN:VCALENDAR
VERSION:2.0
PRODID:-//A3veen.nl - ECPv6.15.20//NONSGML v1.0//EN
CALSCALE:GREGORIAN
METHOD:PUBLISH
X-ORIGINAL-URL:https://www.a3veen.nl
X-WR-CALDESC:Evenementen voor A3veen.nl
REFRESH-INTERVAL;VALUE=DURATION:PT1H
X-Robots-Tag:noindex
X-PUBLISHED-TTL:PT1H
BEGIN:VTIMEZONE
TZID:Europe/Amsterdam
BEGIN:DAYLIGHT
TZOFFSETFROM:+0100
TZOFFSETTO:+0200
TZNAME:CEST
DTSTART:20230326T010000
END:DAYLIGHT
BEGIN:STANDARD
TZOFFSETFROM:+0200
TZOFFSETTO:+0100
TZNAME:CET
DTSTART:20231029T010000
END:STANDARD
BEGIN:DAYLIGHT
TZOFFSETFROM:+0100
TZOFFSETTO:+0200
TZNAME:CEST
DTSTART:20240331T010000
END:DAYLIGHT
BEGIN:STANDARD
TZOFFSETFROM:+0200
TZOFFSETTO:+0100
TZNAME:CET
DTSTART:20241027T010000
END:STANDARD
BEGIN:DAYLIGHT
TZOFFSETFROM:+0100
TZOFFSETTO:+0200
TZNAME:CEST
DTSTART:20250330T010000
END:DAYLIGHT
BEGIN:STANDARD
TZOFFSETFROM:+0200
TZOFFSETTO:+0100
TZNAME:CET
DTSTART:20251026T010000
END:STANDARD
END:VTIMEZONE
BEGIN:VEVENT
DTSTART;VALUE=DATE:20240910
DTEND;VALUE=DATE:20240911
DTSTAMP:20260421T184831
CREATED:20240222T123908Z
LAST-MODIFIED:20240222T124338Z
UID:103225-1725926400-1726012799@www.a3veen.nl
SUMMARY:Wereld Suïcide Preventie Dag 2024
DESCRIPTION:Op 10 september is het World Suicide Prevention Day – Wereld Suïcide Preventie Dag\, een internationale dag waarop wordt stilgestaan bij de mensen die er niet meer zijn en ook een dag waarop we aandacht geven aan manieren om te voorkomen dat mensen eenzaam en radeloos sterven door zelfdoding. \nLinks:\nDany zingt over de Stille Strijd op Wereld Suïcide Preventie Dag \nWereld Suïcide Preventie Week 2023 \nGGD bezorgd om zelfdodingen onder jongvolwassenen in Amsterdam: ‘Elke jongere die uit het leven stapt is een zorgelijk feit’
URL:https://www.a3veen.nl/event/wereld-suicide-preventie-dag-2024/
CATEGORIES:Actueel
END:VEVENT
END:VCALENDAR