BEGIN:VCALENDAR
VERSION:2.0
PRODID:-//A3veen.nl - ECPv6.15.20//NONSGML v1.0//EN
CALSCALE:GREGORIAN
METHOD:PUBLISH
X-ORIGINAL-URL:https://www.a3veen.nl
X-WR-CALDESC:Evenementen voor A3veen.nl
REFRESH-INTERVAL;VALUE=DURATION:PT1H
X-Robots-Tag:noindex
X-PUBLISHED-TTL:PT1H
BEGIN:VTIMEZONE
TZID:Europe/Amsterdam
BEGIN:DAYLIGHT
TZOFFSETFROM:+0100
TZOFFSETTO:+0200
TZNAME:CEST
DTSTART:20230326T010000
END:DAYLIGHT
BEGIN:STANDARD
TZOFFSETFROM:+0200
TZOFFSETTO:+0100
TZNAME:CET
DTSTART:20231029T010000
END:STANDARD
BEGIN:DAYLIGHT
TZOFFSETFROM:+0100
TZOFFSETTO:+0200
TZNAME:CEST
DTSTART:20240331T010000
END:DAYLIGHT
BEGIN:STANDARD
TZOFFSETFROM:+0200
TZOFFSETTO:+0100
TZNAME:CET
DTSTART:20241027T010000
END:STANDARD
BEGIN:DAYLIGHT
TZOFFSETFROM:+0100
TZOFFSETTO:+0200
TZNAME:CEST
DTSTART:20250330T010000
END:DAYLIGHT
BEGIN:STANDARD
TZOFFSETFROM:+0200
TZOFFSETTO:+0100
TZNAME:CET
DTSTART:20251026T010000
END:STANDARD
BEGIN:DAYLIGHT
TZOFFSETFROM:+0100
TZOFFSETTO:+0200
TZNAME:CEST
DTSTART:20260329T010000
END:DAYLIGHT
BEGIN:STANDARD
TZOFFSETFROM:+0200
TZOFFSETTO:+0100
TZNAME:CET
DTSTART:20261025T010000
END:STANDARD
BEGIN:DAYLIGHT
TZOFFSETFROM:+0100
TZOFFSETTO:+0200
TZNAME:CEST
DTSTART:20270328T010000
END:DAYLIGHT
BEGIN:STANDARD
TZOFFSETFROM:+0200
TZOFFSETTO:+0100
TZNAME:CET
DTSTART:20271031T010000
END:STANDARD
BEGIN:DAYLIGHT
TZOFFSETFROM:+0100
TZOFFSETTO:+0200
TZNAME:CEST
DTSTART:20280326T010000
END:DAYLIGHT
BEGIN:STANDARD
TZOFFSETFROM:+0200
TZOFFSETTO:+0100
TZNAME:CET
DTSTART:20281029T010000
END:STANDARD
END:VTIMEZONE
BEGIN:VEVENT
DTSTART;VALUE=DATE:20240214
DTEND;VALUE=DATE:20270215
DTSTAMP:20260423T161624
CREATED:20240214T131639Z
LAST-MODIFIED:20260423T123625Z
UID:139769-1707868800-1802649599@www.a3veen.nl
SUMMARY:Sleep VanDrie voor de rechter! - petitie
DESCRIPTION:Nederlandse kalverslachters importeren jaarlijks meer dan 100.000 kalfjes uit Ierland\, een vreselijke reis voor deze pasgeboren dieren die veel te jong van hun moeder zijn gescheiden. \nDe kalvertransporten uit Ierland overtreden structureel Europese wetten\, zo krijgen kalfjes circa 24 uur lang geen drinken\, wat volgens onder andere de Europese Commissie in strijd is met de regels. Veel dieren worden ziek en sommigen sterven onderweg. De dieronvriendelijke kalverhandel is vrijwel volledig in handen van een steenrijk Nederlands familiebedrijf: de VanDrie Group. Dier&Recht start een rechtszaak tegen deze handelaar in kalverleed. De eis: een definitief einde aan de import van kalfjes uit Ierland. Word jij medestander in de juridische strijd tegen de VanDrie Group? \nLinks:\nSleep VanDrie voor de rechter! \nHoe kalf Ollie in Nederland terechtkwam (ondanks alle goede voornemens)
URL:https://www.a3veen.nl/event/sleep-vandrie-voor-de-rechter-petitie/
CATEGORIES:Dierenrechten,Maatschappij,Petitie,Voedselproductie
END:VEVENT
END:VCALENDAR