BEGIN:VCALENDAR
VERSION:2.0
PRODID:-//A3veen.nl - ECPv6.15.20//NONSGML v1.0//EN
CALSCALE:GREGORIAN
METHOD:PUBLISH
X-ORIGINAL-URL:https://www.a3veen.nl
X-WR-CALDESC:Evenementen voor A3veen.nl
REFRESH-INTERVAL;VALUE=DURATION:PT1H
X-Robots-Tag:noindex
X-PUBLISHED-TTL:PT1H
BEGIN:VTIMEZONE
TZID:Europe/Amsterdam
BEGIN:DAYLIGHT
TZOFFSETFROM:+0100
TZOFFSETTO:+0200
TZNAME:CEST
DTSTART:20220327T010000
END:DAYLIGHT
BEGIN:STANDARD
TZOFFSETFROM:+0200
TZOFFSETTO:+0100
TZNAME:CET
DTSTART:20221030T010000
END:STANDARD
BEGIN:DAYLIGHT
TZOFFSETFROM:+0100
TZOFFSETTO:+0200
TZNAME:CEST
DTSTART:20230326T010000
END:DAYLIGHT
BEGIN:STANDARD
TZOFFSETFROM:+0200
TZOFFSETTO:+0100
TZNAME:CET
DTSTART:20231029T010000
END:STANDARD
BEGIN:DAYLIGHT
TZOFFSETFROM:+0100
TZOFFSETTO:+0200
TZNAME:CEST
DTSTART:20240331T010000
END:DAYLIGHT
BEGIN:STANDARD
TZOFFSETFROM:+0200
TZOFFSETTO:+0100
TZNAME:CET
DTSTART:20241027T010000
END:STANDARD
BEGIN:DAYLIGHT
TZOFFSETFROM:+0100
TZOFFSETTO:+0200
TZNAME:CEST
DTSTART:20250330T010000
END:DAYLIGHT
BEGIN:STANDARD
TZOFFSETFROM:+0200
TZOFFSETTO:+0100
TZNAME:CET
DTSTART:20251026T010000
END:STANDARD
END:VTIMEZONE
BEGIN:VEVENT
DTSTART;VALUE=DATE:20230415
DTEND;VALUE=DATE:20241001
DTSTAMP:20260423T000652
CREATED:20230815T212938Z
LAST-MODIFIED:20260416T123105Z
UID:93510-1681516800-1727740799@www.a3veen.nl
SUMMARY:Conflict in Soedan sinds 2023 / Sudan clashes
DESCRIPTION:Op 15 april 2023 begon een gewapend conflict in Soedan tussen twee rivaliserende facties van de militaire regering\, het regeringsleger en de paramilitaire groep Rapid Support Forces (RSF)\, voorheen Janjaweed. \nIn 2021 werd RSF-leider\, generaal Mohamed Hamdan Dagalo\, beter bekend als Hemedti\, vicepresident onder Soedans de facto president en legerleider\, generaal Abdel Fattah al-Burhan. De RSF zou onderdeel worden van het regeringsleger\, maar over de uitvoering daarvan ontstond een machtsstrijd tussen de twee generaals. Nadat de RSF op 15 april 2023 overheidsgebouwen had aangevallen\, werden in heel Soedan luchtaanvallen\, artillerie en geweerschoten gemeld. Beide partijen beweerden belangrijke locaties\, zoals militaire bases en civiele installaties te hebben ingenomen. Waaronder het algemene militaire hoofdkwartier\, het presidentiële paleis\, de luchthaven van Khartoem\, Burhans ambtswoning en het hoofdkwartier van televisiestation SNBC. In verschillende steden braken schermutselingen uit\, waarbij de grootste gevechten geconcentreerd waren rond de hoofdstad Khartoem en de Darfur regio. In Khartoem hadden beide partijen tienduizenden manschappen\, pantservoertuigen en voerden gevechtsvliegtuigen bombardementen uit. In juni begon een factie van de militante Sudan People’s Liberation Movement–North (SPLM-N)\, onder leiding van Abdelaziz al-Hilu\, legerposities in het zuiden van het land aan te vallen. De Russische paramilitaire organisatie Wagnergroep\, leverde raketten aan de RSF. Op 20 juni 2023 waren er tussen de 3000 en 5000 mensen gedood en tussen de 6000 tot 8000 gewond geraakt\, terwijl 2 miljoen mensen intern ontheemd waren en 600.000 het land waren ontvlucht. Dit conflict breidde zich daarna uit tot een burgeroorlog in het land met in 2025 grote humanitaire gevolgen: miljoenen vluchtelingen en ruim 150.000 doden. \nLinks:\nGeweldsuitbarsting Sudan \nSolidariteitsactie van en voor Soedanese vluchtelingen \nInternationale anarchistische solidariteit met Soedan \nBijna twee maanden bloedvergieten\, maar wie hoor je nog over Sudan? \n5 million people. 5 million stories. The conflict in Sudan continues to force people to flee. \nThousands of refugees in danger as Sudan fighting spreads from Khartoum \nSudan: UNHCR warns Darfur atrocities of 20 years ago may reoccur \nRights violations ripple across war-torn Sudan \nSudan emergency – WHO \nHongersnood in Soedan breidt uit: 638.000 mensen in acuut gevaar (VRT NWS) \n“Ontwikkelingshulp stop­zetten is een van de grootste Amerikaanse blunders ooit” (De Standaard) \n‘People will starve’ because of US aid cut to Sudan (BBC) \nSudan: Fighters Rape Women and Girls\, Hold Sex Slaves (Human Rights Watch) \nUN confirms famine in 5 areas of Sudan\, warns of catastrophic hunger (Sudan Tribune) \nSudan’s “Emergency Response Rooms” Show the Future of Humanitarian Aid (Global Dispatches) \nIOM\, UNHCR\, UNICEF and WFP urge immediate action to address escalating humanitarian crisis in Sudan \nSudan’s latest massacre has been exposed from satellite images – how much longer can the world look away? \nReport of OHCHR Sudan Country Office on the offensive of the Rapid Support Forces on Zamzam IDP camp\, North Darfur (11-13 April 2025): “Three days of terror with no safe refuge” \nOndragelijk leed: het gevolg van ruim duizend dagen geweld in Soedan \nSudan: 14 million displaced; hunger and attacks on health continue as war enters fourth year
URL:https://www.a3veen.nl/event/sudan-clashes-geweldsuitbarsting-sudan-2023/
CATEGORIES:Maatschappij,Oorlog
END:VEVENT
BEGIN:VEVENT
DTSTART;VALUE=DATE:20240725
DTEND;VALUE=DATE:20240726
DTSTAMP:20260423T000652
CREATED:20240725T075911Z
LAST-MODIFIED:20240725T130444Z
UID:111250-1721865600-1721951999@www.a3veen.nl
SUMMARY:Sudan: constante toevoer wapens draagt bij aan het lijden van burgers / New Weapons Fuelling the Sudan Conflict - publication
DESCRIPTION:Het conflict in Sudan wordt gevoed door een constante toevoer van wapens naar het land\, blijkt uit een onderzoek “New Weapons Fuelling the Sudan Conflict” van Amnesty International. \nHet onderzoek laat zien hoe recent geproduceerde wapens uit het buitenland Sudan worden binnengebracht\, vaak in openlijke overtreding van het bestaande wapenembargo voor Darfur. Amnesty International (AI) kwam er achter dat recent geproduceerde of recent getransporteerde wapens en munitie uit landen als China\, Rusland\, Servië\, Turkije\, de Verenigde Arabische Emiraten (UAE) en Jemen in grote hoeveelheden naar Sudan worden geïmporteerd. In sommige gevallen worden ze dan doorgestuurd naar Darfur. Sinds de escalatie in het conflict van april 2023 tussen het Sudanese leger (Sudanese Armed Forces\, SAF) en de Rapid Support Forces (RSF) zijn al meer dan 16.650 mensen om het leven gekomen. AI documenteerde eerder burgerdoden bij zowel willekeurge aanvallen als directe aanvallen op burgers. Sommige van de schendingen van het internationale humanitaire recht door de partijen in het conflict zijn mogelijke oorlogsmisdrijven. Naar schatting zijn meer dan 11 miljoen mensen intern ontheemd. Miljoenen anderen lopen direct risico op hongersnood. AI analyseerde meer dan 1.900 scheepvaartgegevens uit verschillende landen van twee verschillende gegevensverstrekkers. Daarnaast onderzocht AI open source- en digitaal bewijs – waaronder zo’n 2.000 foto’s en video’s – die recent geproduceerde of recent geïmporteerde wapens in Sudan lieten zien. AI interviewde ook zeventien regionale experts op het gebied van wapens en Sudan tussen februari en maart 2024. Deze experts bevestigden en onderzochten de data-analyse en toeleveringsketens van de wapens die verschillende groepen gebruiken. Vanwege het huidige conflict konden de onderzoekers van AI geen onderzoek doen in Sudan. Alle betrokken bedrijven en partijen zijn voor publicatie op de hoogte gesteld van de bevindingen en kregen de mogelijkheid daarop te reageren. Indien relevant\, zijn deze reacties in het onderzoek verwerkt. \nLinks:\nSudan: constante toevoer wapens draagt bij aan het lijden van burgers
URL:https://www.a3veen.nl/event/sudan-constante-toevoer-wapens-draagt-bij-aan-het-lijden-van-burgers-new-weapons-fuelling-the-sudan-conflict-publication/
CATEGORIES:Maatschappij,Oorlog
END:VEVENT
END:VCALENDAR