BEGIN:VCALENDAR
VERSION:2.0
PRODID:-//A3veen.nl - ECPv6.15.20//NONSGML v1.0//EN
CALSCALE:GREGORIAN
METHOD:PUBLISH
X-ORIGINAL-URL:https://www.a3veen.nl
X-WR-CALDESC:Evenementen voor A3veen.nl
REFRESH-INTERVAL;VALUE=DURATION:PT1H
X-Robots-Tag:noindex
X-PUBLISHED-TTL:PT1H
BEGIN:VTIMEZONE
TZID:Europe/Amsterdam
BEGIN:DAYLIGHT
TZOFFSETFROM:+0100
TZOFFSETTO:+0200
TZNAME:CEST
DTSTART:20210328T010000
END:DAYLIGHT
BEGIN:STANDARD
TZOFFSETFROM:+0200
TZOFFSETTO:+0100
TZNAME:CET
DTSTART:20211031T010000
END:STANDARD
BEGIN:DAYLIGHT
TZOFFSETFROM:+0100
TZOFFSETTO:+0200
TZNAME:CEST
DTSTART:20220327T010000
END:DAYLIGHT
BEGIN:STANDARD
TZOFFSETFROM:+0200
TZOFFSETTO:+0100
TZNAME:CET
DTSTART:20221030T010000
END:STANDARD
BEGIN:DAYLIGHT
TZOFFSETFROM:+0100
TZOFFSETTO:+0200
TZNAME:CEST
DTSTART:20230326T010000
END:DAYLIGHT
BEGIN:STANDARD
TZOFFSETFROM:+0200
TZOFFSETTO:+0100
TZNAME:CET
DTSTART:20231029T010000
END:STANDARD
END:VTIMEZONE
BEGIN:VEVENT
DTSTART;VALUE=DATE:20221213
DTEND;VALUE=DATE:20221214
DTSTAMP:20260422T002319
CREATED:20230807T220106Z
LAST-MODIFIED:20230807T221651Z
UID:93029-1670889600-1670975999@www.a3veen.nl
SUMMARY:Doorbraak met energiepositieve kernfusie / National Ignition Facility achieves fusion ignition - publication
DESCRIPTION:Amerikaanse onderzoekers van de National Ignition Facility hebben mogelijk een doorbraak bewerkstelligd op het gebied van energiepositieve kernfusie\, er zou met een grote laserinstallatie meer energie opgewekt dan dat er nodig was om het proces op gang te brengen. \nLinks:\nLawrence Livermore National Laboratory achieves fusion ignition \n‘Amerikaanse onderzoekers hebben doorbraak met energiepositieve kernfusie’ \nScientists Achieve Nuclear Fusion Breakthrough With Blast of 192 Lasers \nITER \nAgenda – Doorbraak met energiepositieve kernfusie / National Ignition Facility achieves fusion ignition – publication  \n#Energiewende #Kernfusion Harald bricht sein Schweigen! Laserfusion | Harald Lesch | Terra X Lesch & Co (TV YouTube)
URL:https://www.a3veen.nl/event/doorbraak-met-energiepositieve-kernfusie-national-ignition-facility-achieves-fusion-ignition-publication-20221213/
CATEGORIES:Fysica
END:VEVENT
END:VCALENDAR