BEGIN:VCALENDAR
VERSION:2.0
PRODID:-//A3veen.nl - ECPv6.15.20//NONSGML v1.0//EN
CALSCALE:GREGORIAN
METHOD:PUBLISH
X-ORIGINAL-URL:https://www.a3veen.nl
X-WR-CALDESC:Evenementen voor A3veen.nl
REFRESH-INTERVAL;VALUE=DURATION:PT1H
X-Robots-Tag:noindex
X-PUBLISHED-TTL:PT1H
BEGIN:VTIMEZONE
TZID:Europe/Amsterdam
BEGIN:DAYLIGHT
TZOFFSETFROM:+0100
TZOFFSETTO:+0200
TZNAME:CEST
DTSTART:20180325T010000
END:DAYLIGHT
BEGIN:STANDARD
TZOFFSETFROM:+0200
TZOFFSETTO:+0100
TZNAME:CET
DTSTART:20181028T010000
END:STANDARD
BEGIN:DAYLIGHT
TZOFFSETFROM:+0100
TZOFFSETTO:+0200
TZNAME:CEST
DTSTART:20190331T010000
END:DAYLIGHT
BEGIN:STANDARD
TZOFFSETFROM:+0200
TZOFFSETTO:+0100
TZNAME:CET
DTSTART:20191027T010000
END:STANDARD
BEGIN:DAYLIGHT
TZOFFSETFROM:+0100
TZOFFSETTO:+0200
TZNAME:CEST
DTSTART:20200329T010000
END:DAYLIGHT
BEGIN:STANDARD
TZOFFSETFROM:+0200
TZOFFSETTO:+0100
TZNAME:CET
DTSTART:20201025T010000
END:STANDARD
BEGIN:DAYLIGHT
TZOFFSETFROM:+0100
TZOFFSETTO:+0200
TZNAME:CEST
DTSTART:20210328T010000
END:DAYLIGHT
BEGIN:STANDARD
TZOFFSETFROM:+0200
TZOFFSETTO:+0100
TZNAME:CET
DTSTART:20211031T010000
END:STANDARD
END:VTIMEZONE
BEGIN:VEVENT
DTSTART;VALUE=DATE:20190609
DTEND;VALUE=DATE:20210101
DTSTAMP:20260419T192957
CREATED:20240604T004718Z
LAST-MODIFIED:20241119T105311Z
UID:108929-1560038400-1609459199@www.a3veen.nl
SUMMARY:#Hongkong : Bezetting door en protesten tegen China 2019-2020
DESCRIPTION:De protesten in Hongkong in 2019-2020 waren een reeks van demonstraties in de speciale bestuurlijke regio Hongkong\, die in eerste instantie gericht was tegen de door de regering van Hongkong voorgestelde uitleveringswet van 2019\, maar weer werd ingetrokken. \nOp 30 juni 2020 werd de nationale veiligheidswet van Hongkong unaniem aangenomen door het Staande Comité van het Volkscongres. De wet ging op dezelfde dag in. De inhoud van de wet werd niet bekendgemaakt. De politieke partij Demosisto werd na invoering van de wet opgeheven. Amnesty International noemde de wet de grootste bedreiging van de mensenrechten in de recente geschiedenis van de stad. Het Verenigd Koninkrijk zei diep bezorgd te zijn over de nieuwe wet.\n\nLinks:\n2019–2020 Hong Kong protests \nPolitie grijpt hard in bij protest tegen uitleveringswet Hongkong \nFierce clashes broke out between protesters and riot police in Hong Kong \nHong Kong’s embattled leader Carrie Lam invokes colonial-era emergency powers for the first time in more than 50 years in a dramatic move intended to quell escalating violence in the Chinese-ruled city \nBlue or yellow? Restaurants in Hong Kong are being marked out on a map depending on whether they support the protesters or take a pro-Beijing stand\n\nVPRO #Tegenlicht – Hongkongs nieuwe helden (TV NPO 2)\n\nPro-democracy demonstrators holed up in a Hong Kong university campus / De bezetting van de Polytechnische Universiteit in Hong Kong is de meest gewelddadige confrontatie tot nu toe / Police officer shot a running protester in #HongKong at close range (video) \n2019 Hong Kong local elections\n\nCoronavirus crisis / Coronavirus widens Hong Kong anger at government\, China \nChinees parlement neemt omstreden wetgeving voor Hongkong aan / China voert omstreden wet door: ‘Einde van Hongkong zoals we dat kennen’ / 180 arrestaties bij protest na invoering omstreden veiligheidswet Hongkong \nBoris Johnson Offers 3 Million Hong Kong Residents Haven in U.K. / Boris Johnson on the Hong Kong crisis: We will meet our obligations\, not walk away / PM Boris Johnson article on Hong Kong: 3 June 2020 \nHongkong (WikiNews) \nHong Kong disqualified four opposition members of its legislature / Oppositie in Hongkong besluit om massaal te vertrekken uit het parlement \nActivist Joshua Wong veroordeeld tot celstraf voor protest Hongkong / Queues at court as trial of HK activists continues / Rechtbank Hongkong veroordeelt prominente leden oppositie / Eerste veroordeling onder omstreden veiligheidswet Hongkong \nChina adopts new laws to ensure only ‘patriots’ can govern Hong Kong \nHong Kong sends 500 officers in pro-democracy paper raid – BBC News \nBritse rechters in Hongkong weg uit protest tegen veiligheidswet \nAmnesty International has left Hong Kong \nOp 1 juli 2022 is het precies 25 jaar nadat Hongkong door de Britten aan China werd overgedragen \nTientallen pro-democratische activisten veroordeeld tot celstraf in Hongkong
URL:https://www.a3veen.nl/event/hongkong-bezetting-door-en-protesten-tegen-china/
LOCATION:Hongkong\, Hongkong\, China
CATEGORIES:Maatschappij
END:VEVENT
END:VCALENDAR