BEGIN:VCALENDAR
VERSION:2.0
PRODID:-//A3veen.nl - ECPv6.15.20//NONSGML v1.0//EN
CALSCALE:GREGORIAN
METHOD:PUBLISH
X-ORIGINAL-URL:https://www.a3veen.nl
X-WR-CALDESC:Evenementen voor A3veen.nl
REFRESH-INTERVAL;VALUE=DURATION:PT1H
X-Robots-Tag:noindex
X-PUBLISHED-TTL:PT1H
BEGIN:VTIMEZONE
TZID:Europe/Amsterdam
BEGIN:DAYLIGHT
TZOFFSETFROM:+0100
TZOFFSETTO:+0200
TZNAME:CEST
DTSTART:20180325T010000
END:DAYLIGHT
BEGIN:STANDARD
TZOFFSETFROM:+0200
TZOFFSETTO:+0100
TZNAME:CET
DTSTART:20181028T010000
END:STANDARD
BEGIN:DAYLIGHT
TZOFFSETFROM:+0100
TZOFFSETTO:+0200
TZNAME:CEST
DTSTART:20190331T010000
END:DAYLIGHT
BEGIN:STANDARD
TZOFFSETFROM:+0200
TZOFFSETTO:+0100
TZNAME:CET
DTSTART:20191027T010000
END:STANDARD
BEGIN:DAYLIGHT
TZOFFSETFROM:+0100
TZOFFSETTO:+0200
TZNAME:CEST
DTSTART:20200329T010000
END:DAYLIGHT
BEGIN:STANDARD
TZOFFSETFROM:+0200
TZOFFSETTO:+0100
TZNAME:CET
DTSTART:20201025T010000
END:STANDARD
BEGIN:DAYLIGHT
TZOFFSETFROM:+0100
TZOFFSETTO:+0200
TZNAME:CEST
DTSTART:20210328T010000
END:DAYLIGHT
BEGIN:STANDARD
TZOFFSETFROM:+0200
TZOFFSETTO:+0100
TZNAME:CET
DTSTART:20211031T010000
END:STANDARD
BEGIN:DAYLIGHT
TZOFFSETFROM:+0100
TZOFFSETTO:+0200
TZNAME:CEST
DTSTART:20220327T010000
END:DAYLIGHT
BEGIN:STANDARD
TZOFFSETFROM:+0200
TZOFFSETTO:+0100
TZNAME:CET
DTSTART:20221030T010000
END:STANDARD
BEGIN:DAYLIGHT
TZOFFSETFROM:+0100
TZOFFSETTO:+0200
TZNAME:CEST
DTSTART:20230326T010000
END:DAYLIGHT
BEGIN:STANDARD
TZOFFSETFROM:+0200
TZOFFSETTO:+0100
TZNAME:CET
DTSTART:20231029T010000
END:STANDARD
BEGIN:DAYLIGHT
TZOFFSETFROM:+0100
TZOFFSETTO:+0200
TZNAME:CEST
DTSTART:20240331T010000
END:DAYLIGHT
BEGIN:STANDARD
TZOFFSETFROM:+0200
TZOFFSETTO:+0100
TZNAME:CET
DTSTART:20241027T010000
END:STANDARD
BEGIN:DAYLIGHT
TZOFFSETFROM:+0100
TZOFFSETTO:+0200
TZNAME:CEST
DTSTART:20250330T010000
END:DAYLIGHT
BEGIN:STANDARD
TZOFFSETFROM:+0200
TZOFFSETTO:+0100
TZNAME:CET
DTSTART:20251026T010000
END:STANDARD
BEGIN:DAYLIGHT
TZOFFSETFROM:+0100
TZOFFSETTO:+0200
TZNAME:CEST
DTSTART:20260329T010000
END:DAYLIGHT
BEGIN:STANDARD
TZOFFSETFROM:+0200
TZOFFSETTO:+0100
TZNAME:CET
DTSTART:20261025T010000
END:STANDARD
END:VTIMEZONE
BEGIN:VEVENT
DTSTART;VALUE=DATE:20191113
DTEND;VALUE=DATE:20251114
DTSTAMP:20260421T060456
CREATED:20250406T130933Z
LAST-MODIFIED:20250408T115358Z
UID:122855-1573603200-1763078399@www.a3veen.nl
SUMMARY:#Wietexperiment Experiment gesloten coffeeshopketen
DESCRIPTION:Op 26 februari 2015 diende Magda Berndsen een wetsvoorstel in ter regulering van de voor- en achterdeur van coffeeshops voor de handel in hennep en hasjiesj\, op 21 februari 2017 nam de Tweede Kamer het wetsvoorstel aan. \nDe Wet van 13 november 2019\, houdende regels inzake een uniform experiment met teelt en verkoop van hennep en hasjiesj voor recreatief gebruik in een gesloten coffeeshopketen (Wet experiment gesloten coffeeshopketen) regelt een experiment met op kwaliteit gecontroleerde teelt van hennep en hasjiesj voor recreatief gebruik\, die (legaal dus) wordt verkocht aan coffeeshops. Cannabis die in Nederlandse coffeeshops wordt verkocht is als gevolg van het feit dat cannabisteelt strafbaar gesteld is altijd op illegale wijzen verbouwd. Het experiment heeft als doel te onderzoeken of het mogelijk is om op legale wijze de coffeeshops in Nederland van cannabis te voorzien. Gemeenten met coffeeshops kregen de mogelijkheid zich aan te melden voor het experiment. Telers zijn aangewezen om met toestemming cannabis te verbouwen voor het experiment. De wet is een belangrijke stap om het experiment met cannabisteelt voor recreatief gebruik in de gesloten coffeeshopketen mogelijk te maken. Op 7 april 2025 is in tien gemeenten de vier jaar durende experimenteerfase begonnen: in Almere\, Arnhem\, Breda\, Groningen\, Heerlen\, Hellevoetsluis\, Maastricht\, Nijmegen\, Tilburg en Zaanstad verkopen alle coffeeshops alleen nog maar legaal geteelde wiet. \n﻿﻿Links:\nExperiment gesloten coffeeshopketen (wietexperiment) \nNieuwe stap wietproef: in tientallen coffeeshops alleen nog legale wiet \nLegalize!
URL:https://www.a3veen.nl/event/wietexperiment-experiment-gesloten-coffeeshopketen/
LOCATION:Nederland\, Nederland
CATEGORIES:Maatschappij
END:VEVENT
END:VCALENDAR