BEGIN:VCALENDAR
VERSION:2.0
PRODID:-//A3veen.nl - ECPv6.15.20//NONSGML v1.0//EN
CALSCALE:GREGORIAN
METHOD:PUBLISH
X-WR-CALNAME:A3veen.nl
X-ORIGINAL-URL:https://www.a3veen.nl
X-WR-CALDESC:Evenementen voor A3veen.nl
REFRESH-INTERVAL;VALUE=DURATION:PT1H
X-Robots-Tag:noindex
X-PUBLISHED-TTL:PT1H
BEGIN:VTIMEZONE
TZID:Europe/Amsterdam
BEGIN:DAYLIGHT
TZOFFSETFROM:+0100
TZOFFSETTO:+0200
TZNAME:CEST
DTSTART:20250330T010000
END:DAYLIGHT
BEGIN:STANDARD
TZOFFSETFROM:+0200
TZOFFSETTO:+0100
TZNAME:CET
DTSTART:20251026T010000
END:STANDARD
BEGIN:DAYLIGHT
TZOFFSETFROM:+0100
TZOFFSETTO:+0200
TZNAME:CEST
DTSTART:20260329T010000
END:DAYLIGHT
BEGIN:STANDARD
TZOFFSETFROM:+0200
TZOFFSETTO:+0100
TZNAME:CET
DTSTART:20261025T010000
END:STANDARD
BEGIN:DAYLIGHT
TZOFFSETFROM:+0100
TZOFFSETTO:+0200
TZNAME:CEST
DTSTART:20270328T010000
END:DAYLIGHT
BEGIN:STANDARD
TZOFFSETFROM:+0200
TZOFFSETTO:+0100
TZNAME:CET
DTSTART:20271031T010000
END:STANDARD
END:VTIMEZONE
BEGIN:VEVENT
DTSTART;VALUE=DATE:20260319
DTEND;VALUE=DATE:20260328
DTSTAMP:20260421T191659
CREATED:20260116T085827Z
LAST-MODIFIED:20260116T085827Z
UID:135438-1773878400-1774655999@www.a3veen.nl
SUMMARY:Week van de Circulaire Economie 2026
DESCRIPTION:De Week van de Circulaire Economie is een jaarlijkse campagneweek om aandacht te vragen voor de circulaire economie. \nTijdens ‘de Week’ laten pioniers\, bedrijven en overheden in heel het land zien hoe circulair innoveren en ondernemen in de praktijk werkt en hoe we slimmer om kunnen gaan met grondstoffen en afval. Een week vol talks\, rondleidingen\, excursies en workshops en de Conferentie Circulair Ondernemerschap. \nLinks:\nWeek van de Circulaire Economie
URL:https://www.a3veen.nl/event/week-van-de-circulaire-economie-2026/
CATEGORIES:Klimaat,Milieu
END:VEVENT
END:VCALENDAR