BEGIN:VCALENDAR
VERSION:2.0
PRODID:-//A3veen.nl - ECPv6.15.20//NONSGML v1.0//EN
CALSCALE:GREGORIAN
METHOD:PUBLISH
X-ORIGINAL-URL:https://www.a3veen.nl
X-WR-CALDESC:Evenementen voor A3veen.nl
REFRESH-INTERVAL;VALUE=DURATION:PT1H
X-Robots-Tag:noindex
X-PUBLISHED-TTL:PT1H
BEGIN:VTIMEZONE
TZID:Europe/Amsterdam
BEGIN:DAYLIGHT
TZOFFSETFROM:+0100
TZOFFSETTO:+0200
TZNAME:CEST
DTSTART:20230326T010000
END:DAYLIGHT
BEGIN:STANDARD
TZOFFSETFROM:+0200
TZOFFSETTO:+0100
TZNAME:CET
DTSTART:20231029T010000
END:STANDARD
BEGIN:DAYLIGHT
TZOFFSETFROM:+0100
TZOFFSETTO:+0200
TZNAME:CEST
DTSTART:20240331T010000
END:DAYLIGHT
BEGIN:STANDARD
TZOFFSETFROM:+0200
TZOFFSETTO:+0100
TZNAME:CET
DTSTART:20241027T010000
END:STANDARD
BEGIN:DAYLIGHT
TZOFFSETFROM:+0100
TZOFFSETTO:+0200
TZNAME:CEST
DTSTART:20250330T010000
END:DAYLIGHT
BEGIN:STANDARD
TZOFFSETFROM:+0200
TZOFFSETTO:+0100
TZNAME:CET
DTSTART:20251026T010000
END:STANDARD
END:VTIMEZONE
BEGIN:VEVENT
DTSTART;VALUE=DATE:20240401
DTEND;VALUE=DATE:20240402
DTSTAMP:20260420T221146
CREATED:20240331T225154Z
LAST-MODIFIED:20240415T122729Z
UID:105312-1711929600-1712015999@www.a3veen.nl
SUMMARY:Cannabis legalisiert in Deutschland
DESCRIPTION:Mit dem Cannabisgesetz (CanG) wird der private Eigenanbau durch Erwachsene zum Eigenkonsum sowie der gemeinschaftliche\, nicht-gewerbliche Eigenanbau von Cannabis in Anbauvereinigungen legalisiert. \nDie deutsche Regierung hat den Besitz von Marihuana in kleinen Mengen legalisiert und den Besitz teilweise entkriminalisiert. Erwachsene über 18 Jahren dürfen nun 25 Gramm Cannabis für den Eigenbedarf besitzen und zu Hause 50 Gramm aufbewahren. Der Verkauf bleibt aber untersagt. \nLinks:\nVideo. “Smoke-In”: Berliner feiern Legalisierung von Cannabis in Deutschland \nBlowen in Duitsland vanaf vandaag legaal\, vele regels zorgen voor verwarring \nAgenda – 420 / Marihuana Dag / Marijuana Day 2024
URL:https://www.a3veen.nl/event/cannabis-legalisiert-in-deustschland/
LOCATION:Duitsland\, Duitsland
CATEGORIES:Actueel
END:VEVENT
END:VCALENDAR