BEGIN:VCALENDAR
VERSION:2.0
PRODID:-//A3veen.nl - ECPv6.15.20//NONSGML v1.0//EN
CALSCALE:GREGORIAN
METHOD:PUBLISH
X-ORIGINAL-URL:https://www.a3veen.nl
X-WR-CALDESC:Evenementen voor A3veen.nl
REFRESH-INTERVAL;VALUE=DURATION:PT1H
X-Robots-Tag:noindex
X-PUBLISHED-TTL:PT1H
BEGIN:VTIMEZONE
TZID:Europe/Amsterdam
BEGIN:DAYLIGHT
TZOFFSETFROM:+0100
TZOFFSETTO:+0200
TZNAME:CEST
DTSTART:20220327T010000
END:DAYLIGHT
BEGIN:STANDARD
TZOFFSETFROM:+0200
TZOFFSETTO:+0100
TZNAME:CET
DTSTART:20221030T010000
END:STANDARD
BEGIN:DAYLIGHT
TZOFFSETFROM:+0100
TZOFFSETTO:+0200
TZNAME:CEST
DTSTART:20230326T010000
END:DAYLIGHT
BEGIN:STANDARD
TZOFFSETFROM:+0200
TZOFFSETTO:+0100
TZNAME:CET
DTSTART:20231029T010000
END:STANDARD
BEGIN:DAYLIGHT
TZOFFSETFROM:+0100
TZOFFSETTO:+0200
TZNAME:CEST
DTSTART:20240331T010000
END:DAYLIGHT
BEGIN:STANDARD
TZOFFSETFROM:+0200
TZOFFSETTO:+0100
TZNAME:CET
DTSTART:20241027T010000
END:STANDARD
END:VTIMEZONE
BEGIN:VEVENT
DTSTART;VALUE=DATE:20231027
DTEND;VALUE=DATE:20231028
DTSTAMP:20260422T231628
CREATED:20230831T184518Z
LAST-MODIFIED:20231030T185029Z
UID:94157-1698364800-1698451199@www.a3veen.nl
SUMMARY:#Amsterdam750 Verjaardag Amsterdam / Grote Amsterdam Quiz 2023 (TV AT5)
DESCRIPTION:De komende jaren wordt de Grote Amsterdam Quiz elk jaar in oktober georganiseerd\, zo wordt toegewerkt naar de 750e verjaardag van Amsterdam in 2025. \nDe Grote Amsterdam Quiz bestaat uit voorrondes op ruim 80 locaties in de stad\, die vinden plaats tussen 1 en 15 oktober 2023 (datum verschilt per locatie). Je kunt je vanaf 28 augustus met je team (4 personen) gratis aanmelden via deze site. Per locatie mag het winnende team door naar de finale\, die op 27 oktober 2023\, de verjaardag van de stad\, zal plaatsvinden in de H-Art en live zal worden uitgezonden op AT5. Hier zijn mooie prijzen te winnen! Daarnaast verdien je uiteraard eeuwige roem als Amsterdam-kenner van het jaar. \nLinks:\nGrote Amsterdam Quiz \nAmsterdam is jarig! \nVerjaardag Amsterdam en Publieksdag Middeleeuws Amsterdam \nTerugkijken: de finale van De Grote Amsterdam Quiz
URL:https://www.a3veen.nl/event/grote-amsterdam-quiz-2023-tv-at5/
CATEGORIES:Amsterdam
END:VEVENT
END:VCALENDAR