BEGIN:VCALENDAR
VERSION:2.0
PRODID:-//A3veen.nl - ECPv6.15.20//NONSGML v1.0//EN
CALSCALE:GREGORIAN
METHOD:PUBLISH
X-ORIGINAL-URL:https://www.a3veen.nl
X-WR-CALDESC:Evenementen voor A3veen.nl
REFRESH-INTERVAL;VALUE=DURATION:PT1H
X-Robots-Tag:noindex
X-PUBLISHED-TTL:PT1H
BEGIN:VTIMEZONE
TZID:Europe/Amsterdam
BEGIN:DAYLIGHT
TZOFFSETFROM:+0100
TZOFFSETTO:+0200
TZNAME:CEST
DTSTART:20230326T010000
END:DAYLIGHT
BEGIN:STANDARD
TZOFFSETFROM:+0200
TZOFFSETTO:+0100
TZNAME:CET
DTSTART:20231029T010000
END:STANDARD
BEGIN:DAYLIGHT
TZOFFSETFROM:+0100
TZOFFSETTO:+0200
TZNAME:CEST
DTSTART:20240331T010000
END:DAYLIGHT
BEGIN:STANDARD
TZOFFSETFROM:+0200
TZOFFSETTO:+0100
TZNAME:CET
DTSTART:20241027T010000
END:STANDARD
BEGIN:DAYLIGHT
TZOFFSETFROM:+0100
TZOFFSETTO:+0200
TZNAME:CEST
DTSTART:20250330T010000
END:DAYLIGHT
BEGIN:STANDARD
TZOFFSETFROM:+0200
TZOFFSETTO:+0100
TZNAME:CET
DTSTART:20251026T010000
END:STANDARD
END:VTIMEZONE
BEGIN:VEVENT
DTSTART;VALUE=DATE:20240612
DTEND;VALUE=DATE:20240616
DTSTAMP:20260422T021213
CREATED:20240611T190723Z
LAST-MODIFIED:20250612T084259Z
UID:110614-1718150400-1718495999@www.a3veen.nl
SUMMARY:Pan-Amazon Social Forum 2024
DESCRIPTION:The main objective of the XI FOSPA is to strengthen alliances between social actors in the region to exchange experiences and build action strategies in defense of the Amazon\, in order to generate impact at the local\, national\, Amazonian and international levels.\n\n\n\n\nThis version of the forum is organized into four thematic axes:\n1) Indigenous peoples and Amazonian populations\,\n2) Mother Earth\,\n3) Extractivisms and Alternatives\,\n4) Women’s resistance. Each Axis is made up of different Working Groups that are the nucleus from which we will reflect and propose collective actions. \nLinks:\nLearn about the XI FOSPA Bolivia program \nTo Save the Amazon\, What if We Listened to Those Living Within It?
URL:https://www.a3veen.nl/event/pan-amazon-social-forum-2024/
CATEGORIES:Bossen,Milieu,Natuur
END:VEVENT
END:VCALENDAR