BEGIN:VCALENDAR
VERSION:2.0
PRODID:-//A3veen.nl - ECPv6.15.20//NONSGML v1.0//EN
CALSCALE:GREGORIAN
METHOD:PUBLISH
X-WR-CALNAME:A3veen.nl
X-ORIGINAL-URL:https://www.a3veen.nl
X-WR-CALDESC:Evenementen voor A3veen.nl
REFRESH-INTERVAL;VALUE=DURATION:PT1H
X-Robots-Tag:noindex
X-PUBLISHED-TTL:PT1H
BEGIN:VTIMEZONE
TZID:Europe/Amsterdam
BEGIN:DAYLIGHT
TZOFFSETFROM:+0100
TZOFFSETTO:+0200
TZNAME:CEST
DTSTART:20230326T010000
END:DAYLIGHT
BEGIN:STANDARD
TZOFFSETFROM:+0200
TZOFFSETTO:+0100
TZNAME:CET
DTSTART:20231029T010000
END:STANDARD
BEGIN:DAYLIGHT
TZOFFSETFROM:+0100
TZOFFSETTO:+0200
TZNAME:CEST
DTSTART:20240331T010000
END:DAYLIGHT
BEGIN:STANDARD
TZOFFSETFROM:+0200
TZOFFSETTO:+0100
TZNAME:CET
DTSTART:20241027T010000
END:STANDARD
BEGIN:DAYLIGHT
TZOFFSETFROM:+0100
TZOFFSETTO:+0200
TZNAME:CEST
DTSTART:20250330T010000
END:DAYLIGHT
BEGIN:STANDARD
TZOFFSETFROM:+0200
TZOFFSETTO:+0100
TZNAME:CET
DTSTART:20251026T010000
END:STANDARD
END:VTIMEZONE
BEGIN:VEVENT
DTSTART;VALUE=DATE:20240214
DTEND;VALUE=DATE:20240215
DTSTAMP:20260422T070058
CREATED:20240219T132143Z
LAST-MODIFIED:20241001T134051Z
UID:103036-1707868800-1707955199@www.a3veen.nl
SUMMARY:Amazone loopt het risico om 'in te storten' / Critical transitions in the Amazon forest system - publicatie / publication
DESCRIPTION:In de studie ‘Critical transitions in the Amazon forest system‘ laten wetenschappers zien dat het Amazone-regenwoud deze eeuw het risico loopt om ‘in te storten’. \nWereldwijd staat er nog zo’n 350 miljoen hectare aan tropische regenwouden. Maar veel van deze bossen staan flink onder druk. Met de verwachte klimaatverandering zou het gebied in 2050 zo’n last van droogte kunnen krijgen dat er een kantelpunt wordt bereikt\, waarbij bossen op grote schaal gaan verdwijnen. \nLinks:\nAmazone loopt het risico om ‘in te storten’ \nSluit je aan bij de beweging voor een fossielvrij Amazonewoud – petitie \nHet lijkt alsof de ontbossing zich verplaatst van de Amazone naar de Cerrado \nBrazilians choke as fire smoke blankets 80% of country
URL:https://www.a3veen.nl/event/amazone-loopt-het-risico-om-in-te-storten-critical-transitions-in-the-amazon-forest-system-publication/
CATEGORIES:Klimaat,Natuur
END:VEVENT
BEGIN:VEVENT
DTSTART;VALUE=DATE:20240214
DTEND;VALUE=DATE:20240315
DTSTAMP:20260422T070058
CREATED:20240214T093004Z
LAST-MODIFIED:20240901T143613Z
UID:102792-1707868800-1710460799@www.a3veen.nl
SUMMARY:Sluit je aan bij de beweging voor een fossielvrij Amazonewoud - petitie
DESCRIPTION:Het was een geweldige overwinning: in augustus 2023 heeft 59% van de Ecuadorianen gestemd voor het verbod op het winnen van fossiele brandstoffen in het superbiodiverse nationaal park Yasuní; maar nog geen zes maanden later wil de nieuwe president van Ecuador de oliewinning toch voortzetten! \nInheemse leiders en bondgenoten in Ecuador zetten alles op alles om ervoor te zorgen dat hun democratie en regenwoud beschermd blijven\, en ze hebben onze hulp nodig. Samen kunnen we aan president Noboa en andere leiders in het Amazonewoud laten zien dat oliewinning tegen de wil van het volk een enorm internationaal protest zal ontketenen. Sluit je nu aan om de Ecuadorianen te steunen en een permanent einde aan oliewinning in het Amazonewoud te eisen! \nLinks:\nSluit je aan bij de beweging voor een fossielvrij Amazonewoud \nIndigenous group calls on Ecuador to respect referendum to stop oil drilling in Amazon (EFE) \nGlobal Conservation Significance of Ecuador’s Yasuní National Park (PLOS ONE) \nThe Amazon will reach tipping point if current trend of deforestation continues (Mongabay) \nHundreds of oil spill sites threaten Amazon Indigenous lands\, protected areas (Mongabay) \nA Growing Movement Looks to End Oil Drilling in the Amazon (Inside Climate News) \nAmazone loopt het risico om ‘in te storten’ / Critical transitions in the Amazon forest system – publicatie / publication
URL:https://www.a3veen.nl/event/sluit-je-aan-bij-de-beweging-voor-een-fossielvrij-amazonewoud-petitie/
LOCATION:Ecuador\, Ecuador
CATEGORIES:Energie,Klimaat,Milieu,Natuur
END:VEVENT
END:VCALENDAR