BEGIN:VCALENDAR
VERSION:2.0
PRODID:-//A3veen.nl - ECPv6.15.20//NONSGML v1.0//EN
CALSCALE:GREGORIAN
METHOD:PUBLISH
X-ORIGINAL-URL:https://www.a3veen.nl
X-WR-CALDESC:Evenementen voor A3veen.nl
REFRESH-INTERVAL;VALUE=DURATION:PT1H
X-Robots-Tag:noindex
X-PUBLISHED-TTL:PT1H
BEGIN:VTIMEZONE
TZID:Europe/Amsterdam
BEGIN:DAYLIGHT
TZOFFSETFROM:+0100
TZOFFSETTO:+0200
TZNAME:CEST
DTSTART:19990328T010000
END:DAYLIGHT
BEGIN:STANDARD
TZOFFSETFROM:+0200
TZOFFSETTO:+0100
TZNAME:CET
DTSTART:19991031T010000
END:STANDARD
BEGIN:DAYLIGHT
TZOFFSETFROM:+0100
TZOFFSETTO:+0200
TZNAME:CEST
DTSTART:20000326T010000
END:DAYLIGHT
BEGIN:STANDARD
TZOFFSETFROM:+0200
TZOFFSETTO:+0100
TZNAME:CET
DTSTART:20001029T010000
END:STANDARD
BEGIN:DAYLIGHT
TZOFFSETFROM:+0100
TZOFFSETTO:+0200
TZNAME:CEST
DTSTART:20010325T010000
END:DAYLIGHT
BEGIN:STANDARD
TZOFFSETFROM:+0200
TZOFFSETTO:+0100
TZNAME:CET
DTSTART:20011028T010000
END:STANDARD
BEGIN:DAYLIGHT
TZOFFSETFROM:+0100
TZOFFSETTO:+0200
TZNAME:CEST
DTSTART:20020331T010000
END:DAYLIGHT
BEGIN:STANDARD
TZOFFSETFROM:+0200
TZOFFSETTO:+0100
TZNAME:CET
DTSTART:20021027T010000
END:STANDARD
BEGIN:DAYLIGHT
TZOFFSETFROM:+0100
TZOFFSETTO:+0200
TZNAME:CEST
DTSTART:20030330T010000
END:DAYLIGHT
BEGIN:STANDARD
TZOFFSETFROM:+0200
TZOFFSETTO:+0100
TZNAME:CET
DTSTART:20031026T010000
END:STANDARD
BEGIN:DAYLIGHT
TZOFFSETFROM:+0100
TZOFFSETTO:+0200
TZNAME:CEST
DTSTART:20040328T010000
END:DAYLIGHT
BEGIN:STANDARD
TZOFFSETFROM:+0200
TZOFFSETTO:+0100
TZNAME:CET
DTSTART:20041031T010000
END:STANDARD
BEGIN:DAYLIGHT
TZOFFSETFROM:+0100
TZOFFSETTO:+0200
TZNAME:CEST
DTSTART:20050327T010000
END:DAYLIGHT
BEGIN:STANDARD
TZOFFSETFROM:+0200
TZOFFSETTO:+0100
TZNAME:CET
DTSTART:20051030T010000
END:STANDARD
BEGIN:DAYLIGHT
TZOFFSETFROM:+0100
TZOFFSETTO:+0200
TZNAME:CEST
DTSTART:20060326T010000
END:DAYLIGHT
BEGIN:STANDARD
TZOFFSETFROM:+0200
TZOFFSETTO:+0100
TZNAME:CET
DTSTART:20061029T010000
END:STANDARD
BEGIN:DAYLIGHT
TZOFFSETFROM:+0100
TZOFFSETTO:+0200
TZNAME:CEST
DTSTART:20070325T010000
END:DAYLIGHT
BEGIN:STANDARD
TZOFFSETFROM:+0200
TZOFFSETTO:+0100
TZNAME:CET
DTSTART:20071028T010000
END:STANDARD
BEGIN:DAYLIGHT
TZOFFSETFROM:+0100
TZOFFSETTO:+0200
TZNAME:CEST
DTSTART:20080330T010000
END:DAYLIGHT
BEGIN:STANDARD
TZOFFSETFROM:+0200
TZOFFSETTO:+0100
TZNAME:CET
DTSTART:20081026T010000
END:STANDARD
BEGIN:DAYLIGHT
TZOFFSETFROM:+0100
TZOFFSETTO:+0200
TZNAME:CEST
DTSTART:20090329T010000
END:DAYLIGHT
BEGIN:STANDARD
TZOFFSETFROM:+0200
TZOFFSETTO:+0100
TZNAME:CET
DTSTART:20091025T010000
END:STANDARD
BEGIN:DAYLIGHT
TZOFFSETFROM:+0100
TZOFFSETTO:+0200
TZNAME:CEST
DTSTART:20100328T010000
END:DAYLIGHT
BEGIN:STANDARD
TZOFFSETFROM:+0200
TZOFFSETTO:+0100
TZNAME:CET
DTSTART:20101031T010000
END:STANDARD
BEGIN:DAYLIGHT
TZOFFSETFROM:+0100
TZOFFSETTO:+0200
TZNAME:CEST
DTSTART:20110327T010000
END:DAYLIGHT
BEGIN:STANDARD
TZOFFSETFROM:+0200
TZOFFSETTO:+0100
TZNAME:CET
DTSTART:20111030T010000
END:STANDARD
BEGIN:DAYLIGHT
TZOFFSETFROM:+0100
TZOFFSETTO:+0200
TZNAME:CEST
DTSTART:20120325T010000
END:DAYLIGHT
BEGIN:STANDARD
TZOFFSETFROM:+0200
TZOFFSETTO:+0100
TZNAME:CET
DTSTART:20121028T010000
END:STANDARD
BEGIN:DAYLIGHT
TZOFFSETFROM:+0100
TZOFFSETTO:+0200
TZNAME:CEST
DTSTART:20130331T010000
END:DAYLIGHT
BEGIN:STANDARD
TZOFFSETFROM:+0200
TZOFFSETTO:+0100
TZNAME:CET
DTSTART:20131027T010000
END:STANDARD
BEGIN:DAYLIGHT
TZOFFSETFROM:+0100
TZOFFSETTO:+0200
TZNAME:CEST
DTSTART:20140330T010000
END:DAYLIGHT
BEGIN:STANDARD
TZOFFSETFROM:+0200
TZOFFSETTO:+0100
TZNAME:CET
DTSTART:20141026T010000
END:STANDARD
BEGIN:DAYLIGHT
TZOFFSETFROM:+0100
TZOFFSETTO:+0200
TZNAME:CEST
DTSTART:20150329T010000
END:DAYLIGHT
BEGIN:STANDARD
TZOFFSETFROM:+0200
TZOFFSETTO:+0100
TZNAME:CET
DTSTART:20151025T010000
END:STANDARD
BEGIN:DAYLIGHT
TZOFFSETFROM:+0100
TZOFFSETTO:+0200
TZNAME:CEST
DTSTART:20160327T010000
END:DAYLIGHT
BEGIN:STANDARD
TZOFFSETFROM:+0200
TZOFFSETTO:+0100
TZNAME:CET
DTSTART:20161030T010000
END:STANDARD
BEGIN:DAYLIGHT
TZOFFSETFROM:+0100
TZOFFSETTO:+0200
TZNAME:CEST
DTSTART:20170326T010000
END:DAYLIGHT
BEGIN:STANDARD
TZOFFSETFROM:+0200
TZOFFSETTO:+0100
TZNAME:CET
DTSTART:20171029T010000
END:STANDARD
BEGIN:DAYLIGHT
TZOFFSETFROM:+0100
TZOFFSETTO:+0200
TZNAME:CEST
DTSTART:20180325T010000
END:DAYLIGHT
BEGIN:STANDARD
TZOFFSETFROM:+0200
TZOFFSETTO:+0100
TZNAME:CET
DTSTART:20181028T010000
END:STANDARD
BEGIN:DAYLIGHT
TZOFFSETFROM:+0100
TZOFFSETTO:+0200
TZNAME:CEST
DTSTART:20190331T010000
END:DAYLIGHT
BEGIN:STANDARD
TZOFFSETFROM:+0200
TZOFFSETTO:+0100
TZNAME:CET
DTSTART:20191027T010000
END:STANDARD
BEGIN:DAYLIGHT
TZOFFSETFROM:+0100
TZOFFSETTO:+0200
TZNAME:CEST
DTSTART:20200329T010000
END:DAYLIGHT
BEGIN:STANDARD
TZOFFSETFROM:+0200
TZOFFSETTO:+0100
TZNAME:CET
DTSTART:20201025T010000
END:STANDARD
BEGIN:DAYLIGHT
TZOFFSETFROM:+0100
TZOFFSETTO:+0200
TZNAME:CEST
DTSTART:20210328T010000
END:DAYLIGHT
BEGIN:STANDARD
TZOFFSETFROM:+0200
TZOFFSETTO:+0100
TZNAME:CET
DTSTART:20211031T010000
END:STANDARD
BEGIN:DAYLIGHT
TZOFFSETFROM:+0100
TZOFFSETTO:+0200
TZNAME:CEST
DTSTART:20220327T010000
END:DAYLIGHT
BEGIN:STANDARD
TZOFFSETFROM:+0200
TZOFFSETTO:+0100
TZNAME:CET
DTSTART:20221030T010000
END:STANDARD
BEGIN:DAYLIGHT
TZOFFSETFROM:+0100
TZOFFSETTO:+0200
TZNAME:CEST
DTSTART:20230326T010000
END:DAYLIGHT
BEGIN:STANDARD
TZOFFSETFROM:+0200
TZOFFSETTO:+0100
TZNAME:CET
DTSTART:20231029T010000
END:STANDARD
BEGIN:DAYLIGHT
TZOFFSETFROM:+0100
TZOFFSETTO:+0200
TZNAME:CEST
DTSTART:20240331T010000
END:DAYLIGHT
BEGIN:STANDARD
TZOFFSETFROM:+0200
TZOFFSETTO:+0100
TZNAME:CET
DTSTART:20241027T010000
END:STANDARD
BEGIN:DAYLIGHT
TZOFFSETFROM:+0100
TZOFFSETTO:+0200
TZNAME:CEST
DTSTART:20250330T010000
END:DAYLIGHT
BEGIN:STANDARD
TZOFFSETFROM:+0200
TZOFFSETTO:+0100
TZNAME:CET
DTSTART:20251026T010000
END:STANDARD
BEGIN:DAYLIGHT
TZOFFSETFROM:+0100
TZOFFSETTO:+0200
TZNAME:CEST
DTSTART:20260329T010000
END:DAYLIGHT
BEGIN:STANDARD
TZOFFSETFROM:+0200
TZOFFSETTO:+0100
TZNAME:CET
DTSTART:20261025T010000
END:STANDARD
BEGIN:DAYLIGHT
TZOFFSETFROM:+0100
TZOFFSETTO:+0200
TZNAME:CEST
DTSTART:20270328T010000
END:DAYLIGHT
BEGIN:STANDARD
TZOFFSETFROM:+0200
TZOFFSETTO:+0100
TZNAME:CET
DTSTART:20271031T010000
END:STANDARD
BEGIN:DAYLIGHT
TZOFFSETFROM:+0100
TZOFFSETTO:+0200
TZNAME:CEST
DTSTART:20280326T010000
END:DAYLIGHT
BEGIN:STANDARD
TZOFFSETFROM:+0200
TZOFFSETTO:+0100
TZNAME:CET
DTSTART:20281029T010000
END:STANDARD
BEGIN:DAYLIGHT
TZOFFSETFROM:+0100
TZOFFSETTO:+0200
TZNAME:CEST
DTSTART:20290325T010000
END:DAYLIGHT
BEGIN:STANDARD
TZOFFSETFROM:+0200
TZOFFSETTO:+0100
TZNAME:CET
DTSTART:20291028T010000
END:STANDARD
BEGIN:DAYLIGHT
TZOFFSETFROM:+0100
TZOFFSETTO:+0200
TZNAME:CEST
DTSTART:20300331T010000
END:DAYLIGHT
BEGIN:STANDARD
TZOFFSETFROM:+0200
TZOFFSETTO:+0100
TZNAME:CET
DTSTART:20301027T010000
END:STANDARD
BEGIN:DAYLIGHT
TZOFFSETFROM:+0100
TZOFFSETTO:+0200
TZNAME:CEST
DTSTART:20310330T010000
END:DAYLIGHT
BEGIN:STANDARD
TZOFFSETFROM:+0200
TZOFFSETTO:+0100
TZNAME:CET
DTSTART:20311026T010000
END:STANDARD
BEGIN:DAYLIGHT
TZOFFSETFROM:+0100
TZOFFSETTO:+0200
TZNAME:CEST
DTSTART:20320328T010000
END:DAYLIGHT
BEGIN:STANDARD
TZOFFSETFROM:+0200
TZOFFSETTO:+0100
TZNAME:CET
DTSTART:20321031T010000
END:STANDARD
BEGIN:DAYLIGHT
TZOFFSETFROM:+0100
TZOFFSETTO:+0200
TZNAME:CEST
DTSTART:20330327T010000
END:DAYLIGHT
BEGIN:STANDARD
TZOFFSETFROM:+0200
TZOFFSETTO:+0100
TZNAME:CET
DTSTART:20331030T010000
END:STANDARD
BEGIN:DAYLIGHT
TZOFFSETFROM:+0100
TZOFFSETTO:+0200
TZNAME:CEST
DTSTART:20340326T010000
END:DAYLIGHT
BEGIN:STANDARD
TZOFFSETFROM:+0200
TZOFFSETTO:+0100
TZNAME:CET
DTSTART:20341029T010000
END:STANDARD
BEGIN:DAYLIGHT
TZOFFSETFROM:+0100
TZOFFSETTO:+0200
TZNAME:CEST
DTSTART:20350325T010000
END:DAYLIGHT
BEGIN:STANDARD
TZOFFSETFROM:+0200
TZOFFSETTO:+0100
TZNAME:CET
DTSTART:20351028T010000
END:STANDARD
BEGIN:DAYLIGHT
TZOFFSETFROM:+0100
TZOFFSETTO:+0200
TZNAME:CEST
DTSTART:20360330T010000
END:DAYLIGHT
BEGIN:STANDARD
TZOFFSETFROM:+0200
TZOFFSETTO:+0100
TZNAME:CET
DTSTART:20361026T010000
END:STANDARD
BEGIN:DAYLIGHT
TZOFFSETFROM:+0100
TZOFFSETTO:+0200
TZNAME:CEST
DTSTART:20370329T010000
END:DAYLIGHT
BEGIN:STANDARD
TZOFFSETFROM:+0200
TZOFFSETTO:+0100
TZNAME:CET
DTSTART:20371025T010000
END:STANDARD
BEGIN:DAYLIGHT
TZOFFSETFROM:+0100
TZOFFSETTO:+0200
TZNAME:CEST
DTSTART:20380328T010000
END:DAYLIGHT
BEGIN:STANDARD
TZOFFSETFROM:+0200
TZOFFSETTO:+0100
TZNAME:CET
DTSTART:20381031T010000
END:STANDARD
BEGIN:DAYLIGHT
TZOFFSETFROM:+0100
TZOFFSETTO:+0200
TZNAME:CEST
DTSTART:20390327T010000
END:DAYLIGHT
BEGIN:STANDARD
TZOFFSETFROM:+0200
TZOFFSETTO:+0100
TZNAME:CET
DTSTART:20391030T010000
END:STANDARD
BEGIN:DAYLIGHT
TZOFFSETFROM:+0100
TZOFFSETTO:+0200
TZNAME:CEST
DTSTART:20400325T010000
END:DAYLIGHT
BEGIN:STANDARD
TZOFFSETFROM:+0200
TZOFFSETTO:+0100
TZNAME:CET
DTSTART:20401028T010000
END:STANDARD
BEGIN:DAYLIGHT
TZOFFSETFROM:+0100
TZOFFSETTO:+0200
TZNAME:CEST
DTSTART:20410331T010000
END:DAYLIGHT
BEGIN:STANDARD
TZOFFSETFROM:+0200
TZOFFSETTO:+0100
TZNAME:CET
DTSTART:20411027T010000
END:STANDARD
BEGIN:DAYLIGHT
TZOFFSETFROM:+0100
TZOFFSETTO:+0200
TZNAME:CEST
DTSTART:20420330T010000
END:DAYLIGHT
BEGIN:STANDARD
TZOFFSETFROM:+0200
TZOFFSETTO:+0100
TZNAME:CET
DTSTART:20421026T010000
END:STANDARD
BEGIN:DAYLIGHT
TZOFFSETFROM:+0100
TZOFFSETTO:+0200
TZNAME:CEST
DTSTART:20430329T010000
END:DAYLIGHT
BEGIN:STANDARD
TZOFFSETFROM:+0200
TZOFFSETTO:+0100
TZNAME:CET
DTSTART:20431025T010000
END:STANDARD
BEGIN:DAYLIGHT
TZOFFSETFROM:+0100
TZOFFSETTO:+0200
TZNAME:CEST
DTSTART:20440327T010000
END:DAYLIGHT
BEGIN:STANDARD
TZOFFSETFROM:+0200
TZOFFSETTO:+0100
TZNAME:CET
DTSTART:20441030T010000
END:STANDARD
BEGIN:DAYLIGHT
TZOFFSETFROM:+0100
TZOFFSETTO:+0200
TZNAME:CEST
DTSTART:20450326T010000
END:DAYLIGHT
BEGIN:STANDARD
TZOFFSETFROM:+0200
TZOFFSETTO:+0100
TZNAME:CET
DTSTART:20451029T010000
END:STANDARD
BEGIN:DAYLIGHT
TZOFFSETFROM:+0100
TZOFFSETTO:+0200
TZNAME:CEST
DTSTART:20460325T010000
END:DAYLIGHT
BEGIN:STANDARD
TZOFFSETFROM:+0200
TZOFFSETTO:+0100
TZNAME:CET
DTSTART:20461028T010000
END:STANDARD
BEGIN:DAYLIGHT
TZOFFSETFROM:+0100
TZOFFSETTO:+0200
TZNAME:CEST
DTSTART:20470331T010000
END:DAYLIGHT
BEGIN:STANDARD
TZOFFSETFROM:+0200
TZOFFSETTO:+0100
TZNAME:CET
DTSTART:20471027T010000
END:STANDARD
BEGIN:DAYLIGHT
TZOFFSETFROM:+0100
TZOFFSETTO:+0200
TZNAME:CEST
DTSTART:20480329T010000
END:DAYLIGHT
BEGIN:STANDARD
TZOFFSETFROM:+0200
TZOFFSETTO:+0100
TZNAME:CET
DTSTART:20481025T010000
END:STANDARD
BEGIN:DAYLIGHT
TZOFFSETFROM:+0100
TZOFFSETTO:+0200
TZNAME:CEST
DTSTART:20490328T010000
END:DAYLIGHT
BEGIN:STANDARD
TZOFFSETFROM:+0200
TZOFFSETTO:+0100
TZNAME:CET
DTSTART:20491031T010000
END:STANDARD
BEGIN:DAYLIGHT
TZOFFSETFROM:+0100
TZOFFSETTO:+0200
TZNAME:CEST
DTSTART:20500327T010000
END:DAYLIGHT
BEGIN:STANDARD
TZOFFSETFROM:+0200
TZOFFSETTO:+0100
TZNAME:CET
DTSTART:20501030T010000
END:STANDARD
BEGIN:DAYLIGHT
TZOFFSETFROM:+0100
TZOFFSETTO:+0200
TZNAME:CEST
DTSTART:20510326T010000
END:DAYLIGHT
BEGIN:STANDARD
TZOFFSETFROM:+0200
TZOFFSETTO:+0100
TZNAME:CET
DTSTART:20511029T010000
END:STANDARD
END:VTIMEZONE
BEGIN:VEVENT
DTSTART;VALUE=DATE:20001222
DTEND;VALUE=DATE:20501223
DTSTAMP:20260421T104551
CREATED:20001023T124853Z
LAST-MODIFIED:20260122T141306Z
UID:135690-977443200-2555366399@www.a3veen.nl
SUMMARY:Kaderrichtlijn Water
DESCRIPTION:Richtlijn 2000/60/EG (Kaderrichtlijn Water) van het Europees Parlement en de Raad van 23 oktober 2000 tot vaststelling van een kader voor communautaire maatregelen betreffende het waterbeleid. \nDe Kaderrichtlijn Water is een Europese richtlijn die voorschrijft dat de waterkwaliteit van de Europese wateren vanaf 2015 aan bepaalde eisen moest voldoen. De richtlijn is sinds 22 december 2000 van kracht voor het waterbeheer\, dat wil zeggen voor het totaal aan activiteiten die tot doel hebben om het grond– en oppervlaktewater zo goed mogelijk te beheren. De oorspronkelijke richtlijn uit 2000 werd nadien nog enkele malen aangepast. Aangezien een stroomgebied zich meestal uitstrekt over meerdere landen is er van elk stroomgebied ook een internationale versie opgesteld. Deze internationale stroombeheergebiedplannen kan men raadplegen op de websites van de diverse secretariaten. Het beheer van een internationaal stroomgebied is per afzonderlijk verdrag geregeld. Het internationale verdrag dat hiervoor het kader vormt is het Verdrag van Helsinki 1992. De Kaderrichtlijn Water (2000/60/EG) beoogde een aantal oude richtlijnen te integreren en vervangen met de bedoeling meer eenheid in de regelgeving van de Europese Unie te brengen. De richtlijn gaat uit van – internationale – stroomgebieden\, soms verder samengevoegd tot stroomgebiedsdistricten. Voor Nederland gaat het om het stroomgebied van respectievelijk Schelde\, Maas\, Rijn en Eems. Voor Vlaanderen gaat het om het stroomgebiedsdistrict van de Schelde (waartoe ook het stroomgebied van de IJzer en de Brugse Polders gerekend worden) en het stroomgebied van de Maas. Hiermee is de zorg voor water per definitie grensoverschrijdend geworden. De richtlijn bepaalt dat de EU-lidstaten voor elk stroomgebied gezamenlijk actieprogramma’s moeten opstellen waarin alle aspecten van water aan de orde moeten komen. Inwoners van die landen moeten meer bij het waterbeheer betrokken worden en de verschillende Europese wetten op het gebied van water moeten beter op elkaar worden afgestemd. Tot 2009 hebben de lidstaten de tijd om hun maatregelenprogramma’s op te stellen. In beginsel moet in 2015 een ‘goede chemische toestand en een goed ecologisch potentieel of een goede ecologische toestand’ zijn bereikt. \nLinks:\nKaderrichtlijn Water \nUitvoering Kaderrichtlijn Water \nKaderrichtlijn Water – RIVM \nHoe staat het met de voortgang van de Kaderrichtlijn Water (KRW) in Nederland? \nNederlandse waterkwaliteit blijft ondermaats\, terwijl EU-deadline nadert
URL:https://www.a3veen.nl/event/kaderrichtlijn-water/
CATEGORIES:EU,Maatschappij,Water
END:VEVENT
BEGIN:VEVENT
DTSTART;VALUE=DATE:20240901
DTEND;VALUE=DATE:20250901
DTSTAMP:20260421T104551
CREATED:20240913T011631Z
LAST-MODIFIED:20240913T132432Z
UID:113118-1725148800-1756684799@www.a3veen.nl
SUMMARY:Water op de Kaart
DESCRIPTION:De campagne ‘Water op de kaart’ van het Nederlands Instituut voor Ecologie (NIOO-KNAW) en de stichting Natuur & Milieu moet een beeld gaan geven van de kwaliteit van water rond een riooloverstort. \nZo’n 40 burgerwetenschappers verspreid over Nederland gaan in hun eigen buurt monsters nemen van de zogenaamde kleine oppervlaktewateren: de sloten of vijvers om de hoek. Dat water blijkt namelijk van niet zo’n goeie kwaliteit. Bij hevige plensbuien\, die in toenemende mate voorkomen\, komt het riool vol met water te zitten en stroomt het over naar omliggende sloten en plassen. Daar zit het probleem. Door die overstort komen stoffen uit het riool als medicijnresten en poep en plas in het oppervlaktewater terecht. Het project ‘Water op de kaart’ is een vervolg op het onderzoek Vang de Watermonsters\, waarbij burgerwetenschappers vijf jaar achter elkaar de waterkwaliteit onderzochten. \nLinks:\nWater op de Kaart \nBurgerwetenschappers gaan jaar lang waterkwaliteit meten
URL:https://www.a3veen.nl/event/water-op-de-kaart/
LOCATION:Nederland\, Nederland
CATEGORIES:Burgerwetenschap,Gifstoffenlozing,kennis,Water
END:VEVENT
BEGIN:VEVENT
DTSTART;VALUE=DATE:20250301
DTEND;VALUE=DATE:20250601
DTSTAMP:20260421T104551
CREATED:20250401T180712Z
LAST-MODIFIED:20250403T190843Z
UID:122733-1740787200-1748735999@www.a3veen.nl
SUMMARY:Stuur een kaart naar Allseas!
DESCRIPTION:Het Nederlandse bedrijf Allseas wil de oceaanbodem plunderen voor het winnen van metalen: samen roepen we Allseas op te stoppen! \nAllseas is een belangrijke aanjager van diepzeemijnbouw\, een beginnende industrie met grote\, schadelijke gevolgen voor de oceanen. Op dit moment is diepzeemijnbouw in internationale wateren nog niet toegestaan\, maar bedrijven zoals Allseas zetten druk op de Internationale Zeebodemautoriteit om diepzeemijnbouw op korte termijn groen licht te geven. In de tussentijd ontwikkelden ze het eerste diepzeemijnbouwschip ter wereld en werken ze aan verdere ontwikkelingen. Honderden experts en wetenschappers waarschuwen echter voor de mogelijk onomkeerbare en grootschalige schade aan de ecosystemen en de biodiversiteit in de diepzee. Samen kunnen we een krachtig signaal sturen naar mijnbouwbedrijven dat de bescherming van onze oceanen een absolute prioriteit is. \nLinks:\nStuur een kaart naar Allseas! \nAgenda – Stop diepzeemijnbouw voor het begint / Stop diepzeemijnbouw : Noorwegen\, zeg NEE tegen diepzeemijnbouw! – petities
URL:https://www.a3veen.nl/event/stuur-een-kaart-naar-allseas/
CATEGORIES:Maatschappij,Natuur,Petitie,Water,Zee
END:VEVENT
BEGIN:VEVENT
DTSTART;VALUE=DATE:20250304
DTEND;VALUE=DATE:20250305
DTSTAMP:20260421T104551
CREATED:20250304T100228Z
LAST-MODIFIED:20250306T101855Z
UID:121259-1741046400-1741132799@www.a3veen.nl
SUMMARY:Toestand van water in natuurgebieden - publicatie
DESCRIPTION:De natuur gaat achteruit door de slechte kwaliteit van het watersysteem\, blijkt uit onderzoek van Natuurmonumenten naar de toestand van het water in elf natuurgebieden. \nVerdroging\, vervuiling\, en verzuring bedreigen kwetsbare planten en dieren\, met ernstige schade als gevolg. De belangrijkste oorzaken voor de achteruitgang zijn te veel afvoer van water\, grondwateronttrekkingen\, uitspoeling van bestrijdingsmiddelen en meststoffen en klimaatverandering. Voor gezonde natuur en het behoud van planten en dieren is voldoende en schoon water cruciaal. Maar ook in Nederland waterland is dat geen vanzelfsprekendheid meer en dat heeft grote gevolgen. Zowel waterkwaliteit als -kwantiteit zijn een belangrijke indicator voor de toestand van de natuur Daarom onderzocht Natuurmonumenten hoe het er voor staat met het oppervlaktewater en het grondwater in elf van haar natuurgebieden verspreid over het land. Volgens de Kaderrichtlijn Water (KRW) moet uiterlijk in 2027 het oppervlakte- en grondwater in goede toestand zijn én blijven. De recente tussenevaluatie KRW maakte al duidelijk dat er nog veel moet gebeuren om waterkwaliteit en -kwantiteit te verbeteren\, maar voldoende concrete maatregelen en aanvullend beleid om de doelen tijdig te bereiken\, ontbreken. Ook de Europese Unie heeft Nederland op de vingers getikt en roept op tot meer ambitieuze en concrete maatregelen. In vrijwel alle onderzochte gebieden zijn de grondwaterstanden te laag\, wat leidt tot verdroging. Waar water ingelaten kan of moet worden\, zorgt dit tot een toename van de inlaat van gebiedsvreemd water dat meestal een minder goede kwaliteit heeft. Op de Brabantse Wal zakken grondwaterstanden zo diep weg in de zomer dat de vennen grotendeels en langdurig droogvallen. Sinds 2018 zijn drijvende waterweegbree en geoorde fuut hier niet meer waargenomen en is ook het aantal dodaarzen afgenomen. Zowel het oppervlakte- als grondwater in veel gebieden bevatten te hoge concentraties nutriënten en chemische verontreinigingendoor uitstroming van meststoffen en lozingen door industrie. \nAchteruitgang van de waterkwaliteit in gebieden zorgt voor een verstoring van het natuurlijke evenwicht waardoor planten achteruitgaan\, met grote gevolgen voor de biodiversiteit. Het Holtingerveld\, leefgebied van vele soorten planten en dieren zoals b.v. fraai hertshooi\, valkruid\, gladde slang\, tapuit en kamsalamander\, staat zwaar onder druk door verzuring\, verdroging en bestrijdingsmiddelen uit de omgeving die tot ver in het gebied worden aangetroffen. Een aantal vlindersoorten zoals het heideblauwtje en heivlinder zijn in recente jaren verdwenen. Voldoende schoon water en natuurherstel gaan hand in hand. In de natuurgebieden is vrijwel al het mogelijke gedaan om waterstanden te verhogen en meer water vast te houden. Voorbeelden daarvan zijn het weer laten meanderen van beken\, dempen van sloten\, verhogen van het waterpeil en de aanleg van waterbuffers. Maar er zijn ook buiten de gebieden structurele maatregelen nodig om het watersysteem te verbeteren. Natuurvriendelijker waterbeheer en regulering van grondwateronttrekkingen is noodzakelijk om verdroging tegen te gaan en natuurlijke kwelstromen te herstellen. Om vervuiling te voorkomen is striktere regulering van vervuilingsbronnen zoals mest- en stikstofemissies nodig. Een robuust\, klimaatbestendig watersysteem waaruit schoon en betaalbaar drinkwater komt is in het belang van natuur en onze gezondheid\, maar ook voor de bouw en de boer. Er is meer ambitie nodig en daadkracht om de KRW-doelen te bereiken. Het is noodzakelijk dat overheden steviger beleid maken waarbij geen instrumenten worden uitgesloten\, met strengere regels voor vervuiling en grondwateronttrekkingen. Alle sectoren moeten én kunnen bijdragen. Een breed gedragen coalitie van bedrijfsleven\, bouw\, gezondheidsorganisaties\, drinkwatersector en natuur- en milieuorganisaties deed in een gezamenlijk watermanifest een voorstel met 10 concrete maatregelen voor het ministerie om te werken aan schoon en voldoende water. Het kan wel\, maar er is geen tijd meer te verliezen. \nLinks:\nAchteruitgang natuur door slechte kwaliteit watersysteem
URL:https://www.a3veen.nl/event/toestand-van-water-in-natuurgebieden-publicatie/
LOCATION:Nederland\, Nederland
CATEGORIES:Natuur,Water
END:VEVENT
BEGIN:VEVENT
DTSTART;VALUE=DATE:20250322
DTEND;VALUE=DATE:20250323
DTSTAMP:20260421T104551
CREATED:20250324T091517Z
LAST-MODIFIED:20250829T095351Z
UID:122222-1742601600-1742687999@www.a3veen.nl
SUMMARY:#WorldWaterDay / #WereldWaterDag / UN #WorldWaterReport – release 2025
DESCRIPTION:World Water Day is an annual UN observance day (always on 22 March) that highlights the importance of freshwater. \nThe day is used to advocate for the sustainable management of freshwater resources. World Water Day is celebrated around the world with a variety of events. These can be educational\, theatrical\, musical or lobbying in nature. The day can also include campaigns to raise money for water projects. The first World Water Day\, designated by the United Nations\, was commemorated in 1993. Each year more and more countries celebrate World Water Day. UN-Water selects a theme for each year\, the theme of World Water Day 2025 is ‘Glacier Preservation’. Glaciers are critical to life – their meltwater is essential for drinking water\, agriculture\, industry\, clean energy production and healthy ecosystems. Rapidly melting glaciers are causing uncertainty to water flows\, with profound impacts on people and the planet. Global reductions in carbon emissions and local strategies to adapt to shrinking glaciers are essential. This World Water Day\, we must work together to put glacier preservation at the core of our plans to tackle climate change and the global water crisis. The UN World Water Development Report is released each year around World Water Day. \nLinks:\nWorldWaterDay \nWorld Day for Glaciers 2025 \n#WorldWaterDay / #WereldWaterDag / UN #WorldWaterReport – release 2025 \n#WorldWaterDay / #WereldWaterDag / UN World Water Development Report release \nDesigning sponge cities with Copernicus Land
URL:https://www.a3veen.nl/event/worldwaterday-wereldwaterdag-un-worldwaterreport-release-2025/
CATEGORIES:Maatschappij,UN,Water
END:VEVENT
END:VCALENDAR