BEGIN:VCALENDAR
VERSION:2.0
PRODID:-//A3veen.nl - ECPv6.15.20//NONSGML v1.0//EN
CALSCALE:GREGORIAN
METHOD:PUBLISH
X-ORIGINAL-URL:https://www.a3veen.nl
X-WR-CALDESC:Evenementen voor A3veen.nl
REFRESH-INTERVAL;VALUE=DURATION:PT1H
X-Robots-Tag:noindex
X-PUBLISHED-TTL:PT1H
BEGIN:VTIMEZONE
TZID:Europe/Amsterdam
BEGIN:DAYLIGHT
TZOFFSETFROM:+0100
TZOFFSETTO:+0200
TZNAME:CEST
DTSTART:20220327T010000
END:DAYLIGHT
BEGIN:STANDARD
TZOFFSETFROM:+0200
TZOFFSETTO:+0100
TZNAME:CET
DTSTART:20221030T010000
END:STANDARD
BEGIN:DAYLIGHT
TZOFFSETFROM:+0100
TZOFFSETTO:+0200
TZNAME:CEST
DTSTART:20230326T010000
END:DAYLIGHT
BEGIN:STANDARD
TZOFFSETFROM:+0200
TZOFFSETTO:+0100
TZNAME:CET
DTSTART:20231029T010000
END:STANDARD
BEGIN:DAYLIGHT
TZOFFSETFROM:+0100
TZOFFSETTO:+0200
TZNAME:CEST
DTSTART:20240331T010000
END:DAYLIGHT
BEGIN:STANDARD
TZOFFSETFROM:+0200
TZOFFSETTO:+0100
TZNAME:CET
DTSTART:20241027T010000
END:STANDARD
BEGIN:DAYLIGHT
TZOFFSETFROM:+0100
TZOFFSETTO:+0200
TZNAME:CEST
DTSTART:20250330T010000
END:DAYLIGHT
BEGIN:STANDARD
TZOFFSETFROM:+0200
TZOFFSETTO:+0100
TZNAME:CET
DTSTART:20251026T010000
END:STANDARD
BEGIN:DAYLIGHT
TZOFFSETFROM:+0100
TZOFFSETTO:+0200
TZNAME:CEST
DTSTART:20260329T010000
END:DAYLIGHT
BEGIN:STANDARD
TZOFFSETFROM:+0200
TZOFFSETTO:+0100
TZNAME:CET
DTSTART:20261025T010000
END:STANDARD
END:VTIMEZONE
BEGIN:VEVENT
DTSTART;TZID=Europe/Amsterdam:20250903T193000
DTEND;TZID=Europe/Amsterdam:20250903T213000
DTSTAMP:20260421T163352
CREATED:20250903T062015Z
LAST-MODIFIED:20251019T145044Z
UID:130100-1756927800-1756935000@www.a3veen.nl
SUMMARY:De prijs van zorg: waartoe leidde twintig jaar marktwerking? (TV webcast)
DESCRIPTION:In 2024 gaf Nederland ruim 110 miljard euro uit aan zorg\, dat is 10 procent van het bruto nationaal product. \nDat bedrag zal de komende decennia fors groeien. Hoe houden we in een vergrijzende samenleving de gezondheidszorg toegankelijk en betaalbaar? Na veel gesteggel sloot het demissionaire kabinet deze zomer een nieuw zorgakkoord. De ambitie is om het personeelstekort en de bureaucratie terug te dringen. Maar grote financiële koerswijzigingen blijven uit. In aanloop naar de Kamerbehandeling van de zorgbegroting bespreken we met intensivist en internist Armand Girbes en hoogleraar Passende zorg Tijn Kool de toekomst van de zorg. Is het twintig jaar nadat de marktwerking in de zorg werd geïntroduceerd en private verzekeraars hun intrede deden tijd voor een nieuw stelsel? \nLinks:\nDe prijs van zorg: waartoe leidde twintig jaar marktwerking? \nNationaal ZorgFonds \nVerkiezingsthema Zorg
URL:https://www.a3veen.nl/event/de-prijs-van-zorg-waartoe-leidde-twintig-jaar-marktwerking-tv-webcast/
LOCATION:De Balie Amsterdam\, Kleine-Gartmanplantsoen 10\, Amsterdam\, Nederland
CATEGORIES:Maatschappij,Medisch,Zorg,Zorgverzekering
END:VEVENT
BEGIN:VEVENT
DTSTART;VALUE=DATE:20250703
DTEND;VALUE=DATE:20250704
DTSTAMP:20260421T163352
CREATED:20250703T073548Z
LAST-MODIFIED:20250703T114522Z
UID:127639-1751500800-1751587199@www.a3veen.nl
SUMMARY:Aanvullend Zorg en Welzijnsakkoord
DESCRIPTION:Tientallen organisaties in zorg en welzijn\, patiënten en cliënten hebben op 3 juli 2025 met het ministerie van Volksgezondheid\, Welzijn en Sport afspraken gemaakt voor zorg en welzijn in de toekomst\, in het Aanvullend Zorg en Welzijnsakkoord (AZWA) is afgesproken dat de zorg toegankelijk wordt gehouden voor iedereen die het nodig heeft. \nOngeacht waar je woont\, of je een kleine of grote portemonnee hebt\, wat je aandoening\, óf wat je leeftijd is. De onderhandelende partijen leggen de afspraken in de komende weken met een positief advies voor aan hun achterbannen. In Nederland staat de zorg voor elkaar op een kritisch punt. Als er niets verandert\, is er straks onvoldoende hulp voor mensen die dit het hardst nodig hebben. We worden met z’n allen steeds ouder. Tegelijkertijd verdubbelt in de komende jaren de groep mensen die ondersteuning en zorg nodig heeft. En het aantal zorgverleners groeit onvoldoende mee. Het moet dus anders. Voor het behoud van kwaliteit van bestaan van hen die het meest afhankelijk zijn van ondersteuning en zorg. Daarom zullen de partijen zich slimmer organiseren en versnellen de goede ontwikkelingen die er al zijn. Daar gaan de afspraken over in het AZWA. De afspraken hangen nauw samen met Hoofdlijnenakkoord Ouderenzorg (HLO)\, waarover eerder al een onderhandelaarsakkoord werd bereikt. \nLinks:\nZorgpartijen en ministerie van VWS sluiten zorgakkoord
URL:https://www.a3veen.nl/event/aanvullend-zorg-en-welzijnsakkoord/
LOCATION:Nederland\, Nederland
CATEGORIES:Maatschappij,Zorg,Zorgverzekering
END:VEVENT
BEGIN:VEVENT
DTSTART;VALUE=DATE:20240312
DTEND;VALUE=DATE:20240313
DTSTAMP:20260421T163352
CREATED:20240312T101603Z
LAST-MODIFIED:20240312T101603Z
UID:104001-1710201600-1710287999@www.a3veen.nl
SUMMARY:NZa treedt op tegen zorgverzekeraars voor niet nakomen zorgplicht - publicatie
DESCRIPTION:De Nederlandse Zorgautoriteit (NZa) legt twee zorgverzekeraars een formele maatregel op voor het niet nakomen van hun zorgplicht. \nDe NZa onderzocht de grootste zorgverzekeraar in vier regio’s met wachttijden boven de Treeknormen voor de geestelijke gezondheidszorg en ziekenhuiszorg. Uit het onderzoek blijkt dat er verbetermogelijkheden zijn voor alle zorgverzekeraars bij het uitvoeren van hun zorgplicht. Bij twee zorgverzekeraars ziet de NZa zulke tekortkomingen dat zij een formele maatregel hebben gekregen. Deze zorgverzekeraars krijgen zes maanden de tijd om dit te verbeteren. Wanneer zij dit onvoldoende oppakken\, kan de NZa de maatregel publiceren. \nLinks:\nNZa treedt op tegen zorgverzekeraars voor niet nakomen zorgplicht
URL:https://www.a3veen.nl/event/nza-treedt-op-tegen-zorgverzekeraars-voor-niet-nakomen-zorgplicht-publicatie/
LOCATION:Nederland\, Nederland
CATEGORIES:Medisch,Zorgverzekering
END:VEVENT
BEGIN:VEVENT
DTSTART;TZID=Europe/Amsterdam:20231025T103000
DTEND;TZID=Europe/Amsterdam:20231025T140000
DTSTAMP:20260421T163352
CREATED:20231020T135032Z
LAST-MODIFIED:20231020T141102Z
UID:97126-1698229800-1698242400@www.a3veen.nl
SUMMARY:Actie Red de Ziekenhuizen!
DESCRIPTION:Steeds meer ziekenhuizen moeten sluiten\, op bevel van zorgverzekeraars. \nEn dat gaat maar door: na Zutphen verdwijnt nu ook ziekenhuiszorg uit Heerlen\, Friesland en deze week kwam er weer nieuws uit Zoetermeer. Het houdt niet op. Het resultaat? Zorg wordt alleen maar slechter én duurder. Help mee: op woensdag 25 oktober 2023 is er een actie bij de Tweede Kamer om de ziekenhuizen te redden. Roep de politiek op om het sluiten van ziekenhuizen te stoppen en om een Nationaal Zorgfonds in te voeren! Kom daarom op 25 oktober om 10.30 naar Den Haag\, ter hoogte van Bezuidenhoutseweg 2 tegenover de Tweede Kamer. Later die dag\, om 14:00 kunnen mensen die dat willen het Commissiedebat over de ziekenhuiszorg in de Tweede Kamer volgen. \nLinks:\nRed de Ziekenhuizen!
URL:https://www.a3veen.nl/event/actie-red-de-ziekenhuizen/
LOCATION:Tweede Kamer\, Binnenhof\, Den Haag\, Nederland
CATEGORIES:Maatschappij,Medisch,Zorgverzekering
END:VEVENT
BEGIN:VEVENT
DTSTART;VALUE=DATE:20230822
DTEND;VALUE=DATE:20251223
DTSTAMP:20260421T163352
CREATED:20230822T130717Z
LAST-MODIFIED:20250801T095848Z
UID:93738-1692662400-1766447999@www.a3veen.nl
SUMMARY:Mondzorg terug in het basispakket - petitie
DESCRIPTION:Zeker 1\,5 miljoen mensen in Nederland gaan vanwege geldgebrek niet\, of te weinig\, naar de tandarts of mondhygiënist. \nDe hulpverleners van Dokters van de Wereld zien dagelijks de schrijnende gevolgen van verwaarloosde mondzorg. Zij doen wat ze kunnen om mensen met pijn te helpen\, maar met alleen noodbehandelingen worden de problemen niet opgelost. Het is volgens Dokters van de Wereld oneerlijk dat je voor bijna ieder pijntje\, ontsteking of ongemak kunt aankloppen bij je huisarts of het ziekenhuis\, behalve voor pijn in je mond. Voor mondzorg moet je je óf extra verzekeren\, of contant afrekenen bij de tandarts. Bijna anderhalf miljoen mensen in Nederland hebben daar het geld niet voor. Daarom doen Dokters van de Wereld middels een petitie een oproep aan de politiek: mondzorg moet terug in het basispakket! \n﻿﻿﻿Links:\nMondzorg terug in het basispakket – petitie \nAgenda – Nationaal ZorgFonds \nTwaalf grote gemeenten willen mondzorg terug in het basispakket
URL:https://www.a3veen.nl/event/mondzorg-terug-in-het-basispakket-petitie/
CATEGORIES:Maatschappij,Petitie,Zorgverzekering
END:VEVENT
BEGIN:VEVENT
DTSTART;VALUE=DATE:20230612
DTEND;VALUE=DATE:20230613
DTSTAMP:20260421T163352
CREATED:20230926T083053Z
LAST-MODIFIED:20230926T083220Z
UID:95547-1686528000-1686614399@www.a3veen.nl
SUMMARY:Actie om de zorgverzekeraar Zilveren Kruis Achmea op te roepen de afbraak van de zorg te stoppen
DESCRIPTION:Tweederde van de jongeren tussen de 18 en 29 jaar mijden zorg of stellen zorg uit om kosten te kunnen besparen\, ze gaan massaal niet meer naar de fysiotherapeut en niet meer naar de tandarts. \nEen Nationaal Zorgfonds zonder eigen risico\, met fysiotherapie en mondzorg in het basispakket – het is harder nodig dan ooit. De afgelopen periode werd weer duidelijk hoe failliet dit zorgsysteem is. De zorg is uit handen gegeven aan de zorgverzekeraars en de zorgverzekeraars breken ondertussen de ziekenhuiszorg af. Door het hele land is de strijd gestart voor het behoud van streekziekenhuizen. Terwijl mensen zorg dichtbij nodig hebben\, vinden zorgverzekeraars de streekziekenhuizen niet ‘rendabel’ genoeg. \nIn Zoetermeer dreigen de afdelingen geboortezorg en de spoedzorg te verdwijnen. En ook het Gelre ziekenhuis in Zutphen wordt slachtoffer van dit systeem. De verloskunde is gesloten\, cardiologie en andere zorg volgt. Zorgverleners zijn samen met bewoners in actie voor behoud van hun ziekenhuis en tegen het besluit van de zorgverzekeraar om de zorg uit te kleden. Het Nationaal Zorgfonds steunt hun strijd van harte. \nWe weten dat verschillende Tweede Kamerleden en de Provinciale Staten van Gelderland zich tegen de afbraak van het Gelre ziekenhuis en andere ziekenhuiszorg hebben uitgesproken en zich verzetten tegen bijvoorbeeld het besluit van Zilveren Kruis Achmea om het Gelre ziekenhuis uit te kleden. We roepen de andere partijen op om dit ook te doen\, en zich uit te spreken vóór een Nationaal Zorgfonds. \nWil je de actievoerders uit Zutphen en Zoetermeer meehelpen voor het behoud van hun ziekenhuis? Op 12 juni is er een actie bij het hoofdkantoor van Zilveren Kruis Achmea. De actievoerders komen daar\, samen met de SP in actie om de zorgverzekeraar op te roepen de afbraak te stoppen. Verzamelen om 14.00 uur bij de vooringang van het treinstation op Leiden Centraal. Samen laten we zien dat het anders kan\, en dat het tijd is voor een Nationaal Zorgfonds. Ben je erbij? \nLinks:\nNationaal ZorgFonds \nDe strijd voor het Nationaal Zorgfonds gaat door \nInformatie over ongecontracteerde zorg schiet tekort\, risico op hoge zorgrekening / Rapport zorgverzekering kiezen
URL:https://www.a3veen.nl/event/actie-om-de-zorgverzekeraar-zilveren-kruis-achmea-op-te-roepen-de-afbraak-van-de-zorg-te-stoppen/
CATEGORIES:Medisch,Zorgverzekering
END:VEVENT
END:VCALENDAR