BEGIN:VCALENDAR
VERSION:2.0
PRODID:-//A3veen.nl - ECPv6.15.20//NONSGML v1.0//EN
CALSCALE:GREGORIAN
METHOD:PUBLISH
X-WR-CALNAME:A3veen.nl
X-ORIGINAL-URL:https://www.a3veen.nl
X-WR-CALDESC:Evenementen voor A3veen.nl
REFRESH-INTERVAL;VALUE=DURATION:PT1H
X-Robots-Tag:noindex
X-PUBLISHED-TTL:PT1H
BEGIN:VTIMEZONE
TZID:Europe/Amsterdam
BEGIN:DAYLIGHT
TZOFFSETFROM:+0100
TZOFFSETTO:+0200
TZNAME:CEST
DTSTART:20240331T010000
END:DAYLIGHT
BEGIN:STANDARD
TZOFFSETFROM:+0200
TZOFFSETTO:+0100
TZNAME:CET
DTSTART:20241027T010000
END:STANDARD
BEGIN:DAYLIGHT
TZOFFSETFROM:+0100
TZOFFSETTO:+0200
TZNAME:CEST
DTSTART:20250330T010000
END:DAYLIGHT
BEGIN:STANDARD
TZOFFSETFROM:+0200
TZOFFSETTO:+0100
TZNAME:CET
DTSTART:20251026T010000
END:STANDARD
BEGIN:DAYLIGHT
TZOFFSETFROM:+0100
TZOFFSETTO:+0200
TZNAME:CEST
DTSTART:20260329T010000
END:DAYLIGHT
BEGIN:STANDARD
TZOFFSETFROM:+0200
TZOFFSETTO:+0100
TZNAME:CET
DTSTART:20261025T010000
END:STANDARD
END:VTIMEZONE
BEGIN:VEVENT
DTSTART;VALUE=DATE:20250723
DTEND;VALUE=DATE:20250724
DTSTAMP:20260422T054430
CREATED:20250723T094149Z
LAST-MODIFIED:20250815T094313Z
UID:129261-1753228800-1753315199@www.a3veen.nl
SUMMARY:Driving a protective allele of the mosquito FREP1 gene to combat malaria - publication
DESCRIPTION:Click picture to read\nMosquitoes can spread a deadly parasite that causes malaria\, experts are using CRISPR to change the mosquito’s genome to stop this spread. \nA team of researchers at University of California\, San Diego\, University of São Paulo\, Johns Hopkins University\, and University of California\, Berkeley\, have discovered a potential new tool in the fight against malaria. The results were described in a paper ‘Driving a protective allele of the mosquito FREP1 gene to combat malaria‘ published in the journal Nature. \nLinks:\nOne Small Genetic Tweak May Stop Mosquitoes from Spreading Malaria
URL:https://www.a3veen.nl/event/driving-a-protective-allele-of-the-mosquito-frep1-gene-to-combat-malaria-publication/
CATEGORIES:Malaria,Medisch
END:VEVENT
END:VCALENDAR