BEGIN:VCALENDAR
VERSION:2.0
PRODID:-//A3veen.nl - ECPv6.15.20//NONSGML v1.0//EN
CALSCALE:GREGORIAN
METHOD:PUBLISH
X-ORIGINAL-URL:https://www.a3veen.nl
X-WR-CALDESC:Evenementen voor A3veen.nl
REFRESH-INTERVAL;VALUE=DURATION:PT1H
X-Robots-Tag:noindex
X-PUBLISHED-TTL:PT1H
BEGIN:VTIMEZONE
TZID:Europe/Amsterdam
BEGIN:DAYLIGHT
TZOFFSETFROM:+0100
TZOFFSETTO:+0200
TZNAME:CEST
DTSTART:20240331T010000
END:DAYLIGHT
BEGIN:STANDARD
TZOFFSETFROM:+0200
TZOFFSETTO:+0100
TZNAME:CET
DTSTART:20241027T010000
END:STANDARD
BEGIN:DAYLIGHT
TZOFFSETFROM:+0100
TZOFFSETTO:+0200
TZNAME:CEST
DTSTART:20250330T010000
END:DAYLIGHT
BEGIN:STANDARD
TZOFFSETFROM:+0200
TZOFFSETTO:+0100
TZNAME:CET
DTSTART:20251026T010000
END:STANDARD
BEGIN:DAYLIGHT
TZOFFSETFROM:+0100
TZOFFSETTO:+0200
TZNAME:CEST
DTSTART:20260329T010000
END:DAYLIGHT
BEGIN:STANDARD
TZOFFSETFROM:+0200
TZOFFSETTO:+0100
TZNAME:CET
DTSTART:20261025T010000
END:STANDARD
END:VTIMEZONE
BEGIN:VEVENT
DTSTART;VALUE=DATE:20250425
DTEND;VALUE=DATE:20250426
DTSTAMP:20260422T105134
CREATED:20250425T125547Z
LAST-MODIFIED:20250815T094908Z
UID:123568-1745539200-1745625599@www.a3veen.nl
SUMMARY:World Malaria Day / Wereld Malaria Dag / World Malaria Report 2025
DESCRIPTION:WHO and partners will mark World Malaria Day by celebrating the achievements of countries that are approaching – and achieving – malaria elimination. \nThey provide inspiration for all nations that are working to stamp out this deadly disease and improve the health and livelihoods of their populations. On World Malaria Day 2025\, WHO joins the RBM Partnership to End Malaria and other partners in promoting “Malaria Ends With Us: Reinvest\, Reimagine\, Reignite”\, a grassroots campaign that aims to re-energize efforts at all levels\, from global policy to community action\, to accelerate progress towards malaria elimination. \nLinks:\nWorld Malaria Day \nZero malaria starts with me \nWorld malaria report 2024 \nCan dogs sniff out malaria? \nDriving a protective allele of the mosquito FREP1 gene to combat malaria – publication
URL:https://www.a3veen.nl/event/world-malaria-day-wereld-malaria-dag-world-malaria-report-2025/
CATEGORIES:Malaria,Medisch
END:VEVENT
END:VCALENDAR