BEGIN:VCALENDAR
VERSION:2.0
PRODID:-//A3veen.nl - ECPv6.15.20//NONSGML v1.0//EN
CALSCALE:GREGORIAN
METHOD:PUBLISH
X-ORIGINAL-URL:https://www.a3veen.nl
X-WR-CALDESC:Evenementen voor A3veen.nl
REFRESH-INTERVAL;VALUE=DURATION:PT1H
X-Robots-Tag:noindex
X-PUBLISHED-TTL:PT1H
BEGIN:VTIMEZONE
TZID:Europe/Amsterdam
BEGIN:DAYLIGHT
TZOFFSETFROM:+0100
TZOFFSETTO:+0200
TZNAME:CEST
DTSTART:20240331T010000
END:DAYLIGHT
BEGIN:STANDARD
TZOFFSETFROM:+0200
TZOFFSETTO:+0100
TZNAME:CET
DTSTART:20241027T010000
END:STANDARD
BEGIN:DAYLIGHT
TZOFFSETFROM:+0100
TZOFFSETTO:+0200
TZNAME:CEST
DTSTART:20250330T010000
END:DAYLIGHT
BEGIN:STANDARD
TZOFFSETFROM:+0200
TZOFFSETTO:+0100
TZNAME:CET
DTSTART:20251026T010000
END:STANDARD
BEGIN:DAYLIGHT
TZOFFSETFROM:+0100
TZOFFSETTO:+0200
TZNAME:CEST
DTSTART:20260329T010000
END:DAYLIGHT
BEGIN:STANDARD
TZOFFSETFROM:+0200
TZOFFSETTO:+0100
TZNAME:CET
DTSTART:20261025T010000
END:STANDARD
END:VTIMEZONE
BEGIN:VEVENT
DTSTART;VALUE=DATE:20250903
DTEND;VALUE=DATE:20251030
DTSTAMP:20260420T082030
CREATED:20251018T112337Z
LAST-MODIFIED:20251018T112706Z
UID:131952-1756857600-1761782399@www.a3veen.nl
SUMMARY:Tijd voor politieke klimaatverandering 🌏 📢- petitie
DESCRIPTION:Het afgelopen jaar hebben we kostbare tijd verloren: in plaats van oplossingen voor het klimaat en de natuur\, zagen we vooral stilstand – en zelfs achteruitgang in politiek Den Haag. \nDe klimaatcrisis verergert\, onze natuur staat onder druk en wij betalen de rekening. De wereld staat in de fik en onder water tegelijk\, maar Den Haag blijft muisstil over het klimaat. Daarom luiden we deze verkiezingen de noodklok. Het is tijd voor politieke klimaatverandering! Maatregelen die de klimaatcrisis écht gaan oplossen: \n\nEerlijk klimaatbeleid\nEen einde aan de fossiele industrie en krimp luchtvaart\nHalvering van de stikstofuitstoot en toekomst voor boeren\nBescherming van de natuur en oceanen\nHet recht op protest\n\nLinks:\nTijd voor politieke klimaatverandering
URL:https://www.a3veen.nl/event/tijd-voor-politieke-klimaatverandering/
CATEGORIES:Energie,Fossiel,Klimaat,Luchtvaart,Maatschappij,Natuur,Petitie,Zee
END:VEVENT
END:VCALENDAR