BEGIN:VCALENDAR
VERSION:2.0
PRODID:-//A3veen.nl - ECPv6.15.20//NONSGML v1.0//EN
CALSCALE:GREGORIAN
METHOD:PUBLISH
X-WR-CALNAME:A3veen.nl
X-ORIGINAL-URL:https://www.a3veen.nl
X-WR-CALDESC:Evenementen voor A3veen.nl
REFRESH-INTERVAL;VALUE=DURATION:PT1H
X-Robots-Tag:noindex
X-PUBLISHED-TTL:PT1H
BEGIN:VTIMEZONE
TZID:Europe/Amsterdam
BEGIN:DAYLIGHT
TZOFFSETFROM:+0100
TZOFFSETTO:+0200
TZNAME:CEST
DTSTART:20230326T010000
END:DAYLIGHT
BEGIN:STANDARD
TZOFFSETFROM:+0200
TZOFFSETTO:+0100
TZNAME:CET
DTSTART:20231029T010000
END:STANDARD
BEGIN:DAYLIGHT
TZOFFSETFROM:+0100
TZOFFSETTO:+0200
TZNAME:CEST
DTSTART:20240331T010000
END:DAYLIGHT
BEGIN:STANDARD
TZOFFSETFROM:+0200
TZOFFSETTO:+0100
TZNAME:CET
DTSTART:20241027T010000
END:STANDARD
BEGIN:DAYLIGHT
TZOFFSETFROM:+0100
TZOFFSETTO:+0200
TZNAME:CEST
DTSTART:20250330T010000
END:DAYLIGHT
BEGIN:STANDARD
TZOFFSETFROM:+0200
TZOFFSETTO:+0100
TZNAME:CET
DTSTART:20251026T010000
END:STANDARD
BEGIN:DAYLIGHT
TZOFFSETFROM:+0100
TZOFFSETTO:+0200
TZNAME:CEST
DTSTART:20260329T010000
END:DAYLIGHT
BEGIN:STANDARD
TZOFFSETFROM:+0200
TZOFFSETTO:+0100
TZNAME:CET
DTSTART:20261025T010000
END:STANDARD
END:VTIMEZONE
BEGIN:VEVENT
DTSTART;VALUE=DATE:20240828
DTEND;VALUE=DATE:20250829
DTSTAMP:20260420T095043
CREATED:20240828T033348Z
LAST-MODIFIED:20260218T210316Z
UID:112372-1724803200-1756425599@www.a3veen.nl
SUMMARY:Vliegtuigen en schepen groen? Klimaatzaak tegen de EU
DESCRIPTION:De Europese Commissie blijft erbij: nieuwe vliegtuigen en cruiseschepen worden als ‘groen’ bestempeld in de taxonomie\, daarom neemt een coalitie van klimaat- en juridische organisaties\, gesteund door mensen uit heel Europa de volgende stap: zij starten een rechtszaak bij het Europese Hof. \nDe organisaties gaan de Europese rechter in Luxemburg vragen om vliegtuigen en schepen die op fossiele brandstoffen draaien te schrappen uit de EU-lijst van duurzame investeringen. Fossielvrij NL begint de rechtszaak samen met medestanders uit Nederland\, België\, Duitsland en Oostenrijk. Ze hadden eerder de Europese Commissie verzocht om de zogeheten ‘taxonomie voor duurzame activiteiten’ aan te passen\, maar het dagelijks bestuur van de EU wees dat verzoek af. \nLinks:\nVliegtuigen en schepen groen? Wij starten een klimaatzaak tegen de EU \nEU: plak geen groen label op vliegtuigen en (cruise)schepen \nGeen groen geld naar vliegtuigen en schepen \nCruiseschepen op LNG ‘schoon’? Stop deze greenwashing / LNG [G]een goed idee – Hoe aanbieders van cruisereizen LNG ten onrechte aanprijzen als een klimaatoplossing – publicatie \nExtinction Rebellion blokkeert sluizen bij IJmuiden tegen aankomst cruiseschip Jewel of the Seas \nFossielvrij NL overhandigt 43.707 handtekeningen én mega-koekoeksei aan Europarlementariërs \nOne week left! Can the EU label airplanes and cruise ships as green?
URL:https://www.a3veen.nl/event/vliegtuigen-en-schepen-groen-klimaatzaak-tegen-de-eu/
CATEGORIES:EU,Klimaat,Luchtvaart,Luchtvaart,Maatschappij,Zeescheepvaart
END:VEVENT
END:VCALENDAR