BEGIN:VCALENDAR
VERSION:2.0
PRODID:-//A3veen.nl - ECPv6.15.20//NONSGML v1.0//EN
CALSCALE:GREGORIAN
METHOD:PUBLISH
X-ORIGINAL-URL:https://www.a3veen.nl
X-WR-CALDESC:Evenementen voor A3veen.nl
REFRESH-INTERVAL;VALUE=DURATION:PT1H
X-Robots-Tag:noindex
X-PUBLISHED-TTL:PT1H
BEGIN:VTIMEZONE
TZID:Europe/Amsterdam
BEGIN:DAYLIGHT
TZOFFSETFROM:+0100
TZOFFSETTO:+0200
TZNAME:CEST
DTSTART:20220327T010000
END:DAYLIGHT
BEGIN:STANDARD
TZOFFSETFROM:+0200
TZOFFSETTO:+0100
TZNAME:CET
DTSTART:20221030T010000
END:STANDARD
BEGIN:DAYLIGHT
TZOFFSETFROM:+0100
TZOFFSETTO:+0200
TZNAME:CEST
DTSTART:20230326T010000
END:DAYLIGHT
BEGIN:STANDARD
TZOFFSETFROM:+0200
TZOFFSETTO:+0100
TZNAME:CET
DTSTART:20231029T010000
END:STANDARD
BEGIN:DAYLIGHT
TZOFFSETFROM:+0100
TZOFFSETTO:+0200
TZNAME:CEST
DTSTART:20240331T010000
END:DAYLIGHT
BEGIN:STANDARD
TZOFFSETFROM:+0200
TZOFFSETTO:+0100
TZNAME:CET
DTSTART:20241027T010000
END:STANDARD
BEGIN:DAYLIGHT
TZOFFSETFROM:+0100
TZOFFSETTO:+0200
TZNAME:CEST
DTSTART:20250330T010000
END:DAYLIGHT
BEGIN:STANDARD
TZOFFSETFROM:+0200
TZOFFSETTO:+0100
TZNAME:CET
DTSTART:20251026T010000
END:STANDARD
END:VTIMEZONE
BEGIN:VEVENT
DTSTART;VALUE=DATE:20230101
DTEND;VALUE=DATE:20250101
DTSTAMP:20260421T070128
CREATED:20231216T180754Z
LAST-MODIFIED:20241108T160136Z
UID:100456-1672531200-1735689599@www.a3veen.nl
SUMMARY:#BanPrivateJets Stop privéjets\, stop onnodige vervuiling - petitie / Stop mega-polluting private jets - petition
DESCRIPTION:Stop privéjets\, stop onnodige vervuiling:\nIedereen moet meedoen om de klimaatcrisis te stoppen\, toch pakken de rijksten onder ons steeds vaker het privévliegtuig. Die onnodige vluchten zijn een ramp voor het klimaat. Laat de overheid privéjets verbieden en kiezen voor onze toekomst. \nStop mega-polluting private jets:\nOnly 1% of people are responsible for 50% of global aviation emissions\, a private jet flight causes 5 to 14 times more CO2 emissions than a regular commercial flight per passenger\, and 150 times more than a high-speed rail trip. If we are to meet Europe’s emission reduction targets\, we need a swift decrease of the emissions of the aviation sector. Right now\, alternatives to fossil fuel powered aviation are not available at a large and accessible scale. By regulating the use of private jets\, as well as encouraging the sector to speed up innovation we can move towards other\, low-carbon modes of travel. Ecological and social aspects of electrification and other ways of powering transport must be at the center of innovation\, to ensure that the transition from fossil fuels (such as extractive activities) is done in the most sustainable way possible. States and other regulators such as the EU should therefore take appropriate measures to discourage highly polluting modes of travel\, and encourage both corporations and individuals to move towards alternative\, low-carbon mobility. Tilt! therefore calls on the EU and its member states to: \n\nSet an EU-wide tax on private jets based on the flight’s climate impact.\nBan fossil fueled private jets from EU airports from 2030 onwards\, with a clear list of exceptions for medical and other emergencies.\n\n\nBan private jets:\nJust 1% of the global population is responsible for half of the world’s aviation emissions. The super rich proudly accelerate the #ClimateCrisis\, showing off their planet-wrecking lifestyle. Let’s stop this reckless behaviour. Private jets are the epitome of social and climate injustice: a supremely privileged minority flying like there’s no tomorrow without any restriction\, while 80% of the global population has never even been on a plane and is most heavily impacted by the climate crisis. Governments need to take a strong stand now! Join us by signing the petition. A private jet flight causes about 10 times more CO2 emissions than a regular flight per flight per person\, and 50 times more than the average train ride. 80% of the world’s population have never flown\, yet they’re the ones most impacted by the climate crisis. In just one hour\, a single private jet can emit two tonnes of CO2. The global average energy-related carbon footprint is around 4.7 tonnes of CO2 per person per year. \n\n   \n\n\n\n\n\n\n\n\n\n\nDit bericht op Instagram bekijken\n\n\n\n\n\n\n\n\n\n\n\n\n\n\n\n\n\n\n\n\n\n\n \nEen bericht gedeeld door NTR Wetenschap (@ntrwetenschap) \n\n\n \nLinks:\nStop privéjets\, stop onnodige vervuiling \nAgenda – Stop mega-polluting private jets – petition \n#MakeThemPay #BanPrivateJets Scientists and climate activists block a private jet terminal at Zaventem airport Brussels \nAgenda – CO2 emissions of private aviation in Europe – publication \nStop mega-polluting private jets\n\nSOS voor het klimaat op Schiphol \nCalls for Taxing Private Jets of the Superrich Are Getting Louder – The math is clear: private jets emit a lot of CO2 \nKlimaatactivisten van de groep Code Rood blokkeren depot van Alibaba aan Luikse luchthaven\, ook 318 actievoerders gearresteerd bij actie aan luchthaven Deurne \nJoin the movement to ban private jets
URL:https://www.a3veen.nl/event/stop-privejets-stop-onnodige-vervuiling-petitie/
CATEGORIES:Klimaat,Luchtvaart
END:VEVENT
BEGIN:VEVENT
DTSTART;TZID=Europe/Amsterdam:20240503T091500
DTEND;TZID=Europe/Amsterdam:20240503T170000
DTSTAMP:20260421T070128
CREATED:20240503T033658Z
LAST-MODIFIED:20240504T141624Z
UID:107353-1714727700-1714755600@www.a3veen.nl
SUMMARY:Extinction Rebellion ketent zich vast in Frequent Flyer Lounge Schiphol
DESCRIPTION:Op vrijdag 3 mei 2024 protesteert Extinction Rebellion in de Frequent Flyer Lounge van KLM op Schiphol. \nEen aantal rebellen heeft zich vastgeketend\, anderen protesteren met banners en flyers. De wetenschap is duidelijk: doorgaan op de ingeslagen weg betekent dat de opwarming van de aarde ver boven de 2 graden uitkomt. Frequent Flyer Programma’s (FFP)\, waaronder dat van KLM\, zijn het symbool van een industrie die weigert de realiteit onder ogen te zien. ​​​KLM moet stoppen met zijn FFP. Marketing en reclame zorgen ervoor dat vliegen een normale en coole bezigheid lijkt\, terwijl de gevolgen ervan desastreus zijn. Dat FFP de grootste vervuilers ook nog eens beloont met gratis vluchten en extra’s is onbegrijpelijk. Onnodige reizen worden gestimuleerd door bijvoorbeeld kilometerritten\, waarbij extra vluchten worden gemaakt om de ledenstatus te bereiken of te behouden. De echte prijs van vliegen wordt niet betaald door frequent flyers\, maar door de hele wereld\, vooral door de mensen die in het Mondiale Zuiden wonen. Het terugdringen van het aantal vliegkilometers door frequent flyers is de meest efficiënte en eerlijke route om de CO2-uitstoot van de luchtvaart terug te dringen. Vliegtuigen zijn weliswaar efficiënter geworden\, maar dit voordeel is tenietgedaan door een extreme groei van het aantal gevlogen kilometers. De sector voorspelt een aanhoudende groei van de vraag. KLM streeft ernaar om in de toekomst op Sustainable Aviation Fuels (SAF) te vliegen. Afgezien van het feit dat SAF niet CO2-neutraal is\, is het erg duur en ontbreekt de infrastructuur om voldoende te produceren. Uit een onlangs in de Tweede Kamer besproken ‘Factsheet toekomst verduurzaming luchtvaart’ blijkt dat technologische oplossingen alleen niet voldoende zijn om de klimaatproblemen bijtijds op te lossen. De enige haalbare oplossing is het inkrimpen van de luchtvaartsector. \n\nVandaag protesteren wij in de Frequent Flyer Lounge van KLM op Schiphol! De wetenschap is duidelijk: we zijn op weg naar minimaal 2 graden opwarming. ​​​KLM moet stoppen met zijn Frequent Flyer Programma! [1/5] pic.twitter.com/GewxsPcbGM \n — Extinction Rebellion Nederland (@NLRebellion) May 3\, 2024 \n \nLinks:\nExtinction Rebellion ketent zich vast in Frequent Flyer Lounge Schiphol
URL:https://www.a3veen.nl/event/extinction-rebellion-ketent-zich-vast-in-frequent-flyer-lounge-schiphol/
CATEGORIES:Amsterdam,Klimaat,Luchtvaart,Schiphol
END:VEVENT
BEGIN:VEVENT
DTSTART;TZID=Europe/Amsterdam:20240518T044500
DTEND;TZID=Europe/Amsterdam:20240518T120000
DTSTAMP:20260421T070128
CREATED:20240518T031737Z
LAST-MODIFIED:20240518T203801Z
UID:108027-1716007500-1716033600@www.a3veen.nl
SUMMARY:Flughafen München stillgelegt / Vliegveld München stilgelegd
DESCRIPTION:Unterstützer:innen der Letzten Generation haben am frühen Samstagmorgen den Luftverkehr des Flughafens München blockiert\, noch vor dem regulären Beginn des Flugverkehrs haben die Protestierenden auf dem Rollfeld Platz genommen und so ein Durchkommen der Maschinen. verhindert. \nDie insgesamt sechs Personen setzten sich gegen 04:45 Uhr in Zweiergruppen an unterschiedlichen Stellen des Münchner Verkehrsflughafens „Franz Josef Strauß“ auf den Asphalt. Die Zufahrten beider Terminals wurden dadurch blockiert. Die Protestierenden hissten ein Banner mit der Aufschrift „Problem ist die Regierung – nicht unser Urlaub“. Ein weiteres Banner im Stil eines gelben Ortsausgangsschilds zeigt den durchgestrichenen Begriff „Flugscham“\, darüber das Ziel: „Regierungsplan“. Die Deutsche Regierung subventioniert die Flugbranche mit jährlich mehr als zwölf Milliarden Euro\, hauptsächlich durch den Verzicht auf eine Kerosin- und eine Mehrwertsteuer. Knapp die Hälfte aller Flugtickets werden somit ausschließlich durch Steuergelder finanziert. Hintergrund des Münchner Flughafenprotests: Der Flugverkehr macht knapp zehn Prozent der deutschen Verantwortung für die Erderhitzung aus. Nach den Corona-Einschränkungen steigen die Emissionen der Luftbranche sowie die Zahl der Flugpassagiere wieder jährlich an. Die Auswirkungen des Flugverkehrs werden zudem schöngerechnet\, indem allein die CO2-Emissionen in den Blick genommen werden. Die klimaschädliche Wirkung von Feinstaub in der Atmosphäre und die weiteren Luftfahrt-Emissionen erhöhen den verursachten Schaden nochmals um das Dreifache. \nLinks:\nFlughafen München stillgelegt \nVliegverkeer München vertraagd door klimaatactivisten
URL:https://www.a3veen.nl/event/flughafen-munchen-stillgelegt/
CATEGORIES:Klimaat,Luchtvaart
END:VEVENT
END:VCALENDAR