BEGIN:VCALENDAR
VERSION:2.0
PRODID:-//A3veen.nl - ECPv6.15.20//NONSGML v1.0//EN
CALSCALE:GREGORIAN
METHOD:PUBLISH
X-WR-CALNAME:A3veen.nl
X-ORIGINAL-URL:https://www.a3veen.nl
X-WR-CALDESC:Evenementen voor A3veen.nl
REFRESH-INTERVAL;VALUE=DURATION:PT1H
X-Robots-Tag:noindex
X-PUBLISHED-TTL:PT1H
BEGIN:VTIMEZONE
TZID:Europe/Amsterdam
BEGIN:DAYLIGHT
TZOFFSETFROM:+0100
TZOFFSETTO:+0200
TZNAME:CEST
DTSTART:20220327T010000
END:DAYLIGHT
BEGIN:STANDARD
TZOFFSETFROM:+0200
TZOFFSETTO:+0100
TZNAME:CET
DTSTART:20221030T010000
END:STANDARD
BEGIN:DAYLIGHT
TZOFFSETFROM:+0100
TZOFFSETTO:+0200
TZNAME:CEST
DTSTART:20230326T010000
END:DAYLIGHT
BEGIN:STANDARD
TZOFFSETFROM:+0200
TZOFFSETTO:+0100
TZNAME:CET
DTSTART:20231029T010000
END:STANDARD
BEGIN:DAYLIGHT
TZOFFSETFROM:+0100
TZOFFSETTO:+0200
TZNAME:CEST
DTSTART:20240331T010000
END:DAYLIGHT
BEGIN:STANDARD
TZOFFSETFROM:+0200
TZOFFSETTO:+0100
TZNAME:CET
DTSTART:20241027T010000
END:STANDARD
BEGIN:DAYLIGHT
TZOFFSETFROM:+0100
TZOFFSETTO:+0200
TZNAME:CEST
DTSTART:20250330T010000
END:DAYLIGHT
BEGIN:STANDARD
TZOFFSETFROM:+0200
TZOFFSETTO:+0100
TZNAME:CET
DTSTART:20251026T010000
END:STANDARD
END:VTIMEZONE
BEGIN:VEVENT
DTSTART;VALUE=DATE:20230101
DTEND;VALUE=DATE:20250101
DTSTAMP:20260421T095846
CREATED:20231216T180754Z
LAST-MODIFIED:20241108T160136Z
UID:100456-1672531200-1735689599@www.a3veen.nl
SUMMARY:#BanPrivateJets Stop privéjets\, stop onnodige vervuiling - petitie / Stop mega-polluting private jets - petition
DESCRIPTION:Stop privéjets\, stop onnodige vervuiling:\nIedereen moet meedoen om de klimaatcrisis te stoppen\, toch pakken de rijksten onder ons steeds vaker het privévliegtuig. Die onnodige vluchten zijn een ramp voor het klimaat. Laat de overheid privéjets verbieden en kiezen voor onze toekomst. \nStop mega-polluting private jets:\nOnly 1% of people are responsible for 50% of global aviation emissions\, a private jet flight causes 5 to 14 times more CO2 emissions than a regular commercial flight per passenger\, and 150 times more than a high-speed rail trip. If we are to meet Europe’s emission reduction targets\, we need a swift decrease of the emissions of the aviation sector. Right now\, alternatives to fossil fuel powered aviation are not available at a large and accessible scale. By regulating the use of private jets\, as well as encouraging the sector to speed up innovation we can move towards other\, low-carbon modes of travel. Ecological and social aspects of electrification and other ways of powering transport must be at the center of innovation\, to ensure that the transition from fossil fuels (such as extractive activities) is done in the most sustainable way possible. States and other regulators such as the EU should therefore take appropriate measures to discourage highly polluting modes of travel\, and encourage both corporations and individuals to move towards alternative\, low-carbon mobility. Tilt! therefore calls on the EU and its member states to: \n\nSet an EU-wide tax on private jets based on the flight’s climate impact.\nBan fossil fueled private jets from EU airports from 2030 onwards\, with a clear list of exceptions for medical and other emergencies.\n\n\nBan private jets:\nJust 1% of the global population is responsible for half of the world’s aviation emissions. The super rich proudly accelerate the #ClimateCrisis\, showing off their planet-wrecking lifestyle. Let’s stop this reckless behaviour. Private jets are the epitome of social and climate injustice: a supremely privileged minority flying like there’s no tomorrow without any restriction\, while 80% of the global population has never even been on a plane and is most heavily impacted by the climate crisis. Governments need to take a strong stand now! Join us by signing the petition. A private jet flight causes about 10 times more CO2 emissions than a regular flight per flight per person\, and 50 times more than the average train ride. 80% of the world’s population have never flown\, yet they’re the ones most impacted by the climate crisis. In just one hour\, a single private jet can emit two tonnes of CO2. The global average energy-related carbon footprint is around 4.7 tonnes of CO2 per person per year. \n\n   \n\n\n\n\n\n\n\n\n\n\nDit bericht op Instagram bekijken\n\n\n\n\n\n\n\n\n\n\n\n\n\n\n\n\n\n\n\n\n\n\n \nEen bericht gedeeld door NTR Wetenschap (@ntrwetenschap) \n\n\n \nLinks:\nStop privéjets\, stop onnodige vervuiling \nAgenda – Stop mega-polluting private jets – petition \n#MakeThemPay #BanPrivateJets Scientists and climate activists block a private jet terminal at Zaventem airport Brussels \nAgenda – CO2 emissions of private aviation in Europe – publication \nStop mega-polluting private jets\n\nSOS voor het klimaat op Schiphol \nCalls for Taxing Private Jets of the Superrich Are Getting Louder – The math is clear: private jets emit a lot of CO2 \nKlimaatactivisten van de groep Code Rood blokkeren depot van Alibaba aan Luikse luchthaven\, ook 318 actievoerders gearresteerd bij actie aan luchthaven Deurne \nJoin the movement to ban private jets
URL:https://www.a3veen.nl/event/stop-privejets-stop-onnodige-vervuiling-petitie/
CATEGORIES:Klimaat,Luchtvaart
END:VEVENT
BEGIN:VEVENT
DTSTART;VALUE=DATE:20240101
DTEND;VALUE=DATE:20240401
DTSTAMP:20260421T095846
CREATED:20240127T235037Z
LAST-MODIFIED:20240828T134553Z
UID:102050-1704067200-1711929599@www.a3veen.nl
SUMMARY:EU: plak geen groen label op vliegtuigen en (cruise)schepen - petitie
DESCRIPTION:Europa heeft een groene lijst\, de taxonomie: pensioenfondsen en banken kunnen daarop zien wat een groene investering is en wat niet. \nZo moet er geld vrijkomen voor klimaatoplossingen\, zoals snelle treinen. Maar de lucht- en scheepvaartlobby heeft de EU bespeeld: nieuwe vliegtuigen en schepen komen ook op de lijst. Zo promoot de EU groei van de lucht- en scheepvaart\, terwijl dat juist een leefbare toekomst om zeep helpt. Als het aan de Europese Unie ligt\, komen de nieuwste vliegtuigen en schepen op hun groene lijst. Zo moedigen ze pensioenfondsen en banken aan om ons geld in een vervuilende\, fossiele vloot te stoppen. Dit is greenwashing op het hoogste niveau. Een coalitie van klimaat- en juridische organisaties en mensen door heel Europa komt in actie en starten een procedure om de Europese Commissie te dwingen opnieuw naar hun besluit te kijken. Schrappen ze vliegtuigen en schepen niet van de lijst? Dan deinzen ze er niet voor terug om een rechtszaak te starten bij het Europees Hof. \nLinks:\nEU: plak geen groen label op vliegtuigen en (cruise)schepen \nGeen groen geld naar vliegtuigen en schepen \nVliegtuigen en schepen groen? Klimaatzaak tegen de EU
URL:https://www.a3veen.nl/event/eu-plak-geen-groen-label-op-vliegtuigen-en-cruiseschepen-petitie/
CATEGORIES:EU,Klimaat,Luchtvaart,Luchtvaart,Maatschappij,Zeescheepvaart
END:VEVENT
BEGIN:VEVENT
DTSTART;TZID=Europe/Amsterdam:20240309T120000
DTEND;TZID=Europe/Amsterdam:20240309T142000
DTSTAMP:20260421T095846
CREATED:20240307T094931Z
LAST-MODIFIED:20240307T094931Z
UID:103711-1709985600-1709994000@www.a3veen.nl
SUMMARY:Massa-actie Maastricht Aachen Airport voor een verbod op privéjets
DESCRIPTION:Maastricht Aachen Airport (MAA)\, verbied privéjets! \nExtinction Rebellion (XR) zal op zaterdag 9 maart 2024\, tijdens de eerste dag van de TEFAF (kunstbeurs in het MECC) in Maastricht\, een massa-actie houden bij MAA voor een verbod op privéjets. MAA faciliteert veel privévluchten\, gemiddeld landen er 3 tot 4 per dag. Tijdens de TEFAF zijn het er zelfs zo’n 200 in een week. Een substantieel deel van de privéjets die vertrekken vanuit MAA zijn ultrakorte vluchten\, zoals naar Amsterdam\, Brussel\, Luik en Eindhoven. Afstanden en bestemmingen die prima per trein te doen zijn. Privéjets zijn elitair en excessief vervuilend\, 5 tot 7 keer meer dan een gemiddelde lijnvlucht. En via de fossiele subsidies dragen wij allen bij aan deze vervuilende hobby van de rijken. Schiphol en Eindhoven Airport hebben al aangekondigd om privéjets te gaan verbieden. Het is bizar dat MAA nog niets wil weten van een verbod op deze vervuilende hobby van de elite. Daarom komt XR in actie en roept op om je aan te sluiten bij deze strijd voor een leefbare aarde. \nLinks:\nMassa-actie Maastricht Aachen Airport voor een verbod op privéjets
URL:https://www.a3veen.nl/event/massa-actie-maastricht-aachen-airport-voor-een-verbod-op-privejets/
CATEGORIES:Klimaat,Luchtvaart,Maatschappij
END:VEVENT
BEGIN:VEVENT
DTSTART;TZID=Europe/Amsterdam:20240323T120000
DTEND;TZID=Europe/Amsterdam:20240323T130000
DTSTAMP:20260421T095846
CREATED:20240323T003658Z
LAST-MODIFIED:20240324T002206Z
UID:104763-1711195200-1711198800@www.a3veen.nl
SUMMARY:Extinction Rebellion en Scientist Rebellion voeren opnieuw actie op Eindhoven Airport en komen met een eisenpakket
DESCRIPTION:Op zaterdag 23 maart 2024 voeren Extinction Rebellion en Scientist Rebellion actie bij Eindhoven Airport omdat er nog steeds niet voldoende maatregelen worden genomen om de omwonenden en het klimaat te beschermen. \nHet aantal vluchten vanaf Eindhoven Airport is jaarlijks 41.500. Recent is weliswaar aangekondigd dat per 2026 dit aantal met 1000 verminderd gaat worden en dat vervuilende vluchten met privéjets dan gaan stoppen\, maar dit is nog steeds onvoldoende. Het is nodig om NU het effect van het vliegveld op de gezondheid van omwonenden en op het klimaat te beperken. Extinction Rebellion en Scientist Rebellion roepen Eindhoven Airport dan ook op: doe wat nodig is en stop per direct met privéjets en halveer het aantal vluchten. Tegelijk moet de Nederlandse overheid alles doen om te komen tot een Europese belasting op kerosine. \n\nToday we join @NLRebellion in blocking @EINairport. Air travel leads to excessive pollution\, affecting both people’s health and our climate. We demand an immediate stop of private jets\, a reduction of all flights by half\, and international taxes on kerosine. #keepthemontheground pic.twitter.com/AMIkYjFKDB \n— Scientist Rebellion Netherlands (@SR_Netherlands) March 23\, 2024 \n \nLinks:\nExtinction Rebellion en Scientist Rebellion voeren opnieuw actie op Eindhoven Airport en komen met een eisenpakket \nBijna honderd mensen opgepakt bij actie XR op Eindhoven Airport
URL:https://www.a3veen.nl/event/extinction-rebellion-en-scientist-rebellion-voeren-opnieuw-actie-op-eindhoven-airport-en-komen-met-een-eisenpakket/
CATEGORIES:Klimaat,Luchtvaart
END:VEVENT
END:VCALENDAR