BEGIN:VCALENDAR
VERSION:2.0
PRODID:-//A3veen.nl - ECPv6.15.20//NONSGML v1.0//EN
CALSCALE:GREGORIAN
METHOD:PUBLISH
X-ORIGINAL-URL:https://www.a3veen.nl
X-WR-CALDESC:Evenementen voor A3veen.nl
REFRESH-INTERVAL;VALUE=DURATION:PT1H
X-Robots-Tag:noindex
X-PUBLISHED-TTL:PT1H
BEGIN:VTIMEZONE
TZID:Europe/Amsterdam
BEGIN:DAYLIGHT
TZOFFSETFROM:+0100
TZOFFSETTO:+0200
TZNAME:CEST
DTSTART:20250330T010000
END:DAYLIGHT
BEGIN:STANDARD
TZOFFSETFROM:+0200
TZOFFSETTO:+0100
TZNAME:CET
DTSTART:20251026T010000
END:STANDARD
BEGIN:DAYLIGHT
TZOFFSETFROM:+0100
TZOFFSETTO:+0200
TZNAME:CEST
DTSTART:20260329T010000
END:DAYLIGHT
BEGIN:STANDARD
TZOFFSETFROM:+0200
TZOFFSETTO:+0100
TZNAME:CET
DTSTART:20261025T010000
END:STANDARD
BEGIN:DAYLIGHT
TZOFFSETFROM:+0100
TZOFFSETTO:+0200
TZNAME:CEST
DTSTART:20270328T010000
END:DAYLIGHT
BEGIN:STANDARD
TZOFFSETFROM:+0200
TZOFFSETTO:+0100
TZNAME:CET
DTSTART:20271031T010000
END:STANDARD
END:VTIMEZONE
BEGIN:VEVENT
DTSTART;VALUE=DATE:20260314
DTEND;VALUE=DATE:20260315
DTSTAMP:20260421T164327
CREATED:20260314T151939Z
LAST-MODIFIED:20260314T154000Z
UID:137989-1773446400-1773532799@www.a3veen.nl
SUMMARY:#Pi dag #PiDay / #idm314 Dag van de Wiskunde / Day of Mathematics / Ask a Question Day / Stel een Vraag Dag / Albert Einstein – geboortedag (1879) / Stephen Hawking – sterfdag (2018) 2026
DESCRIPTION:Op π-dag\, 14 maart\, wordt wereldwijd op verschillende wiskundeafdelingen van universiteiten feest gevierd\, omdat in de Amerikaanse schrijfwijze voor data 14 maart geschreven wordt als 3/14 en de driecijferige benadering voor π 3\,14 is. \nHet getal π\, uitgesproken en soms geschreven als pi\, is een wiskundige constante met in decimale notatie de getalswaarde 3\,141 592 653… Deze waarde is de verhouding van omtrek en diameter van een cirkel. Deze dag wordt op verschillende manieren gevierd. Zo staan sommigen stil bij de rol die π in hun leven gespeeld heeft en proberen zich op humoristische wijze een wereld zonder π voor te stellen. De viering begint gewoonlijk om 13:59 uur (1:59 PM)\, omdat de zescijferige benadering van π 3\,14159 is. Mensen die de 24-uurs klokindeling gebruiken handhaven een ander begin: 1:59 of 15:09. Het “ultieme π-moment” was op 14 maart 1592 om 6:53 en 58 seconden\, omdat dit 3/14/1592 6:53:58 in de Amerikaanse schrijfwijze voor data is. Dit komt overeen met de eerste 12 cijfers van π (3\,14159265358). Op scholen en universiteiten in Amerika begon men een aantal jaren geleden de π-dag te vieren met het eten van taart (in het Engels pie\, ook de letter pi wordt door Engelstaligen zo uitgesproken) of pizza. Of er worden etenswaren gemaakt in de vorm van een π-teken. Ook is er een spel aan verbonden\, kinderen moeten proberen te raden wat het getal van π is met behulp van een cirkel en hun schoen. In oktober 2018 nam de Uitvoerende Raad van Unesco het besluit om 14 maart uit te roepen tot Dag van de wiskunde. Het initiatief om via Unesco een internationale wiskundedag in het leven te roepen komt voort uit het bestuur van de International Mathematical Union (IMU)\, de wereldwijde organisatie voor wiskundigen\, waar vrijwel alle landelijke verenigingen lid van zijn. Ook het Koninklijk Wiskundig Genootschap (KWG)\, de vereniging van Nederlandse wiskundigen\, steunde het voorstel. \nHet is tevens de verjaardag van Albert Einstein (* Ulm\, 14 maart 1879 – + Princeton (New Jersey)\, 18 april 1955)\, een Duits-Zwitsers-Amerikaanse theoretisch natuurkundige. Hij wordt algemeen gezien als een van de belangrijkste natuurkundigen uit de geschiedenis\, naast Isaac Newton en James Clerk Maxwell. In het dagelijks leven is de naam Einstein synoniem geworden met grote intelligentie. \nVerder is het de sterfdag van Stephen William Hawking (* Oxford\, 8 januari 1942 – + Cambridge\, 14 maart 2018) was een Brits natuurkundige\, kosmoloog en wiskundige. Hawking werd geboren op 8 januari 1942 (excact 300 jaar na het overlijden van Galileo). \nLinks:\nPi Day \nAsk a Question Day \nStephen William Hawking CH CBE. 8 January 1942—14 March 2018 (Royal Society) \nNew Proof Solves 80-Year-Old Irrational Number Problem \n4 bizarre Stephen Hawking theories that turned out to be right (and 6 we’re not sure about) \nFamous Einstein equation used to create matter from light for first time \nStephen Hawking and I created his final theory of the cosmos – here’s what it reveals about the origins of time and life
URL:https://www.a3veen.nl/event/pi-dag-piday-idm314-dag-van-de-wiskunde-day-of-mathematics-ask-a-question-day-stel-een-vraag-dag-albert-einstein-geboortedag-1879-stephen-hawking-sterfdag-2026/
CATEGORIES:kennis,Maatschappij,STEM,UN,Wiskunde
END:VEVENT
END:VCALENDAR