BEGIN:VCALENDAR
VERSION:2.0
PRODID:-//A3veen.nl - ECPv6.15.20//NONSGML v1.0//EN
CALSCALE:GREGORIAN
METHOD:PUBLISH
X-ORIGINAL-URL:https://www.a3veen.nl
X-WR-CALDESC:Evenementen voor A3veen.nl
REFRESH-INTERVAL;VALUE=DURATION:PT1H
X-Robots-Tag:noindex
X-PUBLISHED-TTL:PT1H
BEGIN:VTIMEZONE
TZID:Europe/Amsterdam
BEGIN:DAYLIGHT
TZOFFSETFROM:+0100
TZOFFSETTO:+0200
TZNAME:CEST
DTSTART:20220327T010000
END:DAYLIGHT
BEGIN:STANDARD
TZOFFSETFROM:+0200
TZOFFSETTO:+0100
TZNAME:CET
DTSTART:20221030T010000
END:STANDARD
BEGIN:DAYLIGHT
TZOFFSETFROM:+0100
TZOFFSETTO:+0200
TZNAME:CEST
DTSTART:20230326T010000
END:DAYLIGHT
BEGIN:STANDARD
TZOFFSETFROM:+0200
TZOFFSETTO:+0100
TZNAME:CET
DTSTART:20231029T010000
END:STANDARD
BEGIN:DAYLIGHT
TZOFFSETFROM:+0100
TZOFFSETTO:+0200
TZNAME:CEST
DTSTART:20240331T010000
END:DAYLIGHT
BEGIN:STANDARD
TZOFFSETFROM:+0200
TZOFFSETTO:+0100
TZNAME:CET
DTSTART:20241027T010000
END:STANDARD
BEGIN:DAYLIGHT
TZOFFSETFROM:+0100
TZOFFSETTO:+0200
TZNAME:CEST
DTSTART:20250330T010000
END:DAYLIGHT
BEGIN:STANDARD
TZOFFSETFROM:+0200
TZOFFSETTO:+0100
TZNAME:CET
DTSTART:20251026T010000
END:STANDARD
BEGIN:DAYLIGHT
TZOFFSETFROM:+0100
TZOFFSETTO:+0200
TZNAME:CEST
DTSTART:20260329T010000
END:DAYLIGHT
BEGIN:STANDARD
TZOFFSETFROM:+0200
TZOFFSETTO:+0100
TZNAME:CET
DTSTART:20261025T010000
END:STANDARD
BEGIN:DAYLIGHT
TZOFFSETFROM:+0100
TZOFFSETTO:+0200
TZNAME:CEST
DTSTART:20270328T010000
END:DAYLIGHT
BEGIN:STANDARD
TZOFFSETFROM:+0200
TZOFFSETTO:+0100
TZNAME:CET
DTSTART:20271031T010000
END:STANDARD
END:VTIMEZONE
BEGIN:VEVENT
DTSTART;VALUE=DATE:20260314
DTEND;VALUE=DATE:20260315
DTSTAMP:20260421T133253
CREATED:20260314T151939Z
LAST-MODIFIED:20260314T154000Z
UID:137989-1773446400-1773532799@www.a3veen.nl
SUMMARY:#Pi dag #PiDay / #idm314 Dag van de Wiskunde / Day of Mathematics / Ask a Question Day / Stel een Vraag Dag / Albert Einstein – geboortedag (1879) / Stephen Hawking – sterfdag (2018) 2026
DESCRIPTION:Op π-dag\, 14 maart\, wordt wereldwijd op verschillende wiskundeafdelingen van universiteiten feest gevierd\, omdat in de Amerikaanse schrijfwijze voor data 14 maart geschreven wordt als 3/14 en de driecijferige benadering voor π 3\,14 is. \nHet getal π\, uitgesproken en soms geschreven als pi\, is een wiskundige constante met in decimale notatie de getalswaarde 3\,141 592 653… Deze waarde is de verhouding van omtrek en diameter van een cirkel. Deze dag wordt op verschillende manieren gevierd. Zo staan sommigen stil bij de rol die π in hun leven gespeeld heeft en proberen zich op humoristische wijze een wereld zonder π voor te stellen. De viering begint gewoonlijk om 13:59 uur (1:59 PM)\, omdat de zescijferige benadering van π 3\,14159 is. Mensen die de 24-uurs klokindeling gebruiken handhaven een ander begin: 1:59 of 15:09. Het “ultieme π-moment” was op 14 maart 1592 om 6:53 en 58 seconden\, omdat dit 3/14/1592 6:53:58 in de Amerikaanse schrijfwijze voor data is. Dit komt overeen met de eerste 12 cijfers van π (3\,14159265358). Op scholen en universiteiten in Amerika begon men een aantal jaren geleden de π-dag te vieren met het eten van taart (in het Engels pie\, ook de letter pi wordt door Engelstaligen zo uitgesproken) of pizza. Of er worden etenswaren gemaakt in de vorm van een π-teken. Ook is er een spel aan verbonden\, kinderen moeten proberen te raden wat het getal van π is met behulp van een cirkel en hun schoen. In oktober 2018 nam de Uitvoerende Raad van Unesco het besluit om 14 maart uit te roepen tot Dag van de wiskunde. Het initiatief om via Unesco een internationale wiskundedag in het leven te roepen komt voort uit het bestuur van de International Mathematical Union (IMU)\, de wereldwijde organisatie voor wiskundigen\, waar vrijwel alle landelijke verenigingen lid van zijn. Ook het Koninklijk Wiskundig Genootschap (KWG)\, de vereniging van Nederlandse wiskundigen\, steunde het voorstel. \nHet is tevens de verjaardag van Albert Einstein (* Ulm\, 14 maart 1879 – + Princeton (New Jersey)\, 18 april 1955)\, een Duits-Zwitsers-Amerikaanse theoretisch natuurkundige. Hij wordt algemeen gezien als een van de belangrijkste natuurkundigen uit de geschiedenis\, naast Isaac Newton en James Clerk Maxwell. In het dagelijks leven is de naam Einstein synoniem geworden met grote intelligentie. \nVerder is het de sterfdag van Stephen William Hawking (* Oxford\, 8 januari 1942 – + Cambridge\, 14 maart 2018) was een Brits natuurkundige\, kosmoloog en wiskundige. Hawking werd geboren op 8 januari 1942 (excact 300 jaar na het overlijden van Galileo). \nLinks:\nPi Day \nAsk a Question Day \nStephen William Hawking CH CBE. 8 January 1942—14 March 2018 (Royal Society) \nNew Proof Solves 80-Year-Old Irrational Number Problem \n4 bizarre Stephen Hawking theories that turned out to be right (and 6 we’re not sure about) \nFamous Einstein equation used to create matter from light for first time \nStephen Hawking and I created his final theory of the cosmos – here’s what it reveals about the origins of time and life
URL:https://www.a3veen.nl/event/pi-dag-piday-idm314-dag-van-de-wiskunde-day-of-mathematics-ask-a-question-day-stel-een-vraag-dag-albert-einstein-geboortedag-1879-stephen-hawking-sterfdag-2026/
CATEGORIES:kennis,Maatschappij,STEM,UN,Wiskunde
END:VEVENT
BEGIN:VEVENT
DTSTART;VALUE=DATE:20250722
DTEND;VALUE=DATE:20250723
DTSTAMP:20260421T133253
CREATED:20250722T074755Z
LAST-MODIFIED:20250722T074755Z
UID:128242-1753142400-1753228799@www.a3veen.nl
SUMMARY:Pi Approximation Day / Pi-benaderingsdag 2025
DESCRIPTION:Pi Approximation Day is observed every year on July 22 all around the world. \nThe fraction 22/7 is an approximate value of Pi\, and there behind lays a specific reason why this day is observed on July 22. This day is celebrated on July 22 every year because the value of Pi is denoted by the fraction 22/7. Here\, in the fraction 22/7 which denoted Pi\, the numerator 22 symbolizes the date (22nd day of the month) and numerator 7 indicates the month (July). Approximations for the mathematical constant pi (π) in the history of mathematics reached an accuracy within 0.04% of the true value before the beginning of the Common Era. In Chinese mathematics\, this was improved to approximations correct to what corresponds to about seven decimal digits by the 5th century. Further progress was not made until the 14th century\, when Madhava of Sangamagrama developed approximations correct to eleven and then thirteen digits. Jamshīd al-Kāshī achieved sixteen digits next. Early modern mathematicians reached an accuracy of 35 digits by the beginning of the 17th century (Ludolph van Ceulen)\, and 126 digits by the 19th century (Jurij Vega)\, surpassing the accuracy required for any conceivable application outside of pure mathematics. The record of manual approximation of π is held by William Shanks\, who calculated 527 decimals correctly in 1853. Since the middle of the 20th century\, the approximation of π has been the task of electronic digital computers (for a comprehensive account\, see Chronology of computation of π). On June 28\, 2024\, the current record was established by the StorageReview Lab team with Alexander Yee’s y-cruncher with 202 trillion (2.02×1014) digits. \nLinks:\nPi Approximation Day History\, Meaning\, Significance\, other Celebration ideas
URL:https://www.a3veen.nl/event/pi-approximation-day-pi-benaderingsdag-2025/
CATEGORIES:kennis,STEM,Wiskunde
END:VEVENT
BEGIN:VEVENT
DTSTART;VALUE=DATE:20250628
DTEND;VALUE=DATE:20250629
DTSTAMP:20260421T133253
CREATED:20250628T114523Z
LAST-MODIFIED:20250630T114950Z
UID:127418-1751068800-1751155199@www.a3veen.nl
SUMMARY:Tau-Dag / Tau Day 2025
DESCRIPTION:Tau (τ) [/tɑu/] heeft\, in navolging van pi-dag\, ook een eigen dag: tau-dag. \nTau is de 19e letter van het Griekse alfabet\, is in 2010 door fysicus-ondernemer Michael Hartl voorgestelde symbool voor de wiskundige constante tweemaal pi (2π)\, welke constante sinds 2001 wordt gepropageerd door initiatiefnemer Bob Palais (wiskundehoogleraar) en een groep medestanders als vervanging van de cirkelconstante π. Door τ te gebruiken in formules\, in plaats van 2π\, kunnen wiskundige formules worden verkort. Uit de formule voor de omtrek van een cirkel volgt dat een volledige cirkel overeenkomt met τ radialen. \nLinks:\nThe Tau Manifesto \nState of the Tau 2024
URL:https://www.a3veen.nl/event/tau-dag-tau-day-2025/
CATEGORIES:kennis,STEM,Wiskunde
END:VEVENT
BEGIN:VEVENT
DTSTART;VALUE=DATE:20250314
DTEND;VALUE=DATE:20250315
DTSTAMP:20260421T133253
CREATED:20250314T090844Z
LAST-MODIFIED:20250314T092308Z
UID:121678-1741910400-1741996799@www.a3veen.nl
SUMMARY:#Pi dag #PiDay / #idm314 Dag van de Wiskunde / Day of Mathematics / Ask a Question Day / Stel een Vraag Dag / Albert Einstein – geboortedag (1879) / Stephen Hawking – sterfdag (2018) 2025
DESCRIPTION:Op π-dag\, 14 maart\, wordt wereldwijd op verschillende wiskundeafdelingen van universiteiten feest gevierd\, omdat in de Amerikaanse schrijfwijze voor data 14 maart geschreven wordt als 3/14 en de driecijferige benadering voor π 3\,14 is. \nHet getal π\, uitgesproken en soms geschreven als pi\, is een wiskundige constante met in decimale notatie de getalswaarde 3\,141 592 653… Deze waarde is de verhouding van omtrek en diameter van een cirkel. Deze dag wordt op verschillende manieren gevierd. Zo staan sommigen stil bij de rol die π in hun leven gespeeld heeft en proberen zich op humoristische wijze een wereld zonder π voor te stellen. De viering begint gewoonlijk om 13:59 uur (1:59 PM)\, omdat de zescijferige benadering van π 3\,14159 is. Mensen die de 24-uurs klokindeling gebruiken handhaven een ander begin: 1:59 of 15:09. Het “ultieme π-moment” was op 14 maart 1592 om 6:53 en 58 seconden\, omdat dit 3/14/1592 6:53:58 in de Amerikaanse schrijfwijze voor data is. Dit komt overeen met de eerste 12 cijfers van π (3\,14159265358). Op scholen en universiteiten in Amerika begon men een aantal jaren geleden de π-dag te vieren met het eten van taart (in het Engels pie\, ook de letter pi wordt door Engelstaligen zo uitgesproken) of pizza. Of er worden etenswaren gemaakt in de vorm van een π-teken. Ook is er een spel aan verbonden\, kinderen moeten proberen te raden wat het getal van π is met behulp van een cirkel en hun schoen. In oktober 2018 nam de Uitvoerende Raad van Unesco het besluit om 14 maart uit te roepen tot Dag van de wiskunde. Het initiatief om via Unesco een internationale wiskundedag in het leven te roepen komt voort uit het bestuur van de International Mathematical Union (IMU)\, de wereldwijde organisatie voor wiskundigen\, waar vrijwel alle landelijke verenigingen lid van zijn. Ook het Koninklijk Wiskundig Genootschap (KWG)\, de vereniging van Nederlandse wiskundigen\, steunde het voorstel. \nHet is tevens de verjaardag van Albert Einstein (* Ulm\, 14 maart 1879 – + Princeton (New Jersey)\, 18 april 1955)\, een Duits-Zwitsers-Amerikaanse theoretisch natuurkundige. Hij wordt algemeen gezien als een van de belangrijkste natuurkundigen uit de geschiedenis\, naast Isaac Newton en James Clerk Maxwell. In het dagelijks leven is de naam Einstein synoniem geworden met grote intelligentie. \nVerder is het de sterfdag van Stephen William Hawking (* Oxford\, 8 januari 1942 – + Cambridge\, 14 maart 2018) was een Brits natuurkundige\, kosmoloog en wiskundige. Hawking werd geboren op 8 januari 1942 (excact 300 jaar na het overlijden van Galileo). \nLinks:\nPi Day \nAsk a Question Day \nStephen William Hawking CH CBE. 8 January 1942—14 March 2018 (Royal Society) \nNew Proof Solves 80-Year-Old Irrational Number Problem \n4 bizarre Stephen Hawking theories that turned out to be right (and 6 we’re not sure about) \nFamous Einstein equation used to create matter from light for first time \nStephen Hawking and I created his final theory of the cosmos – here’s what it reveals about the origins of time and life
URL:https://www.a3veen.nl/event/pi-dag-piday-idm314-dag-van-de-wiskunde-day-of-mathematics-ask-a-question-day-stel-een-vraag-dag-albert-einstein-geboortedag-1879-stephen-hawking-sterfdag-2018-2025/
CATEGORIES:kennis,STEM,UN,Wiskunde
END:VEVENT
BEGIN:VEVENT
DTSTART;VALUE=DATE:20240722
DTEND;VALUE=DATE:20240723
DTSTAMP:20260421T133253
CREATED:20240722T082946Z
LAST-MODIFIED:20250722T074614Z
UID:111070-1721606400-1721692799@www.a3veen.nl
SUMMARY:Pi Approximation Day / Pi-benaderingsdag 2024
DESCRIPTION:Pi Approximation Day is observed every year on July 22 all around the world. \nThe fraction 22/7 is an approximate value of Pi\, and there behind lays a specific reason why this day is observed on July 22. This day is celebrated on July 22 every year because the value of Pi is denoted by the fraction 22/7. Here\, in the fraction 22/7 which denoted Pi\, the numerator 22 symbolizes the date (22nd day of the month) and numerator 7 indicates the month (July). Approximations for the mathematical constant pi (π) in the history of mathematics reached an accuracy within 0.04% of the true value before the beginning of the Common Era. In Chinese mathematics\, this was improved to approximations correct to what corresponds to about seven decimal digits by the 5th century. Further progress was not made until the 14th century\, when Madhava of Sangamagrama developed approximations correct to eleven and then thirteen digits. Jamshīd al-Kāshī achieved sixteen digits next. Early modern mathematicians reached an accuracy of 35 digits by the beginning of the 17th century (Ludolph van Ceulen)\, and 126 digits by the 19th century (Jurij Vega)\, surpassing the accuracy required for any conceivable application outside of pure mathematics. The record of manual approximation of π is held by William Shanks\, who calculated 527 decimals correctly in 1853. Since the middle of the 20th century\, the approximation of π has been the task of electronic digital computers (for a comprehensive account\, see Chronology of computation of π). On June 28\, 2024\, the current record was established by the StorageReview Lab team with Alexander Yee’s y-cruncher with 202 trillion (2.02×1014) digits. \nLinks:\nPi Approximation Day History\, Meaning\, Significance\, other Celebration ideas
URL:https://www.a3veen.nl/event/pi-approximation-day-pi-benaderingsdag-2024/
CATEGORIES:kennis,STEM,Wiskunde
END:VEVENT
BEGIN:VEVENT
DTSTART;VALUE=DATE:20240628
DTEND;VALUE=DATE:20240629
DTSTAMP:20260421T133253
CREATED:20240628T081109Z
LAST-MODIFIED:20240628T081124Z
UID:109985-1719532800-1719619199@www.a3veen.nl
SUMMARY:Tau-Dag / Tau Day 2024
DESCRIPTION:Tau (τ) [/tɑu/] heeft\, in navolging van pi-dag\, ook een eigen dag: tau-dag. \nTau is de 19e letter van het Griekse alfabet\, is in 2010 door fysicus-ondernemer Michael Hartl voorgestelde symbool voor de wiskundige constante tweemaal pi (2π)\, welke constante sinds 2001 wordt gepropageerd door initiatiefnemer Bob Palais (wiskundehoogleraar) en een groep medestanders als vervanging van de cirkelconstante π. Door τ te gebruiken in formules\, in plaats van 2π\, kunnen wiskundige formules worden verkort. Uit de formule voor de omtrek van een cirkel volgt dat een volledige cirkel overeenkomt met τ radialen. \nLinks:\nThe Tau Manifesto \nState of the Tau 2024
URL:https://www.a3veen.nl/event/tau-dag-tau-day-2024/
CATEGORIES:kennis,Wiskunde
END:VEVENT
BEGIN:VEVENT
DTSTART;TZID=Europe/Amsterdam:20240320T080000
DTEND;TZID=Europe/Amsterdam:20240320T170000
DTSTAMP:20260421T133253
CREATED:20240327T083535Z
LAST-MODIFIED:20240327T084543Z
UID:104945-1710921600-1710954000@www.a3veen.nl
SUMMARY:De Grote Rekendag 2024
DESCRIPTION:De Grote Rekendag wordt elk jaar in het voorjaar georganiseerd\, het is een dag voor groep 1 tot en met 8 die helemaal in het teken staat van rekenen. meer dan duizend basisscholen uit Nederland en Vlaanderen doen mee. \nEen dag van onderzoekend leren en speelse opdrachten. Een dag die laat zien dat rekenen meer is dan alleen sommen maken. Een dag die laat zien hoe leuk rekenen kan zijn. \nLinks:\nDe Grote Rekendag \nReken- en wiskundevaardigheden van veel leerlingen in onderbouw voortgezet onderwijs blijven achter – publicatie
URL:https://www.a3veen.nl/event/de-grote-rekendag-2024/
CATEGORIES:kennis,Wiskunde
END:VEVENT
BEGIN:VEVENT
DTSTART;VALUE=DATE:20240314
DTEND;VALUE=DATE:20240315
DTSTAMP:20260421T133253
CREATED:20240307T211707Z
LAST-MODIFIED:20240307T212426Z
UID:103752-1710374400-1710460799@www.a3veen.nl
SUMMARY:#Pi dag #PiDay / #idm314 Dag van de Wiskunde / Day of Mathematics / Ask a Question Day / Stel een Vraag Dag / Albert Einstein - geboortedag (1879) / Stephen Hawking - sterfdag (2018) 2024
DESCRIPTION:Op π-dag\, 14 maart\, wordt wereldwijd op verschillende wiskundeafdelingen van universiteiten feest gevierd\, omdat in de Amerikaanse schrijfwijze voor data 14 maart geschreven wordt als 3/14 en de driecijferige benadering voor π 3\,14 is. \nHet getal π\, uitgesproken en soms geschreven als pi\, is een wiskundige constante met in decimale notatie de getalswaarde 3\,141 592 653… Deze waarde is de verhouding van omtrek en diameter van een cirkel. Deze dag wordt op verschillende manieren gevierd. Zo staan sommigen stil bij de rol die π in hun leven gespeeld heeft en proberen zich op humoristische wijze een wereld zonder π voor te stellen. De viering begint gewoonlijk om 13:59 uur (1:59 PM)\, omdat de zescijferige benadering van π 3\,14159 is. Mensen die de 24-uurs klokindeling gebruiken handhaven een ander begin: 1:59 of 15:09. \nHet “ultieme π-moment” was op 14 maart 1592 om 6:53 en 58 seconden\, omdat dit 3/14/1592 6:53:58 in de Amerikaanse schrijfwijze voor data is. Dit komt overeen met de eerste 12 cijfers van π (3\,14159265358). Op scholen en universiteiten in Amerika begon men een aantal jaren geleden de π-dag te vieren met het eten van taart (in het Engels pie\, ook de letter pi wordt door Engelstaligen zo uitgesproken) of pizza. Of er worden etenswaren gemaakt in de vorm van een π-teken. Ook is er een spel aan verbonden\, kinderen moeten proberen te raden wat het getal van π is met behulp van een cirkel en hun schoen. \nIn oktober 2018 nam de Uitvoerende Raad van Unesco het besluit om 14 maart uit te roepen tot Dag van de wiskunde. Het initiatief om via Unesco een internationale wiskundedag in het leven te roepen komt voort uit het bestuur van de International Mathematical Union (IMU)\, de wereldwijde organisatie voor wiskundigen\, waar vrijwel alle landelijke verenigingen lid van zijn. Ook het Koninklijk Wiskundig Genootschap (KWG)\, de vereniging van Nederlandse wiskundigen\, steunde het voorstel. \nHet is tevens de verjaardag van Albert Einstein (* Ulm\, 14 maart 1879 – + Princeton (New Jersey)\, 18 april 1955)\, een Duits-Zwitsers-Amerikaanse theoretisch natuurkundige. Hij wordt algemeen gezien als een van de belangrijkste natuurkundigen uit de geschiedenis\, naast Isaac Newton en James Clerk Maxwell. In het dagelijks leven is de naam Einstein synoniem geworden met grote intelligentie. \nVerder is het de sterfdag van Stephen William Hawking (* Oxford\, 8 januari 1942 – + Cambridge\, 14 maart 2018) was een Brits natuurkundige\, kosmoloog en wiskundige. Hawking werd geboren op 8 januari 1942 (excact 300 jaar na het overlijden van Galileo). \nLinks:\nPi Day \nAsk a Question Day \nStephen William Hawking CH CBE. 8 January 1942—14 March 2018 (Royal Society) \nNew Proof Solves 80-Year-Old Irrational Number Problem \nA Brief History of Stephen Hawking \n4 bizarre Stephen Hawking theories that turned out to be right (and 6 we’re not sure about) \nFamous Einstein equation used to create matter from light for first time \nPi (π) Day Celebration with John Sims | Exploratorium \nStephen Hawking and I created his final theory of the cosmos – here’s what it reveals about the origins of time and life 
URL:https://www.a3veen.nl/event/pi-dag-piday-idm314-dag-van-de-wiskunde-day-of-mathematics-ask-a-question-day-stel-een-vraag-dag-albert-einstein-geboortedag-1879-stephen-hawking-sterfdag-2018-2024/
CATEGORIES:kennis,STEM,UN,Wiskunde
END:VEVENT
BEGIN:VEVENT
DTSTART;TZID=Europe/Amsterdam:20230721T080000
DTEND;TZID=Europe/Amsterdam:20230721T170000
DTSTAMP:20260421T133253
CREATED:20230721T214956Z
LAST-MODIFIED:20230721T215046Z
UID:92444-1689926400-1689958800@www.a3veen.nl
SUMMARY:Pi Approximation Day / Pi-benaderingsdag 2023
DESCRIPTION:Pi Approximation Day is observed every year on July 22 all around the world. \nThe fraction 22/7 is an approximate value of Pi\, and there behind lays a specific reason why this day is observed on July 22. This day is celebrated on July 22 every year because the value of Pi is denoted by the fraction 22/7. Here\, in the fraction 22/7 which denoted Pi\, the numerator 22 symbolizes the date (22nd day of the month) and numerator 7 indicates the month (July). \nLinks:\nPi Approximation Day History\, Meaning\, Significance\, other Celebration ideas
URL:https://www.a3veen.nl/event/pi-approximation-day-pi-benaderingsdag-2023/
CATEGORIES:Wiskunde
END:VEVENT
END:VCALENDAR