BEGIN:VCALENDAR
VERSION:2.0
PRODID:-//A3veen.nl - ECPv6.15.20//NONSGML v1.0//EN
CALSCALE:GREGORIAN
METHOD:PUBLISH
X-ORIGINAL-URL:https://www.a3veen.nl
X-WR-CALDESC:Evenementen voor A3veen.nl
REFRESH-INTERVAL;VALUE=DURATION:PT1H
X-Robots-Tag:noindex
X-PUBLISHED-TTL:PT1H
BEGIN:VTIMEZONE
TZID:Europe/Amsterdam
BEGIN:DAYLIGHT
TZOFFSETFROM:+0100
TZOFFSETTO:+0200
TZNAME:CEST
DTSTART:20250330T010000
END:DAYLIGHT
BEGIN:STANDARD
TZOFFSETFROM:+0200
TZOFFSETTO:+0100
TZNAME:CET
DTSTART:20251026T010000
END:STANDARD
BEGIN:DAYLIGHT
TZOFFSETFROM:+0100
TZOFFSETTO:+0200
TZNAME:CEST
DTSTART:20260329T010000
END:DAYLIGHT
BEGIN:STANDARD
TZOFFSETFROM:+0200
TZOFFSETTO:+0100
TZNAME:CET
DTSTART:20261025T010000
END:STANDARD
BEGIN:DAYLIGHT
TZOFFSETFROM:+0100
TZOFFSETTO:+0200
TZNAME:CEST
DTSTART:20270328T010000
END:DAYLIGHT
BEGIN:STANDARD
TZOFFSETFROM:+0200
TZOFFSETTO:+0100
TZNAME:CET
DTSTART:20271031T010000
END:STANDARD
END:VTIMEZONE
BEGIN:VEVENT
DTSTART;VALUE=DATE:20260410
DTEND;VALUE=DATE:20260411
DTSTAMP:20260421T224407
CREATED:20260410T075227Z
LAST-MODIFIED:20260410T075227Z
UID:139132-1775779200-1775865599@www.a3veen.nl
SUMMARY:#10April #InternationalDayOfVolcanoes #JournéeInternationaleDesVolcans #GiornataInternazionaleDeiVulcani #DiaInternacionalDeLosVolcanes – petition 2026
DESCRIPTION:Petition proposing an ‘International Day of Volcanoes’ to be observed officially by the United Nations and we are asking that the U.N. General Assembly please consider a resolution for establishing an ‘International Day of Volcanoes’ on 10th April every year. \nTanguy De Saint-Cyr\, owner of French volcano tour company\, that came up with the concept for an ‘International Day of Volcanoes’ and Jeannie Curtis\, a New Zealand technical writer and educator are proposing an ‘International Day of Volcanoes’ to be officially recognised and observed by the United Nations and ask that the General Assembly please consider a resolution for establishing an ‘International Day of Volcanoes’ on 10th April. The date of 10th April has no recognised international day and we propose this date for the following reason: On 10 April 1815 Gunung (Mount) Tambora in Indonesia erupted and generated massive pyroclastic flows and tsunami that instantly killed 10\,000 locals\, who were unaware of the danger. The massive eruption injected huge amounts of aerosols into the Earth’s stratosphere\, causing a global haze which reflected back the incoming sunlight and cooled our planet by half a degree (celsius). This affected the planet’s climate for three years\, causing crop failure and famine\, resulting in up to 60\,000 more human deaths globally – as well as affecting animals\, fauna and agriculture. Tambora is still the deadliest eruption in recorded history\, and 10th April is a date in which the people of the World can reflect upon an “International Day of Volcanoes’ \nLinks:\nSUPPORT a proposal to United Nations for an ‘International day of Volcanoes’ to be recognised on 10th April \nInternational Day of Volcanoes
URL:https://www.a3veen.nl/event/10april-internationaldayofvolcanoes-journeeinternationaledesvolcans-giornatainternazionaledeivulcani-diainternacionaldelosvolcanes-petition-2026/
CATEGORIES:Geografie,kennis,Maatschappij,Petitie,UN
END:VEVENT
END:VCALENDAR