BEGIN:VCALENDAR
VERSION:2.0
PRODID:-//A3veen.nl - ECPv6.15.20//NONSGML v1.0//EN
CALSCALE:GREGORIAN
METHOD:PUBLISH
X-WR-CALNAME:A3veen.nl
X-ORIGINAL-URL:https://www.a3veen.nl
X-WR-CALDESC:Evenementen voor A3veen.nl
REFRESH-INTERVAL;VALUE=DURATION:PT1H
X-Robots-Tag:noindex
X-PUBLISHED-TTL:PT1H
BEGIN:VTIMEZONE
TZID:Europe/Amsterdam
BEGIN:DAYLIGHT
TZOFFSETFROM:+0100
TZOFFSETTO:+0200
TZNAME:CEST
DTSTART:20220327T010000
END:DAYLIGHT
BEGIN:STANDARD
TZOFFSETFROM:+0200
TZOFFSETTO:+0100
TZNAME:CET
DTSTART:20221030T010000
END:STANDARD
BEGIN:DAYLIGHT
TZOFFSETFROM:+0100
TZOFFSETTO:+0200
TZNAME:CEST
DTSTART:20230326T010000
END:DAYLIGHT
BEGIN:STANDARD
TZOFFSETFROM:+0200
TZOFFSETTO:+0100
TZNAME:CET
DTSTART:20231029T010000
END:STANDARD
BEGIN:DAYLIGHT
TZOFFSETFROM:+0100
TZOFFSETTO:+0200
TZNAME:CEST
DTSTART:20240331T010000
END:DAYLIGHT
BEGIN:STANDARD
TZOFFSETFROM:+0200
TZOFFSETTO:+0100
TZNAME:CET
DTSTART:20241027T010000
END:STANDARD
BEGIN:DAYLIGHT
TZOFFSETFROM:+0100
TZOFFSETTO:+0200
TZNAME:CEST
DTSTART:20250330T010000
END:DAYLIGHT
BEGIN:STANDARD
TZOFFSETFROM:+0200
TZOFFSETTO:+0100
TZNAME:CET
DTSTART:20251026T010000
END:STANDARD
BEGIN:DAYLIGHT
TZOFFSETFROM:+0100
TZOFFSETTO:+0200
TZNAME:CEST
DTSTART:20260329T010000
END:DAYLIGHT
BEGIN:STANDARD
TZOFFSETFROM:+0200
TZOFFSETTO:+0100
TZNAME:CET
DTSTART:20261025T010000
END:STANDARD
BEGIN:DAYLIGHT
TZOFFSETFROM:+0100
TZOFFSETTO:+0200
TZNAME:CEST
DTSTART:20270328T010000
END:DAYLIGHT
BEGIN:STANDARD
TZOFFSETFROM:+0200
TZOFFSETTO:+0100
TZNAME:CET
DTSTART:20271031T010000
END:STANDARD
END:VTIMEZONE
BEGIN:VEVENT
DTSTART;VALUE=DATE:20260418
DTEND;VALUE=DATE:20260419
DTSTAMP:20260421T144821
CREATED:20260418T054224Z
LAST-MODIFIED:20260419T154415Z
UID:139587-1776470400-1776556799@www.a3veen.nl
SUMMARY:#WorldAmateurRadioDay Wereld Amateur Radio Dag 2026
DESCRIPTION:Jaarlijks op 18 april vieren radioamateurs wereldwijd World Amateur Radio Day\, het was namelijk op deze dag in 1925 dat de International Amateur Radio Union (IARU) werd opgericht in Parijs. \nDe IARU behartigt wereldwijd de belangen van radioamateurs en de VERON doet dat voor alle Nederlandse amateurs via de IARU. Radioamateurs toonden als eersten aan dat het korte golfspectrum bepaald geen waardeloos stuk radiospectrum is. Integendeel\, zo bleek\, op de korte golf is wereldwijde propagatie van radiosignalen mogelijk. In alle haast om de korte golf commercieel te gaan gebruiken\, dreigden radioamateurs volledig buitengesloten te worden. Mede daarom richtten enkele radiopioniers in 1925 de IARU op. Twee jaar later\, op de International Radiotelegrapgh Conference\, kregen radioamateurs toegang tot de 10m-\, 20m-\, 40m-\, 80m- en 160m-band. Tot de dag van vandaag mogen de inmiddels 3.000.000 gelicentieerde radioamateurs deze frequentiebanden gebruiken. En behartigt de IARU wereldwijd nog steeds de belangen van radioamateurs.\n\nLinks:\nWorld Amateur Radio Day is April 18
URL:https://www.a3veen.nl/event/worldamateurradioday-wereld-amateur-radio-dag-2026/
CATEGORIES:Electronica
END:VEVENT
BEGIN:VEVENT
DTSTART;VALUE=DATE:20250912
DTEND;VALUE=DATE:20250913
DTSTAMP:20260421T144821
CREATED:20250911T222229Z
LAST-MODIFIED:20250912T082707Z
UID:130463-1757635200-1757721599@www.a3veen.nl
SUMMARY:Eerste IC -chip- gepresenteerd (1958) 2025
DESCRIPTION:CC BY-SA 3.0\nEen geïntegreerde schakeling (van het Engelse integrated circuit\, IC) oftewel een monolithische geïntegreerde schakeling is een samenstel van verschillende elektronische componenten (zoals transistors) op een enkel stuk halfgeleidermateriaal\, bij grotere IC’s spreekt men wel van chip of microchip. \nIC’s zijn tegenwoordig in bijna alle elektrische toestellen van enige complexiteit (computers\, mobiele telefoons\, wasmachines\, auto’s) aanwezig. Ook is een microchip aanwezig in een betaalkaart\, de OV-chipkaart en in transponders die gebruikt worden om huisdieren te kunnen identificeren. De eerste werkende geïntegreerde schakeling werd op 12 september 1958 door Jack Kilby van Texas Instruments gepresenteerd. Vier maanden later deed Robert Noyce van Fairchild Semiconductor een soortgelijke uitvinding. Hoewel Noyce later was dan Kilby werd de patentenstrijd uiteindelijk in 1969 in het voordeel van Noyce beslist. De uitvinding van de geïntegreerde schakeling heeft een vergaande miniaturisatie van alle elektronische apparatuur mogelijk gemaakt. De technologische vooruitgang van geïntegreerde schakelingen houdt zich al tientallen jaren aan de Wet van Moore. \nLinks:\nChip Directory
URL:https://www.a3veen.nl/event/eerste-ic-chip-gepresenteerd-1958-2025/
CATEGORIES:Electronica,kennis
END:VEVENT
BEGIN:VEVENT
DTSTART;VALUE=DATE:20240912
DTEND;VALUE=DATE:20240913
DTSTAMP:20260421T144821
CREATED:20240912T073900Z
LAST-MODIFIED:20240912T075011Z
UID:113004-1726099200-1726185599@www.a3veen.nl
SUMMARY:Eerste IC -chip- gepresenteerd (1958) 2024
DESCRIPTION:CC BY-SA 3.0\nEen geïntegreerde schakeling (van het Engelse integrated circuit\, IC) oftewel een monolithische geïntegreerde schakeling is een samenstel van verschillende elektronische componenten (zoals transistors) op een enkel stuk halfgeleidermateriaal\, bij grotere IC’s spreekt men wel van chip of microchip. \nIC’s zijn tegenwoordig in bijna alle elektrische toestellen van enige complexiteit (computers\, mobiele telefoons\, wasmachines\, auto’s) aanwezig. Ook is een microchip aanwezig in een betaalkaart\, de OV-chipkaart en in transponders die gebruikt worden om huisdieren te kunnen identificeren. De eerste werkende geïntegreerde schakeling werd op 12 september 1958 door Jack Kilby van Texas Instruments gepresenteerd. Vier maanden later deed Robert Noyce van Fairchild Semiconductor een soortgelijke uitvinding. Hoewel Noyce later was dan Kilby werd de patentenstrijd uiteindelijk in 1969 in het voordeel van Noyce beslist. De uitvinding van de geïntegreerde schakeling heeft een vergaande miniaturisatie van alle elektronische apparatuur mogelijk gemaakt. De technologische vooruitgang van geïntegreerde schakelingen houdt zich al tientallen jaren aan de Wet van Moore. \nLinks:\nChip Directory
URL:https://www.a3veen.nl/event/eerste-ic-chip-gepresenteerd-1958-2024/
CATEGORIES:Electronica,kennis
END:VEVENT
BEGIN:VEVENT
DTSTART;VALUE=DATE:20230912
DTEND;VALUE=DATE:20230913
DTSTAMP:20260421T144821
CREATED:20230912T083937Z
LAST-MODIFIED:20240912T074746Z
UID:94747-1694476800-1694563199@www.a3veen.nl
SUMMARY:Eerste IC -chip- gepresenteerd (1958) 2023
DESCRIPTION:CC BY-SA 3.0\nEen geïntegreerde schakeling (van het Engelse integrated circuit\, IC) oftewel een monolithische geïntegreerde schakeling is een samenstel van verschillende elektronische componenten (zoals transistors) op een enkel stuk halfgeleidermateriaal\, bij grotere IC’s spreekt men wel van chip of microchip. \nIC’s zijn tegenwoordig in bijna alle elektrische toestellen van enige complexiteit (computers\, mobiele telefoons\, wasmachines\, auto’s) aanwezig. Ook is een microchip aanwezig in een betaalkaart\, de OV-chipkaart en in transponders die gebruikt worden om huisdieren te kunnen identificeren. De eerste werkende geïntegreerde schakeling werd op 12 september 1958 door Jack Kilby van Texas Instruments gepresenteerd. Vier maanden later deed Robert Noyce van Fairchild Semiconductor een soortgelijke uitvinding. Hoewel Noyce later was dan Kilby werd de patentenstrijd uiteindelijk in 1969 in het voordeel van Noyce beslist. De uitvinding van de geïntegreerde schakeling heeft een vergaande miniaturisatie van alle elektronische apparatuur mogelijk gemaakt. De technologische vooruitgang van geïntegreerde schakelingen houdt zich al tientallen jaren aan de Wet van Moore. \nLinks:\nChip Directory
URL:https://www.a3veen.nl/event/eerste-ic-chip-gepresenteerd-1958-2023/
CATEGORIES:Electronica,kennis
END:VEVENT
END:VCALENDAR