BEGIN:VCALENDAR
VERSION:2.0
PRODID:-//A3veen.nl - ECPv6.15.20//NONSGML v1.0//EN
CALSCALE:GREGORIAN
METHOD:PUBLISH
X-ORIGINAL-URL:https://www.a3veen.nl
X-WR-CALDESC:Evenementen voor A3veen.nl
REFRESH-INTERVAL;VALUE=DURATION:PT1H
X-Robots-Tag:noindex
X-PUBLISHED-TTL:PT1H
BEGIN:VTIMEZONE
TZID:Europe/Amsterdam
BEGIN:DAYLIGHT
TZOFFSETFROM:+0100
TZOFFSETTO:+0200
TZNAME:CEST
DTSTART:20250330T010000
END:DAYLIGHT
BEGIN:STANDARD
TZOFFSETFROM:+0200
TZOFFSETTO:+0100
TZNAME:CET
DTSTART:20251026T010000
END:STANDARD
BEGIN:DAYLIGHT
TZOFFSETFROM:+0100
TZOFFSETTO:+0200
TZNAME:CEST
DTSTART:20260329T010000
END:DAYLIGHT
BEGIN:STANDARD
TZOFFSETFROM:+0200
TZOFFSETTO:+0100
TZNAME:CET
DTSTART:20261025T010000
END:STANDARD
BEGIN:DAYLIGHT
TZOFFSETFROM:+0100
TZOFFSETTO:+0200
TZNAME:CEST
DTSTART:20270328T010000
END:DAYLIGHT
BEGIN:STANDARD
TZOFFSETFROM:+0200
TZOFFSETTO:+0100
TZNAME:CET
DTSTART:20271031T010000
END:STANDARD
END:VTIMEZONE
BEGIN:VEVENT
DTSTART;VALUE=DATE:20260321
DTEND;VALUE=DATE:20260322
DTSTAMP:20260422T000408
CREATED:20260321T165852Z
LAST-MODIFIED:20260331T155924Z
UID:138794-1774051200-1774137599@www.a3veen.nl
SUMMARY:The data heat island effect: quantifying the impact of AI data centers in a warming world - publication
DESCRIPTION:The strong and continuous increase of AI-based services leads to the steady proliferation of AI data centres worldwide with the unavoidable escalation of their power consumption\, it is unknown how this energy demand for computational purposes will impact the surrounding environment\, scientists report in the paper ‘The data heat island effect: quantifying the impact of AI data centers in a warming world‘. \nData centres built to power AIs produce so much heat that they can raise the surface temperature of the land around them by several degrees – creating so-called data centre heat islands that may already be affecting up to 340 million people. The number of data centres built around the world is forecast to rise enormously\, data centre capacity will double between 2025 and 2030 – with AI expected to account for half that demand. Andrea Marinoni at the University of Cambridge\, UK\, and his colleagues saw that the amount of energy needed to run a data centre had been steadily increasing of late and was likely to “explode” in the coming years\, so wanted to quantify the impact. The researchers took satellite measurements of land surface temperatures over the past 20 years and cross-referenced them against the geographical coordinates of more than 8400 AI data centres. Recognising that surface temperature could be affected by other factors\, the researchers chose to focus their investigation on data centres located away from densely populated areas. They discovered that land surface temperatures increased by an average of 2°C in the months after an AI data centre started operations. In the most extreme cases\, the increase in temperature was 9.1°C. The effect wasn’t limited to the immediate surroundings of the data centres: the team found increased temperatures up to 10 kilometres away. Seven kilometres away\, there was only a 30 per cent reduction in the intensity. Using population data\, the researchers estimate that more than 340 million people live within 10 kilometres of data centres\, so live in a place that is warmer than it would be if the data centre hadn’t been built there. Marinoni says that areas including the Bajío region in Mexico and the Aragon province in Spain saw a 2°C temperature increase in the 20 years between 2004 and 2024 that couldn’t otherwise be explained. Chris Preist at the University of Bristol\, UK\, says the results may be more nuanced than they first appear\, suggesting that the building being heated by sunlight may be part of the effect. Either way\, the data centre is still increasing the ground temperature\, says Marinoni. \nLinks:\nAI data centres can warm surrounding areas by up to 9.1°C
URL:https://www.a3veen.nl/event/the-data-heat-island-effect-quantifying-the-impact-of-ai-data-centers-in-a-warming-world-publication/
CATEGORIES:AI,Bibliotheek,IT,kennis
END:VEVENT
END:VCALENDAR