BEGIN:VCALENDAR
VERSION:2.0
PRODID:-//A3veen.nl - ECPv6.15.20//NONSGML v1.0//EN
CALSCALE:GREGORIAN
METHOD:PUBLISH
X-ORIGINAL-URL:https://www.a3veen.nl
X-WR-CALDESC:Evenementen voor A3veen.nl
REFRESH-INTERVAL;VALUE=DURATION:PT1H
X-Robots-Tag:noindex
X-PUBLISHED-TTL:PT1H
BEGIN:VTIMEZONE
TZID:Europe/Amsterdam
BEGIN:DAYLIGHT
TZOFFSETFROM:+0100
TZOFFSETTO:+0200
TZNAME:CEST
DTSTART:20170326T010000
END:DAYLIGHT
BEGIN:STANDARD
TZOFFSETFROM:+0200
TZOFFSETTO:+0100
TZNAME:CET
DTSTART:20171029T010000
END:STANDARD
BEGIN:DAYLIGHT
TZOFFSETFROM:+0100
TZOFFSETTO:+0200
TZNAME:CEST
DTSTART:20180325T010000
END:DAYLIGHT
BEGIN:STANDARD
TZOFFSETFROM:+0200
TZOFFSETTO:+0100
TZNAME:CET
DTSTART:20181028T010000
END:STANDARD
BEGIN:DAYLIGHT
TZOFFSETFROM:+0100
TZOFFSETTO:+0200
TZNAME:CEST
DTSTART:20190331T010000
END:DAYLIGHT
BEGIN:STANDARD
TZOFFSETFROM:+0200
TZOFFSETTO:+0100
TZNAME:CET
DTSTART:20191027T010000
END:STANDARD
BEGIN:DAYLIGHT
TZOFFSETFROM:+0100
TZOFFSETTO:+0200
TZNAME:CEST
DTSTART:20200329T010000
END:DAYLIGHT
BEGIN:STANDARD
TZOFFSETFROM:+0200
TZOFFSETTO:+0100
TZNAME:CET
DTSTART:20201025T010000
END:STANDARD
BEGIN:DAYLIGHT
TZOFFSETFROM:+0100
TZOFFSETTO:+0200
TZNAME:CEST
DTSTART:20210328T010000
END:DAYLIGHT
BEGIN:STANDARD
TZOFFSETFROM:+0200
TZOFFSETTO:+0100
TZNAME:CET
DTSTART:20211031T010000
END:STANDARD
BEGIN:DAYLIGHT
TZOFFSETFROM:+0100
TZOFFSETTO:+0200
TZNAME:CEST
DTSTART:20220327T010000
END:DAYLIGHT
BEGIN:STANDARD
TZOFFSETFROM:+0200
TZOFFSETTO:+0100
TZNAME:CET
DTSTART:20221030T010000
END:STANDARD
BEGIN:DAYLIGHT
TZOFFSETFROM:+0100
TZOFFSETTO:+0200
TZNAME:CEST
DTSTART:20230326T010000
END:DAYLIGHT
BEGIN:STANDARD
TZOFFSETFROM:+0200
TZOFFSETTO:+0100
TZNAME:CET
DTSTART:20231029T010000
END:STANDARD
BEGIN:DAYLIGHT
TZOFFSETFROM:+0100
TZOFFSETTO:+0200
TZNAME:CEST
DTSTART:20240331T010000
END:DAYLIGHT
BEGIN:STANDARD
TZOFFSETFROM:+0200
TZOFFSETTO:+0100
TZNAME:CET
DTSTART:20241027T010000
END:STANDARD
BEGIN:DAYLIGHT
TZOFFSETFROM:+0100
TZOFFSETTO:+0200
TZNAME:CEST
DTSTART:20250330T010000
END:DAYLIGHT
BEGIN:STANDARD
TZOFFSETFROM:+0200
TZOFFSETTO:+0100
TZNAME:CET
DTSTART:20251026T010000
END:STANDARD
BEGIN:DAYLIGHT
TZOFFSETFROM:+0100
TZOFFSETTO:+0200
TZNAME:CEST
DTSTART:20260329T010000
END:DAYLIGHT
BEGIN:STANDARD
TZOFFSETFROM:+0200
TZOFFSETTO:+0100
TZNAME:CET
DTSTART:20261025T010000
END:STANDARD
BEGIN:DAYLIGHT
TZOFFSETFROM:+0100
TZOFFSETTO:+0200
TZNAME:CEST
DTSTART:20270328T010000
END:DAYLIGHT
BEGIN:STANDARD
TZOFFSETFROM:+0200
TZOFFSETTO:+0100
TZNAME:CET
DTSTART:20271031T010000
END:STANDARD
END:VTIMEZONE
BEGIN:VEVENT
DTSTART;TZID=Europe/Amsterdam:20260303T120500
DTEND;TZID=Europe/Amsterdam:20260303T130400
DTSTAMP:20260421T150654
CREATED:20260116T061259Z
LAST-MODIFIED:20260227T174833Z
UID:135473-1772539500-1772543040@www.a3veen.nl
SUMMARY:Totale maansverduistering op 3 maart 2026
DESCRIPTION:Op dinsdag 3 maart 2026 vindt een totale maansverduistering plaats\, hierbij beweegt de Maan zich door de schaduw van de Aarde\, zodat er geen direct zonlicht meer op het maanoppervlak valt en de hele Maan veel donkerder is dan normaal. \nDe eclips is in Europa helaas onzichtbaar. De verduistering heeft een grootte van 1.15 in de kernschaduw. Een totale maansverduistering kan erg indrukwekkend zijn. Tijdens de totaliteit\, die duurt van 12:05 tot 13:04\, bevindt de Maan zich volledig in de kernschaduw van de Aarde en valt er geen direct zonlicht meer op de Maan. Echter\, een beetje zonlicht valt door de aardatmosfeer en wordt gebroken\, waardoor dit het maanoppervlak alsnog kan bereiken. Dit is met name rood licht\, waardoor er een rode gloed over de Maan komt\, deze fase wordt in de volksmond ook wel Bloedmaan genoemd\, en duurt bij deze eclips circa 59 minuten. Een maansverduistering doet zich voor wanneer de Zon\, de Aarde en de Maan op één lijn staan (met de aarde in het midden)\, oftewel als zon en maan in oppositie staan. Normaal weerkaatst de Maan het licht van de zon naar de aarde\, maar tijdens een maansverduistering staat de aarde in de weg en ontvangt de maan geen zonlicht: de maan bevindt zich in de schaduw van de aarde en wordt dus donker\, ofwel verduisterd. Maansverduisteringen treden in een patroon op. Deze zogenaamde Saros-cyclus herhaalt zich elke 18 jaar. \nLinks:\nTotale maansverduistering op 3 maart 2026 \nHow to observe the March 3 total lunar eclipse
URL:https://www.a3veen.nl/event/totale-maansverduistering-op-3-maart-2026/
CATEGORIES:Astronomie,Maan,Zon
END:VEVENT
BEGIN:VEVENT
DTSTART;VALUE=DATE:20251112
DTEND;VALUE=DATE:20251113
DTSTAMP:20260421T150654
CREATED:20251111T085325Z
LAST-MODIFIED:20251113T134124Z
UID:133142-1762905600-1762991999@www.a3veen.nl
SUMMARY:Geomagnetic Storm G4 (Severe)
DESCRIPTION:The National Oceanographic Atmospheric Administration (NOAA) reported that there are three CMEs heading towards Earth from the Sun. \nNOAA measures the strength of these storms and says that there is chance of a Severe G4 geomagnetic storm being triggered especially on Wednesday 11 into Thursday 12 November 2025. Geomagnetic storms are dangerous for astronauts\, but not harmful to humans as Earth’s atmosphere protects us from the radiation\, but can sometimes disrupt satellites and also different forms of electronic devices\, such as phones. This storm is classed as a rare KP8. The KP index is an alternative measure of geomagnetic activity extending from KP1 to KP9. G4 (Severe) storm levels reached on 12 November at 01:20 UTC. \nLinks:\nG4 (Severe) Watch in Effect for 12 November \nNoorderlichtkans 11-12 november 2025 \nG4 (Severe) storm levels reached on 12 November at 0120 UTC \nStormachtig ruimteweer door uitbarstingen op de zon  \nSolar cycle 25
URL:https://www.a3veen.nl/event/geomagnetic-storm-g4-severe-potential/
CATEGORIES:Astronomie,Zon
END:VEVENT
BEGIN:VEVENT
DTSTART;VALUE=DATE:20250923
DTEND;VALUE=DATE:20250924
DTSTAMP:20260421T150654
CREATED:20250823T004219Z
LAST-MODIFIED:20250823T204611Z
UID:129644-1758585600-1758671999@www.a3veen.nl
SUMMARY:Space Weather Follow On-Lagrange 1
DESCRIPTION:Space Weather Follow On-Lagrange 1 (SWFO-L1) is a future spacecraft mission planned to monitor signs of solar storms\, which may pose harm to Earth’s telecommunication network. \nThe spacecraft will be operated by the National Oceanic and Atmospheric Administration (NOAA)\, with launch scheduled for no earlier than September 23\, 2025. It is planned to be placed at the Sun–Earth L1 Lagrange point\, a location between the Earth and the Sun. This will allow SWFO-L1 to continuously watch the solar wind and energetic particles heading for Earth. SWFO-L1 is an ESPA Class Spacecraft\, sized for launch on an Evolved Expendable Launch Vehicle Secondary Payload Adapter (ESPA) Grande ring in addition to the rocket’s primary payload. The spacecraft’s Solar Wind Instrument Suite (SWIS) which includes three instruments will monitor solar wind\, and the Compact Coronagraph (CCOR) will monitor the Sun’s surroundings to image coronal mass ejection (CME). A CME is a large outburst of plasma sent from the Sun towards interplanetary space. Together with space weather observation capabilities on the Earth-orbiting GOES-U satellite\, SWFO-L1 constitutes the space segment of NOAA’s Space Weather Follow On (SWFO) program. The aim of the SWFO program is to ensure the robust continuity of space-based measurement of the critical space weather environment. All of the spacecraft located in L1 which are currently monitoring CMEs and the solar wind have operated beyond their design lifetime. SWFO-L1‘s SWIS instruments will replace ACE’s and DSCOVR’s monitoring of solar wind\, energetic particles and the interplanetary magnetic field while CCOR will replace SOHO’s LASCO (Large Angle and Spectrometric Coronagraph) imaging of CMEs. \nLinks:\nSpace Weather Follow On L1 Mission
URL:https://www.a3veen.nl/event/space-weather-follow-on-lagrange-1/
CATEGORIES:Astronomie,Zon
END:VEVENT
BEGIN:VEVENT
DTSTART;TZID=Europe/Amsterdam:20250921T192900
DTEND;TZID=Europe/Amsterdam:20250921T235300
DTSTAMP:20260421T150654
CREATED:20250920T051841Z
LAST-MODIFIED:20260212T145421Z
UID:130802-1758482940-1758498780@www.a3veen.nl
SUMMARY:Gedeeltelijke Zonsverduistering op 21 september 2025 / Partial Solar Eclipse
DESCRIPTION:Op zondag 21 september 2025\, rond 22:06\, vindt een gedeeltelijke zonsverduistering plaats\, in Europa is deze eclips helaas onzichtbaar. \nLinks:\nZonsverduistering op 21 september 2025 \nSolar eclipse of September 21\, 2025
URL:https://www.a3veen.nl/event/zonsverduistering-op-21-september-2025-solar-eclipse/
CATEGORIES:Astronomie,Maan,Zon
END:VEVENT
BEGIN:VEVENT
DTSTART;TZID=Europe/Amsterdam:20250907T172800
DTEND;TZID=Europe/Amsterdam:20250907T225700
DTSTAMP:20260421T150654
CREATED:20250828T184015Z
LAST-MODIFIED:20250907T174709Z
UID:129884-1757266080-1757285820@www.a3veen.nl
SUMMARY:Totale maansverduistering op 7 september 2025 / September 2025 lunar eclipse
DESCRIPTION:In de avond van zondag 7 september 2025 vindt een totale maansverduistering plaats\, de Maan beweegt zich door de schaduw van de Aarde\, zodat er geen direct zonlicht meer op het maanoppervlak valt en de hele Maan veel donkerder is dan normaal. \nVanuit Nederland en België is het grootste gedeelte van de eclips zichtbaar\, maar het begin moeten wij missen. De verduistering heeft een grootte van maar liefst 1.37 in de kernschaduw\, wat betekent dat de Maan zich dicht bij het centrum van de aardschaduw bevindt en sterk verduisterd wordt. De eclips begint om 17:28 en staat bij het maximum\, om 20:12\, op een hoogte van circa 0° (in Utrecht). De eclips eindigt om 22:57. Een totale maansverduistering kan erg indrukwekkend zijn. Tijdens de totaliteit\, die duurt van 19:31 tot 20:54\, bevindt de Maan zich volledig in de kernschaduw van de Aarde en valt er geen direct zonlicht meer op de Maan. Echter\, een beetje zonlicht valt door de aardatmosfeer en wordt gebroken\, waardoor dit het maanoppervlak alsnog kan bereiken. Dit is met name rood licht\, waardoor er een rode gloed over de Maan komt. Deze fase wordt in de volksmond ook wel Bloedmaan genoemd\, en duurt bij deze eclips circa 83 minuten. Doordat de verduistering erg centraal is\, is dit effect bij deze eclips bijzonder sterk.\n\nLinks:\nTotale maansverduistering op 7 september 2025 \nMondfinsternis mit “Blutmond”: Himmelsspektakel am Sonntag \nSeptember 2025 lunar eclipse
URL:https://www.a3veen.nl/event/totale-maansverduistering-op-7-september-2025/
CATEGORIES:Astronomie,Maan,Zon
END:VEVENT
BEGIN:VEVENT
DTSTART;VALUE=DATE:20250901
DTEND;VALUE=DATE:20250903
DTSTAMP:20260421T150654
CREATED:20250901T112510Z
LAST-MODIFIED:20250902T114216Z
UID:130027-1756684800-1756857599@www.a3veen.nl
SUMMARY:Carrington Event (1859) 2025
DESCRIPTION:The Carrington Event was the most intense geomagnetic storm in recorded history\, peaking on 1–2 September 1859 during solar cycle 10. \nIt created strong auroral displays that were reported globally and caused sparking and even fires in telegraph stations. The geomagnetic storm was most likely the result of a coronal mass ejection (CME) from the Sun colliding with Earth’s magnetosphere. The geomagnetic storm was associated with a very bright solar flare on 1 September 1859. It was observed and recorded independently by British astronomers Richard Carrington and Richard Hodgson—the first records of a solar flare. A geomagnetic storm of this magnitude occurring today has the potential to cause widespread electrical disruptions\, blackouts\, and damage to the electrical power grid. \nLinks:\nCarrington Event literatuur \nThe 1859 space weather event revisited: limits of extreme activity \ngeomagnetic storm of 1859
URL:https://www.a3veen.nl/event/carrington-event-1859-2025/
CATEGORIES:Astronomie,Zon
END:VEVENT
BEGIN:VEVENT
DTSTART;TZID=Europe/Amsterdam:20250329T111700
DTEND;TZID=Europe/Amsterdam:20250329T130400
DTSTAMP:20260421T150654
CREATED:20250318T032401Z
LAST-MODIFIED:20250329T162951Z
UID:121868-1743247020-1743253440@www.a3veen.nl
SUMMARY:Gedeeltelijke Zonsverduistering van 29 maart 2025 / Partial Solar Eclipse
DESCRIPTION:Een zonsverduistering (of zoneclips) is een astronomisch verschijnsel waarbij de maan vanuit de aarde gezien de zon geheel of gedeeltelijk bedekt. \nZonsverduisteringen vinden plaats als de Aarde\, Maan en Zon vrijwel op een lijn staan\, met de Maan in het midden. Een zonsverduistering kan slechts op een deel van de Aarde worden waargenomen. De schaduw van de Maan vormt (min of meer) een ellips op het aardoppervlak\, maar zal (min of meer) cirkelvormig zijn wanneer de schaduwkegel haaks op het aardoppervlak staat. Een totale verduistering is te zien waar de slagschaduw\, dit wordt ook wel kernschaduw of umbra genoemd\, van de Maan het aardoppervlak raakt. Er is dan sprake van een totaliteitszone. Een gedeeltelijke verduistering is te zien waar de halfschaduw\, die ook wel penumbra genoemd wordt\, van de Maan het aardoppervlak raakt. Bij deze laatste is er slechts een hap zichtbaar uit de Zon. Niet bij elke zonsverduistering raakt de kernschaduw van de Maan de Aarde; in dat geval is er nergens op aarde een totale verduistering te zien\, maar enkel een gedeeltelijke. Een ringvormige zonsverduistering is een bijzondere variant van een gedeeltelijke zonsverduistering. De baan van de Maan om de Aarde is niet precies cirkelvormig\, waardoor de Maan soms iets dichter bij\, soms wat verder af van de Aarde staat. In het laatste geval kan het voorkomen dat de Maan slechts het middelste gedeelte van de Zon afdekt. Er is dan een ringvormige zonsverduistering te zien. Een bijzonder soort zonsverduistering doet zich voor wanneer een zonsverduistering in bepaalde gebieden totaal is en in andere gebieden als ringvormig wordt waargenomen. Er is dan sprake van een ringvormige/totale of hybride zonsverduistering. \nOp zaterdag 29 maart 2025\, tussen 11:17 en 13:04\, vindt een gedeeltelijke zonsverduistering plaats. Bij helder weer zal vanuit Nederland en België de hele verduistering zichtbaar zijn. Je ziet de eclips als een hap die in eerste instantie uit de rechterkant van de Zon wordt genomen en steeds groter wordt. Halverwege de verduistering bevindt die hap zich aan de bovenkant\, en tegen het einde van de eclips verdwijnt deze aan de linkerkant van de Zon. De verduistering duurt in de Benelux 1\,8 uur. Tijdens het maximum van de eclips\, om 12:10\, zal 36% van de diameter van de Zon\, ofwel 24% van haar oppervlakte\, bedekt zijn. De Zon staat op dat moment 41° boven de zuidzuidoostelijke horizon en het maximum van de eclips is in onze streken goed zichtbaar. Aangezien de Maan ten noorden langs de Zon trekt\, wordt de verduistering groter naarmate je je noordelijker bevindt. Zie de lokale gegevens voor een aantal plaatsen in de Benelux. Een bedekking van 24% is niet voldoende om het donker te maken in onze streken\, maar meer dan genoeg om te worden opgemerkt met het blote oog (zonder vergroting\, maar met bescherming). Daarnaast heeft de reductie aan zonlicht invloed op bijvoorbeeld de energieopwekking door zonnepanelen. \nLinks:\nPartial Solar Eclipse Watch \nZonsverduistering van 29 maart 2025 \nZonsverduistering op 29 maart 2025 \n Gedeeltelijke zonsverduistering \nNASA website met historische en toekomstige verduisteringen \nInteractive Google Maps over zonsverduisteringen \nZonsverduistering 2025 – Wat is het en wanneer vindt de volgende plaats? \nVolkssterrenwacht Bussloo – Speciale openstelling
URL:https://www.a3veen.nl/event/gedeeltelijke-zonsverduistering-van-29-maart-2025-partial-solar-eclipse-20250329/
CATEGORIES:Astronomie,Maan,Zon
END:VEVENT
BEGIN:VEVENT
DTSTART;TZID=Europe/Amsterdam:20241016T010000
DTEND;TZID=Europe/Amsterdam:20241016T020000
DTSTAMP:20260421T150654
CREATED:20241010T050738Z
LAST-MODIFIED:20241010T151513Z
UID:114680-1729040400-1729044000@www.a3veen.nl
SUMMARY:Heliophysics Big Year & Math - webinar (TV Zoom webcast)
DESCRIPTION:HBY connection: The Sun’s 11-year activity cycle will be nearing its maximum point during this month\, which will include activities to explore the solar cycle\, solar flares\, cosmic rays and astronaut hazards. \nHeliophysics concepts and NGSS connections: FHE3.1 The Sun is made of churning plasma\, causing the surface to be made of complex\, tangled magnetic fields. (PS1\, PS2\, ESS1\, ESS2). FHE 2.2 The Sun defines the space around it\, which is different from interstellar space. (PS2\, ESS1\, ESS2) \nLinks:\nRegistration Link \nHeliophysics Big Ideas
URL:https://www.a3veen.nl/event/heliophysics-big-year-math-webinar-tv-zoom-webcast/
CATEGORIES:Astronomie,Zon
END:VEVENT
BEGIN:VEVENT
DTSTART;TZID=Europe/Amsterdam:20241002T174200
DTEND;TZID=Europe/Amsterdam:20241002T234600
DTSTAMP:20260421T150654
CREATED:20240928T140050Z
LAST-MODIFIED:20260212T145834Z
UID:113910-1727890920-1727912760@www.a3veen.nl
SUMMARY:Totale Zonsverduistering op 2 oktober 2024 / Total Solar eclipse (TV webcast)
DESCRIPTION:De zonsverduistering van 2 oktober 2024 (Solar eclipse of October 2\, 2024) betreft een ringvormige zonsverduistering die te zien zal zijn boven de Stille Oceaan\, delen van Zuid-Amerika en delen van Antarctica. \nHet pad waar een ringvormige eclips waargenomen zal kunnen worden\, gaat voornamelijk over de Stille Oceaan\, maar ook over Chili en Argentinië. In de Benelux zal geen eclips plaatsvinden. \nLinks:\nWhat the Eclipse Will Look Like near the Maximum Point \nHow fast will the annular solar eclipse on Oct. 2 travel? \nInteractive eclipse map \nZonsverduistering op 2 oktober 2024 \nOctober 2\, 2024 Annular Solar Eclipse
URL:https://www.a3veen.nl/event/zonsverduistering-op-2-oktober-annular-solar-eclipse-2024-tv-webcast/
CATEGORIES:Astronomie,Zon
END:VEVENT
BEGIN:VEVENT
DTSTART;VALUE=DATE:20240503
DTEND;VALUE=DATE:20240504
DTSTAMP:20260421T150654
CREATED:20240503T075037Z
LAST-MODIFIED:20240503T075037Z
UID:107263-1714694400-1714780799@www.a3veen.nl
SUMMARY:World Sun Day 2024
DESCRIPTION:On May 3rd\, the whole world annually celebrates the Sun Day. \nSun Day was designated in 1978 by United States President Jimmy Carter\, specifically devoted to advocacy for solar power\, following a joint resolution by Congress\, H.J.Res. 715 becoming Pub. L.Tooltip Public Law (United States) 95–253. It was modeled on the highly successful Earth Day of April 22\, 1970. It was the idea of Denis Hayes\, who also coordinated Earth Day in 1970. The date became an international event in 1994\, initiated by the European Section of the International Solar Energy Society (ISES). \nLinks:\nMay 3rd – International Sun Day
URL:https://www.a3veen.nl/event/world-sun-day-2024/
CATEGORIES:Zon
END:VEVENT
BEGIN:VEVENT
DTSTART;TZID=Europe/Amsterdam:20240408T144200
DTEND;TZID=Europe/Amsterdam:20240408T205200
DTSTAMP:20260421T150654
CREATED:20231014T192035Z
LAST-MODIFIED:20260212T145718Z
UID:96759-1712587320-1712609520@www.a3veen.nl
SUMMARY:Totale Zonsverduistering op 8 april / Total Solar Eclipse (TV webcast)
DESCRIPTION:De totale zonsverduistering van maandag 8 april 2024 zal zich in een lange strook op het vasteland voortbewegen over de landen Mexico\, Verenigde Staten en Canada. \nHet punt met maximale totaliteit ligt rond 21:44 CEZT in Mexico tussen de steden Bermejillo en San Martin en duurt 4m28\,1s. De verduistering maakt deel uit van de Saros 124 zonsverduisteringserie. In Europa is deze eclips helaas onzichtbaar. \nLinks:\nOverzicht van alle eclipsen door NASA \nThe HamSCI Festivals of Eclipse Ionospheric Science will occur October 14\, 2023 and April 8\, 2024 during spectacular North American solar eclipses\n \nEclipse 2024 Citizen Science \nImmerse yourself in the eclipse experience \n2024 Total Solar Eclipse \nZonsverduistering op 8 april 2024 \n2024 Total Solar Eclipse – NASA Flickr \nWorld Dark Sky Week 2024
URL:https://www.a3veen.nl/event/zonsverduistering-van-8-april-2024/
CATEGORIES:Astronomie,Zon
END:VEVENT
BEGIN:VEVENT
DTSTART;TZID=Europe/Amsterdam:20240215T200000
DTEND;TZID=Europe/Amsterdam:20240215T210000
DTSTAMP:20260421T150654
CREATED:20240215T092829Z
LAST-MODIFIED:20240216T092429Z
UID:102840-1708027200-1708030800@www.a3veen.nl
SUMMARY:Babelsberger Sternennächte : Die Sonne als Chronometer physikalischer Prozesse (TV webcast)
DESCRIPTION:Die Babelsberger Sternennächte finden online statt\, in der Regel gibt es immer am 3. Donnerstag im Monat einen neuen Vortrag einer Wissenschaftlerin oder eines Wissenschaftlers des AIP\, der ab 20 Uhr auf dem YouTube-Kanal von Urknall\, Weltall und das Leben ausgestrahlt wird (Playlist). \nAm Donnerstag 15-02-2024 ab 20 Uhr ist der Vortrag von apl Prof. Dr. Carsten Denker zum Thema „Die Sonne als Chronometer physikalischer Prozesse“ aus der Reihe der Babelsberger Sternennächte online. Die Prozesse der Sonne unterliegen verschiedenen Zeitskalen: Während sich die Entwicklung der Sonne über Milliarden von Jahren erstreckt\, dauert der Sonnenfleckenzyklus nur 11 Jahre und Strahlungsausbrüche an der Oberfläche der Sonne treten innerhalb weniger Stunden oder gar nur Sekunden auf. In seinem Vortrag stellt Carsten Denker diese und weitere Sonnenphänomene vor und erläutert moderne Beobachtungsinstrumente\, die dazu dienen\, die Sonne zu erforschen und unser physikalisches Verständnis unseres Heimatsterns zu vertiefen. \nBitte beachten Sie\, dass fast alle Vorträge auf Deutsch gehalten werden. \nLink:\nBabelsberger Sternennächte \nVirtueller Vortrag: Babelsberger Sternennacht am 15. Februar 2024
URL:https://www.a3veen.nl/event/babelsberger-sternennachte-die-sonne-als-chronometer-physikalischer-prozesse-tv-webcast/
CATEGORIES:Astronomie,Zon
END:VEVENT
BEGIN:VEVENT
DTSTART;VALUE=DATE:20231201
DTEND;VALUE=DATE:20231202
DTSTAMP:20260421T150654
CREATED:20231212T201916Z
LAST-MODIFIED:20231212T210045Z
UID:100269-1701388800-1701475199@www.a3veen.nl
SUMMARY:Chapman-Silverman storm of 1872 / The Extreme Space Weather Event of 1872 February: Sunspots\, Magnetic Disturbance\, and Auroral Displays - publication
DESCRIPTION:Two of the most massive magnetic solar storms known are the Carrington Event of 1859 and the New York Railroad Superstorm of 1921\, the study ‘The Extreme Space Weather Event of 1872 February: Sunspots\, Magnetic Disturbance\, and Auroral Displays‘\, however\, also identified another storm named the Chapman-Silverman storm of 1872. \nLinks:\nHistoric magnetic storms help scientists learn what to expect when one hits \nIn 1872\, a Solar Storm Hit the Earth Generating Auroras from the Tropics to the Poles \nList of solar storms
URL:https://www.a3veen.nl/event/the-extreme-space-weather-event-of-1872-february-sunspots-magnetic-disturbance-and-auroral-displays-publication/
CATEGORIES:Astronomie,Zon
END:VEVENT
BEGIN:VEVENT
DTSTART;TZID=Europe/Amsterdam:20231014T145500
DTEND;TZID=Europe/Amsterdam:20231014T205500
DTSTAMP:20260421T150654
CREATED:20231014T142656Z
LAST-MODIFIED:20231025T094249Z
UID:96736-1697295300-1697316900@www.a3veen.nl
SUMMARY:Zonsverduistering van 14 oktober 2023
DESCRIPTION:De zonsverduistering van 14 oktober 2023 betreft een ringvormige zonsverduistering die te zien is in Noord- en Zuid-Amerika\, de Stille Oceaan en zeer beperkt in het uiterste westen van Afrika. \nHet gebied waar een ringvormige eclips kan worden waargenomen\, gaat door de landen de Verenigde Staten\, Mexico\, Guatemala\, Belize\, Honduras\, Nicaragua\, Panama\, Colombia en Brazilië. In de Benelux vindt geen zonsverduistering plaats\, doordat de Maan 0\,6° ten zuiden langs de Zon beweegt. Een zonsverduistering (of zoneclips) is een astronomisch fenomeen\, waarbij overdag het licht van de Zon de waarnemer niet bereikt\, doordat een hemellichaam (meestal de Maan) in de weg van het licht staat. Een zonsverduistering is een voor mensen op aarde direct waarneembaar astronomisch fenomeen\, waarbij het in feite niet de zon\, maar een gedeelte van de Aarde is dat verduisterd wordt. Een waarnemer ziet dat de Zon bedekt wordt door de maan en dat een donker gebied met grote snelheid (de resultante van de baansnelheid van de Maan en de draaiing van de Aarde) op hem af komt. Als dat gebied (de kernschaduw) hem bereikt heeft\, is de totale zonsverduistering begonnen. Voor astronomen biedt een totale zonsverduistering een unieke kans om de corona\, de lichtkrans om de zon te bestuderen. Deze bevat bijvoorbeeld vaak zichtbare zonnevlammen. De verduistering maakt deel uit van de Saros 124 zonsverduisteringserie. \n\nLinks:\nOverzicht van alle eclipsen door NASA \nThe HamSCI Festivals of Eclipse Ionospheric Science will occur October 14\, 2023 and April 8\, 2024 during spectacular North American solar eclipses
URL:https://www.a3veen.nl/event/zonsverduistering-van-14-oktober-2023/
CATEGORIES:Astronomie,Zon
END:VEVENT
BEGIN:VEVENT
DTSTART;VALUE=DATE:20231001
DTEND;VALUE=DATE:20250101
DTSTAMP:20260421T150654
CREATED:20230812T235221Z
LAST-MODIFIED:20231012T115731Z
UID:93378-1696118400-1735689599@www.a3veen.nl
SUMMARY:Heliophysics Big Year
DESCRIPTION:The Heliophysics Big Year is a global celebration of solar science and the Sun’s influence on Earth and the entire solar system. \nDuring the Heliophysics Big Year\, you will have the opportunity to participate in many solar science events such as watching solar eclipses\, experiencing an aurora\, participating in citizen science projects\, and other fun Sun-related activities. Heliophysics is the study of our star and how it interacts with everything in our solar system. The “Big Year” is a concept that originated with citizen scientists in the bird-watching community. During their Big Year\, birders attempt to observe and study as many bird species as possible during a calendar year\, and we are challenging you to do the same with our Sun. \nLinks:\nThe Heliophysics Big Year \nBig Year
URL:https://www.a3veen.nl/event/heliophysics-big-year/
CATEGORIES:Astronomie,Zon
END:VEVENT
BEGIN:VEVENT
DTSTART;VALUE=DATE:20230901
DTEND;VALUE=DATE:20230903
DTSTAMP:20260421T150654
CREATED:20230901T085153Z
LAST-MODIFIED:20250902T113312Z
UID:94176-1693526400-1693699199@www.a3veen.nl
SUMMARY:Carrington Event (1859) 2023
DESCRIPTION:The Carrington Event was a powerful geomagnetic storm on 1–2 September 1859\, during solar cycle 10 (1855–1867). \nA solar coronal mass ejection (CME) hit Earth’s magnetosphere and induced the largest geomagnetic storm on record. The associated “white light flare” in the solar photosphere was observed and recorded by British astronomers Richard Carrington and Richard Hodgson. The storm created strong auroral displays and caused serious damage to telegraph systems. The now-standard unique IAU identifier for this flare is SOL1859-09-01. A solar storm of this magnitude occurring today would cause widespread electrical disruptions\, blackouts\, and damage due to extended outages of the electrical grid. The solar storm of 2012 was of similar magnitude\, but it passed Earth’s orbit without striking the planet\, missing by nine days. \nLinks:\nCarrington Event literatuur \nOur Sun Is Capable of Giant Superstorms 100x Carrington Event\, New Study  \nCarrington Event • Blackout & Konsequenzen • Sonneneruption • Planetare Geologie | Christian Köberl
URL:https://www.a3veen.nl/event/carrington-event-1859-2023/
CATEGORIES:Astronomie,Zon
END:VEVENT
BEGIN:VEVENT
DTSTART;VALUE=DATE:20180812
DTEND;VALUE=DATE:20250813
DTSTAMP:20260421T150654
CREATED:20230919T134016Z
LAST-MODIFIED:20230919T134323Z
UID:95225-1534032000-1755043199@www.a3veen.nl
SUMMARY:Parker Solar Probe
DESCRIPTION:De Parker Solar Probe\, eerder bekend als Solar Probe+ of Solar Probe Plus\, is een Amerikaanse missie naar de Zon door een onbemand ruimtevaartuig.\n\nDeze ruimtesonde werd op 12 augustus 2018 in opdracht van NASA door United Launch Alliance gelanceerd\, en zal in de loop van zeven jaar 24 maal langs de Zon vliegen\, deels dichterbij dan ooit gedaan is\, en daarbij de corona van de Zon observeren. De Parker Solar Probe is onderdeel van het HELEX (Heliophysics Explorers)-onderzoeksprogramma\, samen met de Solar Orbiter van de Europese Ruimtevaartorganisatie die naar verwachting in 2019 gelanceerd zal worden. De missie werd eerder “Solar Probe Plus” genoemd omdat het ontwerp is gebaseerd op een eerder ontwerp uit 2005 dat kortweg “Solar Probe” heette. Op 31 mei 2017 werd de ruimtesonde hernoemd naar Eugene Parker\, een astrofysicus van de Universiteit van Chicago. \nLinks:\nNASA’s Parker Solar Probe\n\nNASA spacecraft hopes to catch a solar flare as it zips past the sun \nInternational SUNday 2018 \nSolar cycle 25 \nZon
URL:https://www.a3veen.nl/event/parker-solar-probe/
CATEGORIES:Astronomie,Zon
END:VEVENT
END:VCALENDAR