BEGIN:VCALENDAR
VERSION:2.0
PRODID:-//A3veen.nl - ECPv6.15.20//NONSGML v1.0//EN
CALSCALE:GREGORIAN
METHOD:PUBLISH
X-WR-CALNAME:A3veen.nl
X-ORIGINAL-URL:https://www.a3veen.nl
X-WR-CALDESC:Evenementen voor A3veen.nl
REFRESH-INTERVAL;VALUE=DURATION:PT1H
X-Robots-Tag:noindex
X-PUBLISHED-TTL:PT1H
BEGIN:VTIMEZONE
TZID:Europe/Amsterdam
BEGIN:DAYLIGHT
TZOFFSETFROM:+0100
TZOFFSETTO:+0200
TZNAME:CEST
DTSTART:20220327T010000
END:DAYLIGHT
BEGIN:STANDARD
TZOFFSETFROM:+0200
TZOFFSETTO:+0100
TZNAME:CET
DTSTART:20221030T010000
END:STANDARD
BEGIN:DAYLIGHT
TZOFFSETFROM:+0100
TZOFFSETTO:+0200
TZNAME:CEST
DTSTART:20230326T010000
END:DAYLIGHT
BEGIN:STANDARD
TZOFFSETFROM:+0200
TZOFFSETTO:+0100
TZNAME:CET
DTSTART:20231029T010000
END:STANDARD
BEGIN:DAYLIGHT
TZOFFSETFROM:+0100
TZOFFSETTO:+0200
TZNAME:CEST
DTSTART:20240331T010000
END:DAYLIGHT
BEGIN:STANDARD
TZOFFSETFROM:+0200
TZOFFSETTO:+0100
TZNAME:CET
DTSTART:20241027T010000
END:STANDARD
BEGIN:DAYLIGHT
TZOFFSETFROM:+0100
TZOFFSETTO:+0200
TZNAME:CEST
DTSTART:20250330T010000
END:DAYLIGHT
BEGIN:STANDARD
TZOFFSETFROM:+0200
TZOFFSETTO:+0100
TZNAME:CET
DTSTART:20251026T010000
END:STANDARD
BEGIN:DAYLIGHT
TZOFFSETFROM:+0100
TZOFFSETTO:+0200
TZNAME:CEST
DTSTART:20260329T010000
END:DAYLIGHT
BEGIN:STANDARD
TZOFFSETFROM:+0200
TZOFFSETTO:+0100
TZNAME:CET
DTSTART:20261025T010000
END:STANDARD
BEGIN:DAYLIGHT
TZOFFSETFROM:+0100
TZOFFSETTO:+0200
TZNAME:CEST
DTSTART:20270328T010000
END:DAYLIGHT
BEGIN:STANDARD
TZOFFSETFROM:+0200
TZOFFSETTO:+0100
TZNAME:CET
DTSTART:20271031T010000
END:STANDARD
END:VTIMEZONE
BEGIN:VEVENT
DTSTART;TZID=Europe/Amsterdam:20260415T080000
DTEND;TZID=Europe/Amsterdam:20260415T170000
DTSTAMP:20260421T150419
CREATED:20260415T010735Z
LAST-MODIFIED:20260415T121318Z
UID:139418-1776240000-1776272400@www.a3veen.nl
SUMMARY:KLM stop je frequent flyer programma! - Extinction Rebellion opent pop-up reisburo achter de security van Schiphol
DESCRIPTION:Gratis busreizen voor frequent flyers. \nOp 15 april 2026 opende Extinction Rebellion een pop-up reisburo achter de security. Het alternatieve reisburo staat naast de priority boarding voor frequent flyers & business class passagiers. De frequent flyers die klaarstaan voor de KLM-vlucht naar Parijs* worden  uitgenodigd om gratis met de bus te reizen die klaar staat bij de kiss&ride voor de vertrekhal. Onderweg zullen de veelvliegers worden verwend met alcoholvrije champagne\, vegan hapjes en onboard entertainment. KLM richt zich met zijn verduurzamingsplannen volledig op technologische oplossingen die teniet worden gedaan door groei van vliegbewegingen en het formaat van de vliegtuigen. Hierdoor is de sector een van de weinigen waarvan de uitstoot nog altijd groeit\, terwijl krimp is de enige realistische mogelijkheid om dit tij te keren. Aangezien 1% van de wereldbevolking verantwoordelijk is voor 50% van de uitstoot van de luchtvaart\, is de benodigde krimp makkelijk te realiseren als veelvliegers minder gaan vliegen. Marketing en reclame zorgen ervoor dat vliegen een normale en leuke bezigheid lijkt\, terwijl de gevolgen desastreus zijn. Dat Flying Blue veelvliegen ook nog eens beloont met gratis vluchten en extra’s is onbegrijpelijk. De echte prijs van vliegen wordt niet betaald door veelvliegers\, maar door de hele wereld\, voornamelijk door mensen die in het Mondiale Zuiden wonen. Het terugdringen van het aantal vliegkilometers door veelvliegers is de meest efficiënte en eerlijke route om de CO2-uitstoot van de luchtvaart terug te dringen. \n\nLinks:\nExtinction Rebellion opent pop-up reisburo achter de security van Schiphol \nXR opent pop-up reisbureau op Schiphol: gratis busreizen voor frequent flyers
URL:https://www.a3veen.nl/event/extinction-rebellion-opent-pop-up-reisburo-achter-de-security-van-schiphol/
LOCATION:Amsterdam Schiphol\, Schiphol\, Nederland
CATEGORIES:Luchtvaart,Luchtvaart,Schiphol,Transport
END:VEVENT
BEGIN:VEVENT
DTSTART;VALUE=DATE:20260311
DTEND;VALUE=DATE:20260312
DTSTAMP:20260421T150419
CREATED:20260311T035006Z
LAST-MODIFIED:20260311T142848Z
UID:137832-1773187200-1773273599@www.a3veen.nl
SUMMARY:Raad van State: Afdeling bestuursrechtspraak vernietigt Luchthavenverkeerbesluit voor Schiphol
DESCRIPTION:De minister van Infrastructuur en Waterstaat heeft het Luchthavenverkeerbesluit voor Schiphol waarbij het aantal vluchten is beperkt\, niet zorgvuldig genomen en niet goed gemotiveerd. \nDaarom kan het besluit niet in stand blijven. Dat oordeelt de Afdeling bestuursrechtspraak van de Raad van State in een uitspraak van 11 maart 2026. Gevolg van de uitspraak is dat het vorige Luchthavenverkeerbesluit uit 2008 blijft gelden\, waarin geen totaal maximumaantal vluchten per jaar geldt. In het vernietigde luchthavenverkeersbesluit stond ook dat het maximumaantal vluchten in de nacht van 32.000 naar 27.000 vluchten wordt verlaagd. Geen van de partijen hadden bezwaar tegen dit deel van het besluit. Daarom treft de Afdeling bestuursrechtspraak in de uitspraak de voorlopige voorziening dat “op de luchthaven Schiphol maximaal 27.000 vliegtuigbewegingen met handelsverkeer per gebruiksjaar plaatsvinden in de periode van 23.00 uur tot 7.00 uur.” Overigens is niet aannemelijk dat dit aantal feitelijk zal worden gehaald. Het kabinet heeft een algehele wijziging van het Luchthavenverkeerbesluit inmiddels in voorbereiding. Deze voorlopige voorziening vervalt op het moment dat dit nieuwe Luchthavenverkeerbesluit gaat gelden. \nLinks:\nAfdeling bestuursrechtspraak vernietigt Luchthavenverkeerbesluit voor Schiphol \nBestuurszaak natuurvergunning Schiphol – zitting \nAangifte vanwege mishandeling tegen de directies van KLM\, Transavia en Schiphol \nHoger beroep : Zaak tussen Staat en omwonenden over geluidshinder rondom Schiphol \nDefinitieve maatregelenpakket om het geluid rond Schiphol terug te dringen en de rechtsbescherming van omwonenden te herstellen – presentatie \nBodemprocedure over vliegtuighinder Schiphol : Rechtszaak tegen de overheid over terugdringen geluidsoverlast Schiphol (TV de Rechtspraak live stream) \nHoger beroep kort geding – uitspraak : De Staat mag voorgenomen maatregelen nemen in verband met geluidshinder van Schiphol\nKort geding beperkingen vliegtuigbewegingen Schiphol
URL:https://www.a3veen.nl/event/raad-van-state-afdeling-bestuursrechtspraak-vernietigt-luchthavenverkeerbesluit-voor-schiphol/
CATEGORIES:Luchtvaart,Schiphol,Transport
END:VEVENT
BEGIN:VEVENT
DTSTART;VALUE=DATE:20250326
DTEND;VALUE=DATE:20250327
DTSTAMP:20260421T150419
CREATED:20250326T091854Z
LAST-MODIFIED:20260326T132205Z
UID:123339-1742947200-1743033599@www.a3veen.nl
SUMMARY:BAS Jaarrapportage 2024 – publicatie
DESCRIPTION:Vliegverkeer en aantal melders uit omgeving Schiphol stijgen gelijkmatig. \nIn 2024 namen het vliegverkeer op Schiphol en het aantal melders uit de omgeving van Schiphol gelijkmatig toe\, dat blijkt uit rapportage van het Bewoners Aanspreekpunt Schiphol (BAS). Het vliegverkeer en het aantal mensen dat een melding deed bij BAS namen beiden met 8% toe. Het totaal aantal vliegbewegingen van en naar Schiphol ligt iets onder het niveau van 2019. Het aantal meldingen binnen de focusgroep steeg met 26% in vergelijking met 2023 tot 232.585 meldingen. Er werden minder meldingen ingediend over de moderne vloot\, die stiller is. De rapportage van BAS gaat over het gebruiksjaar 2024\, de periode van 1 november 2023 tot en met 31 oktober 2024. De rapportage focust zich in de analyses en conclusies op mensen  die tussen de 1 en 500 meldingen per jaar doen. Het aantal veelmelders\, mensen die meer dan 500 meldingen per jaar doen\, steeg het afgelopen jaar met 12% tot 95. In totaal werden er door deze groep 144.015 meldingen gedaan. \nLinks:\nBAS
URL:https://www.a3veen.nl/event/bas-jaarrapportage-2024-publicatie/
CATEGORIES:Amsterdam,Luchtvaart,Schiphol,Transport
END:VEVENT
BEGIN:VEVENT
DTSTART;TZID=Europe/Amsterdam:20250312T100000
DTEND;TZID=Europe/Amsterdam:20250312T110000
DTSTAMP:20260421T150419
CREATED:20250312T085947Z
LAST-MODIFIED:20260118T175405Z
UID:121538-1741773600-1741777200@www.a3veen.nl
SUMMARY:Aangifte vanwege mishandeling tegen de directies van KLM\, Transavia en Schiphol
DESCRIPTION:Meer dan 900 omwonenden van Schiphol doen op 12 maart 2025 aangifte tegen de luchthaven vanwege mishandeling. \nAdvocate Bénédicte Ficq gaat namens de bewoners om 10:00 aangifte doen bij het Openbaar Ministerie in Amsterdam. De omwonenden vinden dat nachtelijke vluchten hun gezondheid aantasten. De aangifte richt zich tegen de top van Schiphol\, KLM\, Transavia en mogelijk de luchtverkeersleiding en het ministerie. Deze mensen nemen de uiteindelijke beslissing om onophoudelijk door te gaan met nachtvluchten\, ondanks de aantoonbare gezondheidsschade bij omwonenden. Volgens de wetenschappelijke literatuur leidt slaapverstoring onder meer tot stress\, hoge bloeddruk\, hart- en vaatziekten. Eerder al constateerde de rechter dat de belangen van omwonenden structureel ondergeschikt worden gemaakt aan die van de vliegindustrie. De slaapverstoring wordt louter vanuit economische overwegingen veroorzaakt en staat daarmee niet in verhouding tot de aangerichte schade. Met de aangifte hopen we een strafrechtelijk onderzoek door het Openbaar Ministerie aan te zwengelen\, gevolgd door een strafproces tegen directeuren als Marjan Rintel\, Marcel de Nooijer en Michiel van Dorst\, maar ook tegen oud-directeuren als Dick Benschop en Piet Elbers. Hoe meer mensen meedoen\, hoe duidelijker de zaak wordt voor het OM. Doel van het strafproces is om deze mensen ter verantwoording te roepen vanwege de decennialange mishandeling van tienduizenden omwonenden\, zelfs buiten alle regelgeving om. Het is inmiddels allang bekend dat Schiphol veel meer overlast bezorgt dan volgens de wet is toegestaan. Dat wordt al meer dan vijftien jaar gedoogd door de Staat\, zonder enige bescherming van omwonenden. \nIn het gunstigste geval volgt hiervoor een veroordeling\, waarbij een celstraf volgens de wet niet is uitgesloten. In ieder geval worden de verantwoordelijken met de neus op de feiten gedrukt en hopen we dat zij beter nadenken voordat ze beslissingen nemen die een verregaande invloed heeft op het leven en de gezondheid van honderdduizenden burgers. Volgens strafpleiter Ficq is het geen probleem om aan te tonen dat zware nachtelijke geluidsoverlast aan te duiden is als mishandeling. Hiermee wordt lichamelijk en psychisch leed toegebracht aan de slachtoffers. “Ernstige slaapverstoring benadeelt de gezondheid en dat laatste wordt gelijkgesteld aan mishandeling.” In 2022 werd in een studie van de Universiteit van Utrecht al aangetoond dat de vervuiling en geluidsoverlast door Schiphol een vorm van geweld is tegen de mensen in de omgeving. Onderzoekster drs Nienke van Baal noemde dit ‘traag geweld’ met grote effecten op de langere termijn. “Eén overvliegend toestel zal door vrijwel niemand worden gezien als gewelddadig\, maar juist het grote aantal vliegtuigen en de korte periodes van rust ertussen\, maakt het vliegverkeer gewelddadig richting de omgeving”\, zo meldde zij toen al. “De Nederlandse overheid is mede-schuldig\, want zij heeft een belang in Schiphol en KLM en verzaakt haar plicht om bewoners te beschermen.” Dit werd op 20 maart 2024 door de rechter bevestigd in de rechtszaak die door de stichting Recht op Bescherming tegen Vliegtuighinder werd gewonnen. \nLinks:\nAantal aangiften mishandeling Schiphol loopt richting duizend
URL:https://www.a3veen.nl/event/aangifte-vanwege-mishandeling-tegen-de-directies-van-klm-transavia-en-schiphol/
CATEGORIES:Amsterdam,Schiphol
END:VEVENT
BEGIN:VEVENT
DTSTART;TZID=Europe/Amsterdam:20250308T090000
DTEND;TZID=Europe/Amsterdam:20250308T180000
DTSTAMP:20260421T150419
CREATED:20250307T092101Z
LAST-MODIFIED:20250309T002130Z
UID:121327-1741424400-1741456800@www.a3veen.nl
SUMMARY:Schipholactie: wie is de rebel?
DESCRIPTION:Actie: wie is de rebel? 8 maart 2025 op Schiphol de ontknoping! \nBinnenkort verschijnen opdrachten in de stijl van een welbekend TV programma waarmee KLM (klimaat)ellende op Schiphol kan voorkomen. Als KLM deze opdrachten weet te voltooien dan kan KLM onze actie kleiner maken of zelfs helemaal te stoppen. Lukt dat niet? Dan is het op 8 maart\, op internationale vrouwendag en op dezelfde dag als de finale van onze inspiratie\, tijd voor test en executie. Aangezien KLM tot nu toe vooral blunderde\, gaan wij ons vast voorbereiden op een actie. In tegenstelling tot het origineel hebben wij niet 9 kandidaten en 1 mol\, maar 1 kandidaat (KLM) en heel veel rebellen. Hoe meer rebellen\, hoe beter! Ben jij er ook bij? Meld je aan via dit formulier! Psst\, KLM\, lees je ook mee? Wil je alvast een vrijstelling voor test en executie verdienen en daarmee de hele actie stoppen? Dat kan! Beantwoord dan in een persbericht de volgende vraag goed: KLM\, stop je met het frequent flyer programma Flying blue? \nLinks:\nSchipholactie: wie is de rebel? \nExtinction Rebellion voert wederom actie  tegen KLM achter de security en paspoortcontrole op Schiphol \nTientallen klimaatactivisten aangehouden bij protest op Schiphol \nTientallen klimaatactivisten aangehouden op Schiphol
URL:https://www.a3veen.nl/event/schipholactie-wie-is-de-rebel/
LOCATION:Amsterdam Schiphol\, Schiphol\, Nederland
CATEGORIES:Amsterdam,Klimaat,Luchtvaart,Schiphol
END:VEVENT
BEGIN:VEVENT
DTSTART;TZID=Europe/Amsterdam:20250225T080000
DTEND;TZID=Europe/Amsterdam:20250525T170000
DTSTAMP:20260421T150419
CREATED:20250225T141947Z
LAST-MODIFIED:20250225T142118Z
UID:120822-1740470400-1748192400@www.a3veen.nl
SUMMARY:Hoger beroep : Zaak tussen Staat en omwonenden over geluidshinder rondom Schiphol
DESCRIPTION:Zaak tussen Staat en omwonenden over geluidshinder rondom Schiphol. \nLinks:\nHoger beroep\, Tussenuitspraak
URL:https://www.a3veen.nl/event/hoger-beroep-zaak-tussen-staat-en-omwonenden-over-geluidshinder-rondom-schiphol/
CATEGORIES:Amsterdam,Luchtvaart,Maatschappij,Schiphol,Transport
END:VEVENT
BEGIN:VEVENT
DTSTART;VALUE=DATE:20240807
DTEND;VALUE=DATE:20240808
DTSTAMP:20260421T150419
CREATED:20240425T094019Z
LAST-MODIFIED:20240425T094153Z
UID:106784-1722988800-1723075199@www.a3veen.nl
SUMMARY:Rechtzaak 11 organisaties vs de Staat vanwege PFAS
DESCRIPTION:Knoops’ advocaten heeft namens elf belangenorganisaties een dagvaarding uitgebracht tegen de Staat der Nederlanden in verband met de schadelijke gevolgen van de wijdverbreide PFAS-verontreiniging in Nederland\, de rechtszaak dient in Den Haag op 7 augustus 2024. \nDe dagvaarding is opgesteld in opdracht van Vereniging Natuur- en Milieufederatie Noord-Holland\, Vereniging Zeeuwse Milieufederatie\, Stichting Natuur- en Milieufederatie Zuid-Holland\, Stichting Friese Milieufederatie\, Stichting Gezond Water\, Stichting SchipholWatch\, Vereniging Omwonenden Luchthaven Eelde\, Vereniging Vakvereniging Brandweer Vrijwilligers\, Vereniging Belangenvereniging Brandweer\, Vereniging Vakbond voor Burger en Militair defensiepersoneel en Stichting Ouderennetwerk West-Friesland. De belangenorganisaties hebben zich verenigd om de Staat aan te spreken op het grove nalaten van diens zorgplicht om Nederlandse burgers\, dieren en het milieu te beschermen tegen de schadelijke effecten van PFAS-verontreiniging. Hoewel de Staat zich al geruime tijd bewust is van de ernstige gevolgen van blootstelling aan PFAS voor de (volks)gezondheid en het milieu\, neemt de Staat onvoldoende maatregelen om de schade door PFAS te beperken en voorkomen. De belangenorganisaties luiden – net als vele experts wereldwijd – de noodklok over de schadelijkheid van deze groep stoffen en de onomkeerbare gevolgen wanneer adequate maatregelen nog langer uitblijven. \nLinks:\nConsortium met SchipholWatch dagvaardt Staat wegens PFAS-gevaren \n11 organisaties slepen Staat voor de rechter vanwege PFAS
URL:https://www.a3veen.nl/event/rechtzaak-11-organisaties-vs-de-staat-vanwege-pfas/
LOCATION:Rechtbank Den Haag\, Prins Clauslaan 60\, Den Haag\, 2595 AJ\, Nederland
CATEGORIES:Gifstoffenlozing,Klimaat,Luchtvaart,Medisch,Schiphol
END:VEVENT
BEGIN:VEVENT
DTSTART;VALUE=DATE:20240727
DTEND;VALUE=DATE:20240728
DTSTAMP:20260421T150419
CREATED:20240718T081202Z
LAST-MODIFIED:20240718T081930Z
UID:110897-1722038400-1722124799@www.a3veen.nl
SUMMARY:Actiedag tegen vliegverkeer
DESCRIPTION:Op 27 juli 2024 voert Extinction Rebellion actie op luchthavens in Europa en Noord-Amerika om de rol van overheden en de fossiele industrie in de klimaatcrisis aan te kaarten. \nHet verbranden van fossiele brandstoffen door de luchtvaart bedreigt de samenleving en onze voedselvoorziening. Onschuldige mensen lijden wereldwijd onder slechte omstandigheden. De luchtvaart draagt bij aan broeikasgasuitstoot en bedreigt landen en culturen. We moeten nu handelen voor een rechtvaardige en duurzame toekomst. \nLinks:\nJa\, ik doe mee op 27 juli \nBurgers vanuit heel Europa verenigen zich in oproep om vliegverkeer te beperken \nExtinction Rebellion ketent zich vast in Frequent Flyer Lounge Schiphol / Extinction Rebellion ketent zich wederom vast in Frequent Flyer Lounge Schiphol \nAgenda – Bodemprocedure over vliegtuighinder Schiphol : Rechtszaak tegen de overheid over terugdringen geluidsoverlast Schiphol (TV de Rechtspraak live stream)
URL:https://www.a3veen.nl/event/actiedag-tegen-vliegverkeer/
CATEGORIES:Amsterdam,Luchtvaart,Schiphol,Transport
END:VEVENT
BEGIN:VEVENT
DTSTART;TZID=Europe/Amsterdam:20240712T111500
DTEND;TZID=Europe/Amsterdam:20240712T170000
DTSTAMP:20260421T150419
CREATED:20240712T094555Z
LAST-MODIFIED:20241109T151422Z
UID:110657-1720782900-1720803600@www.a3veen.nl
SUMMARY:Extinction Rebellion ketent zich wederom vast in Frequent Flyer Lounge Schiphol
DESCRIPTION:Op vrijdag 12 juli 2024 protesteert Extinction Rebellion voor de tweede keer in de Frequent Flyer Lounge van KLM op Schiphol\, ongeveer 60 rebellen liepen in een vreedzame protestmars door C-pier richting de lounge\, terwijl ze flyers uitdeelden aan passagiers. \nZe blokkeren de ingang van de lounge\, waar een aantal demonstranten zich hebben vastgeketend aan de balie. KLM kan de hangsloten losmaken door quizvragen over de klimaatcrisis en Flying Blue te beantwoorden. De wetenschap is duidelijk: doorgaan op de ingeslagen weg betekent dat de opwarming van de aarde ver boven de 2 graden uitkomt. Frequent Flyer Programma’s\, waaronder dat van KLM\, belonen veelvliegen en zijn daarom hét symbool van een industrie die weigert de realiteit onder ogen te zien. \n﻿Links:\nExtinction Rebellion ketent zich wederom vast in Frequent Flyer Lounge Schipho
URL:https://www.a3veen.nl/event/extinction-rebellion-ketent-zich-wederom-vast-in-frequent-flyer-lounge-schiphol/
LOCATION:Amsterdam Schiphol\, Schiphol\, Nederland
CATEGORIES:Amsterdam,Klimaat,Luchtvaart,Schiphol
END:VEVENT
BEGIN:VEVENT
DTSTART;TZID=Europe/Amsterdam:20240503T091500
DTEND;TZID=Europe/Amsterdam:20240503T170000
DTSTAMP:20260421T150419
CREATED:20240503T033658Z
LAST-MODIFIED:20240504T141624Z
UID:107353-1714727700-1714755600@www.a3veen.nl
SUMMARY:Extinction Rebellion ketent zich vast in Frequent Flyer Lounge Schiphol
DESCRIPTION:Op vrijdag 3 mei 2024 protesteert Extinction Rebellion in de Frequent Flyer Lounge van KLM op Schiphol. \nEen aantal rebellen heeft zich vastgeketend\, anderen protesteren met banners en flyers. De wetenschap is duidelijk: doorgaan op de ingeslagen weg betekent dat de opwarming van de aarde ver boven de 2 graden uitkomt. Frequent Flyer Programma’s (FFP)\, waaronder dat van KLM\, zijn het symbool van een industrie die weigert de realiteit onder ogen te zien. ​​​KLM moet stoppen met zijn FFP. Marketing en reclame zorgen ervoor dat vliegen een normale en coole bezigheid lijkt\, terwijl de gevolgen ervan desastreus zijn. Dat FFP de grootste vervuilers ook nog eens beloont met gratis vluchten en extra’s is onbegrijpelijk. Onnodige reizen worden gestimuleerd door bijvoorbeeld kilometerritten\, waarbij extra vluchten worden gemaakt om de ledenstatus te bereiken of te behouden. De echte prijs van vliegen wordt niet betaald door frequent flyers\, maar door de hele wereld\, vooral door de mensen die in het Mondiale Zuiden wonen. Het terugdringen van het aantal vliegkilometers door frequent flyers is de meest efficiënte en eerlijke route om de CO2-uitstoot van de luchtvaart terug te dringen. Vliegtuigen zijn weliswaar efficiënter geworden\, maar dit voordeel is tenietgedaan door een extreme groei van het aantal gevlogen kilometers. De sector voorspelt een aanhoudende groei van de vraag. KLM streeft ernaar om in de toekomst op Sustainable Aviation Fuels (SAF) te vliegen. Afgezien van het feit dat SAF niet CO2-neutraal is\, is het erg duur en ontbreekt de infrastructuur om voldoende te produceren. Uit een onlangs in de Tweede Kamer besproken ‘Factsheet toekomst verduurzaming luchtvaart’ blijkt dat technologische oplossingen alleen niet voldoende zijn om de klimaatproblemen bijtijds op te lossen. De enige haalbare oplossing is het inkrimpen van de luchtvaartsector. \n\nVandaag protesteren wij in de Frequent Flyer Lounge van KLM op Schiphol! De wetenschap is duidelijk: we zijn op weg naar minimaal 2 graden opwarming. ​​​KLM moet stoppen met zijn Frequent Flyer Programma! [1/5] pic.twitter.com/GewxsPcbGM \n — Extinction Rebellion Nederland (@NLRebellion) May 3\, 2024 \n \nLinks:\nExtinction Rebellion ketent zich vast in Frequent Flyer Lounge Schiphol
URL:https://www.a3veen.nl/event/extinction-rebellion-ketent-zich-vast-in-frequent-flyer-lounge-schiphol/
CATEGORIES:Amsterdam,Klimaat,Luchtvaart,Schiphol
END:VEVENT
BEGIN:VEVENT
DTSTART;VALUE=DATE:20240417
DTEND;VALUE=DATE:20240418
DTSTAMP:20260421T150419
CREATED:20240417T050754Z
LAST-MODIFIED:20240417T152748Z
UID:106320-1713312000-1713398399@www.a3veen.nl
SUMMARY:BAS Jaarrapportage 2023 - publicatie
DESCRIPTION:In gebruiksjaar 2023 was er een beperkte toename te zien van het aantal meldingen en melders bij Bewoners Aanspreekpunt Schiphol (BAS) blijkt uit de BAS jaarrapportage over gebruiksjaar 2023\, dat van 1 november 2022 tot 31 oktober 2023 loopt. \nMelders in de focusgroep dienden samen 89.023 specifieke meldingen\, 86.472 periodemeldingen en 11.570 algemene meldingen in. In totaal is dit is een stijging van 7% ten opzichte van het jaar ervoor. De focusgroep bestaat uit melders die 1 tot 500 meldingen per jaar indienen. Het totaal aantal vliegbewegingen – bestaande uit het handelsverkeer\, zakelijk en maatschappelijk vliegverkeer en helikopterverkeer – op Schiphol steeg met 8% tot 451.997. \nLinks:\nBAS Jaarrapportage 2023
URL:https://www.a3veen.nl/event/bas-jaarrapportage-2023-publicatie/
LOCATION:Amsterdam Schiphol\, Schiphol\, Nederland
CATEGORIES:Amsterdam,Schiphol
END:VEVENT
BEGIN:VEVENT
DTSTART;TZID=Europe/Amsterdam:20240130T110000
DTEND;TZID=Europe/Amsterdam:20240130T170000
DTSTAMP:20260421T150419
CREATED:20240130T112803Z
LAST-MODIFIED:20260213T100232Z
UID:102146-1706612400-1706634000@www.a3veen.nl
SUMMARY:Bodemprocedure over vliegtuighinder Schiphol : Rechtszaak tegen de overheid over terugdringen geluidsoverlast Schiphol (TV de Rechtspraak live stream)
DESCRIPTION:Inhoudelijke behandeling van de rechtszaak die Stichting Recht op Bescherming tegen Vlieghinder heeft aangespannen tegen de Nederlandse Staat. \nDe Stichting vertegenwoordigt omwonenden van Schiphol. Ze eisen onder meer dat de overheid ze beter beschermt tegen geluidshinder van Schiphol en willen dat de overheid maatregelen neemt zoals het verlagen van het aantal vliegbewegingen. Op 20 maart 2024 verwacht de rechtbank uitspraak te doen. \nLinks:\nRechtszaak tegen de overheid over terugdringen geluidsoverlast Schiphol \nSchendt de Staat mensenrechten met geluidshinder Schiphol? \nAgenda – Hoger beroep kort geding – uitspraak : De Staat mag voorgenomen maatregelen nemen in verband met geluidshinder van Schiphol \nStaat waarschuwt rechtbank: bevel tot krimp Schiphol gaan we niet uitvoeren \nTweede Kamer zet definitief een streep door vakantievluchten via Lelystad Airport \nUitspraak – Staat handelt onrechtmatig: belang omwonenden Schiphol stelselmatig ondergeschikt aan luchtvaart \nSchiphol terug naar 400.000 vluchten zónder balanced approach \nAangifte vanwege mishandeling tegen de directies van KLM\, Transavia en Schiphol
URL:https://www.a3veen.nl/event/bodemprocedure-over-vliegtuighinder-schiphol-rechtszaak-tegen-de-overheid-over-terugdringen-geluidsoverlast-schiphol-tv-de-rechtspraak-live-stream/
CATEGORIES:Amsterdam,Schiphol
END:VEVENT
BEGIN:VEVENT
DTSTART;VALUE=DATE:20231017
DTEND;VALUE=DATE:20231018
DTSTAMP:20260421T150419
CREATED:20231017T121743Z
LAST-MODIFIED:20231018T111505Z
UID:96934-1697500800-1697587199@www.a3veen.nl
SUMMARY:Substitutiemogelijkheden van luchtvaart naar spoor in 2030 en 2040 - publicatie
DESCRIPTION:In 2030 kunnen naar verwachting per jaar ongeveer 5.600 vluchten van en naar 13 Europese steden vervangen worden door de trein. \nBij een gemiddelde vliegtuigbezetting van 150 passagiers betekent dit dat per jaar ongeveer 850.000 reizen met de trein in plaats van met het vliegtuig kunnen worden gemaakt. In 2040 gaat het om 11.000 vluchten\, wat neerkomt op 1\,6 miljoen vliegreizen per jaar. Deze vliegreizen zijn goed voor 6% tot 10% van alle vliegreizen op de 13 verbindingen die het Kennisinstituut voor Mobiliteitsbeleid (KiM) heeft onderzocht. In de notitie ‘Substitutiemogelijkheden van luchtvaart naar spoor in 2030 en 2040‘ beschrijft het KiM in hoeverre luchtreizigers in de toekomst verleid kunnen worden om de trein te pakken. \nLinks:\nSubstitutiemogelijkheden van luchtvaart naar spoor in 2030 en 2040
URL:https://www.a3veen.nl/event/substitutiemogelijkheden-van-luchtvaart-naar-spoor-in-2030-en-2040-publicatie/
CATEGORIES:Maatschappij,Schiphol
END:VEVENT
BEGIN:VEVENT
DTSTART;VALUE=DATE:20231004
DTEND;VALUE=DATE:20231005
DTSTAMP:20260421T150419
CREATED:20231004T082850Z
LAST-MODIFIED:20231004T202239Z
UID:96008-1696377600-1696463999@www.a3veen.nl
SUMMARY:Bijlmervliegramp (1992) 2023
DESCRIPTION:De Bijlmervliegramp was een vliegramp die op zondagavond 4 oktober 1992 plaatsvond in de Amsterdamse Bijlmermeer\, waarbij een Boeing 747–vrachtvliegtuig vlucht LY-1862 van de Israëlische luchtvaartmaatschappij El Al neerstortte op de flats Groeneveen en Klein-Kruitberg.\n\nDe ramp kostte aan ten minste 43 mensen het leven\, onder wie de driekoppige bemanning en de enige passagier van het vliegtuig. Buiten de 43 geregistreerde doden vallen er mogelijk ook illegale flatbewoners te betreuren. Hun exacte aantal heeft men nooit kunnen achterhalen. De Bijlmervliegramp behoort tot de dodelijkste gebeurtenissen uit de geschiedenis van de Nederlandse luchtvaart. \nLinks:\nBijlmervliegramp (1992) \n31 jaar geleden veranderde de Bijlmer voorgoed: “Zo’n impact op deze gemeenschap”
URL:https://www.a3veen.nl/event/bijlmervliegramp-1992-2023/
CATEGORIES:Amsterdam,Schiphol
END:VEVENT
BEGIN:VEVENT
DTSTART;TZID=Europe/Amsterdam:20230707T100000
DTEND;TZID=Europe/Amsterdam:20230707T110000
DTSTAMP:20260421T150419
CREATED:20230901T162506Z
LAST-MODIFIED:20240126T121403Z
UID:94211-1688724000-1688727600@www.a3veen.nl
SUMMARY:Hoger beroep kort geding - uitspraak : De Staat mag voorgenomen maatregelen nemen in verband met geluidshinder van Schiphol
DESCRIPTION:De Staat mag voorgenomen maatregelen nemen in verband met geluidshinder van Schiphol. \nDe Staat heeft van het gerechtshof Amsterdam in kort geding groen licht gekregen om twee aangekondigde maatregelen in verband met geluidshinder van de luchthaven Schiphol te nemen. Hiermee is het vonnis in het kort geding dat was aangespannen door een aantal luchtvaartmaatschappijen van tafel. In dat eerdere vonnis had de voorzieningenrechter op verzoek van de luchtvaartmaatschappijen de Staat juist verboden om de maatregelen te treffen. \nLinks:\nDe Staat mag voorgenomen maatregelen nemen in verband met geluidshinder van Schiphol \nRuzie over krimp Schiphol loopt hoog op\, VS dreigt met sancties \nDe krimp van Schiphol is voorlopig mislukt  \nEn weer gaat Schipholkrimp niet door: komt het op de rechter aan om vlieghinder te temmen?
URL:https://www.a3veen.nl/event/hoger-beroep-kort-geding-uitspraak-de-staat-mag-voorgenomen-maatregelen-nemen-in-verband-met-geluidshinder-van-schiphol/
LOCATION:Rechtbank Amsterdam\, Ijdok\, IJdok 20\, Amsterdam\, Nederland
CATEGORIES:Amsterdam,Schiphol
END:VEVENT
BEGIN:VEVENT
DTSTART;TZID=Europe/Amsterdam:20230321T090000
DTEND;TZID=Europe/Amsterdam:20230321T190000
DTSTAMP:20260421T150419
CREATED:20230901T161608Z
LAST-MODIFIED:20230901T161608Z
UID:94206-1679389200-1679425200@www.a3veen.nl
SUMMARY:Kort geding beperkingen vliegtuigbewegingen Schiphol
DESCRIPTION:De rechtbank Noord-Holland behandelt in Haarlem een kort geding dat onder meer KLM en andere luchtvaartmaatschappijen hebben aangespannen tegen de staat en Schiphol. \nDe maatschappijen verzetten zich tegen het voorgenomen plan om de capaciteit van de luchthaven Schiphol met ingang van winter 2023/2024 terug te brengen van 500.000 naar 460.000 vliegtuigbewegingen per jaar. \nLinks:\nLivestream kort geding beperkingen vliegtuigbewegingen Schiphol \nSchipholbaas wil tijdelijk krimpen\, rekent op ‘stillere en schonere’ vliegtuigen voor verdere groei \nUitspraak 05-04-2023 : Staat mag het aantal vluchten voor Schiphol niet verminderen tot 460.000
URL:https://www.a3veen.nl/event/kort-geding-beperkingen-vliegtuigbewegingen-schiphol/
LOCATION:Rechtbank Haarlem\, Jansstraat 81\, Haarlem\, Nederland
CATEGORIES:Schiphol
END:VEVENT
END:VCALENDAR